BEGIN:VCALENDAR
VERSION:2.0
PRODID:-//Ville de Trois-Bassins - ECPv6.15.20//NONSGML v1.0//EN
CALSCALE:GREGORIAN
METHOD:PUBLISH
X-ORIGINAL-URL:https://trois-bassins.re
X-WR-CALDESC:Évènements pour Ville de Trois-Bassins
REFRESH-INTERVAL;VALUE=DURATION:PT1H
X-Robots-Tag:noindex
X-PUBLISHED-TTL:PT1H
BEGIN:VTIMEZONE
TZID:Indian/Reunion
BEGIN:STANDARD
TZOFFSETFROM:+0400
TZOFFSETTO:+0400
TZNAME:+04
DTSTART:20250101T000000
END:STANDARD
END:VTIMEZONE
BEGIN:VEVENT
DTSTART;TZID=Indian/Reunion:20260411T083000
DTEND;TZID=Indian/Reunion:20260411T120000
DTSTAMP:20260424T074203
CREATED:20260326T045754Z
LAST-MODIFIED:20260409T044931Z
UID:394766-1775896200-1775908800@trois-bassins.re
SUMMARY:Marche de L'Espoir 2026
DESCRIPTION:La Marche de l’espoir :  sensibilisation à l’endométriose\n  \n11/04/2026 – 08H30 – STADE DE TROIS-BASSINS (Piste d’Athlétisme) \n\nUn rendez-vous annuel incontournable !\nLe 11 avril 2026\, rejoignez nous pour la Marche de l’Espoir\, un événement organisé pour sensibiliser le grand public à l’endométriose\, une maladie souvent ignorée mais qui touche de nombreuses femmes dans le monde. Cette marche est une belle occasion de montrer notre solidarité et de soutenir la recherche et la prise en charge de cette pathologie. \nLa marche se déroulera à Trois Bassins et est ouverte à tous : petits et grands\, familles\, amis\, et ceux qui souhaitent simplement contribuer à cette cause. Les inscriptions sont gratuites\, et l’événement est accessible à tous\, quel que soit votre niveau de forme physique. \nÀ l’occasion de cette journée\, des partenaires et exposants se réuniront pour constituer un petit village\, appelé l’Endo village\, qui sera installé sur la piste d’athlétisme de Trois Bassins\, lieu où sera donné le départ de la marche. Ce village sera l’occasion de découvrir des informations\, des produits et des initiatives en lien avec l’endométriose. \nEt pour soutenir encore plus cette belle cause\, vous pouvez dès maintenant commander le t-shirt officiel de l’édition 2026 de la marche. Rendez-vous sur la page Facebook de l’association Endo espoir ocean indien pour la prévente et afficher fièrement votre engagement lors de l’événement ! \nL’association ENDO ESPOIR Océan Indien porte cette action avec l’objectif de faire connaître l’endométriose et de soutenir les femmes qui en souffrent. C’est aussi un moment d’échange\, d’écoute\, et de solidarité. \nAlors\, n’hésitez pas\, inscrivez vous\, commandez votre t-shirt\, et venez marcher pour l’espoir le 11 avril 2026 à Trois Bassins ! \n\n\n\n \nAvec Endo Espoir Océan Indien ti pa ti pa na rivé!\n\n			\n				\n				\n				\n				\n				Inscription par SMS au 0692 66 00 56 \nÉvènement GRATUIT et Ouvert à tous
URL:https://trois-bassins.re/event/marche-de-lespoir-2026/
LOCATION:Piste d’Athlétisme\, 41 rue François de Mahy\, Trois Bassins\, 97426\, Reunion
CATEGORIES:Culture,Santé,Sport
ATTACH;FMTTYPE=image/jpeg:https://trois-bassins.re/wp-content/uploads/2026/03/Logo-Endo-Espoir-OI-scaled.webp
END:VEVENT
END:VCALENDAR