BEGIN:VCALENDAR
VERSION:2.0
PRODID:-//Ville de Trois-Bassins - ECPv6.15.20//NONSGML v1.0//EN
CALSCALE:GREGORIAN
METHOD:PUBLISH
X-ORIGINAL-URL:https://trois-bassins.re
X-WR-CALDESC:Évènements pour Ville de Trois-Bassins
REFRESH-INTERVAL;VALUE=DURATION:PT1H
X-Robots-Tag:noindex
X-PUBLISHED-TTL:PT1H
BEGIN:VTIMEZONE
TZID:Indian/Reunion
BEGIN:STANDARD
TZOFFSETFROM:+0400
TZOFFSETTO:+0400
TZNAME:+04
DTSTART:20240101T000000
END:STANDARD
END:VTIMEZONE
BEGIN:VEVENT
DTSTART;TZID=Indian/Reunion:20251126T083000
DTEND;TZID=Indian/Reunion:20251126T140000
DTSTAMP:20260424T144535
CREATED:20251009T063935Z
LAST-MODIFIED:20251117T045837Z
UID:393148-1764145800-1764165600@trois-bassins.re
SUMMARY:La Caravane du Département
DESCRIPTION:La Caravane du Département\nAccès aux droits et à l’information\, de la Parentalité\, de la Conjugalité et de la Santé et de l’Insertion sur Trois Bassins !\n\nQu’est ce que c’est la Caravane du Département ?\n\nChef de file de l’action sociale\, le Département s’engage dans un plan de modernisation de l’accueil de proximité\, inscrit à la stratégie de prévention et de lutte contre la pauvreté. \nLa caravane d’accès aux droits et à l’information vise ainsi à lutter contre le nom recours aux droits et offre des conditions équitables et respectueuses d’accueil des publics les plus éloignés des services départementaux. \nDans une démarche de plus grande proximité et afin « d’aller vers » les personnes les plus isolées\, les plus vulnérables\, les agents du Département se déplaceront dans les quartiers des Hauts de l’île pour favoriser l’accès aux droits et à l’information. Inscrite à la stratégie nationale de prévention et de lutte contre la pauvreté\, la caravane départementale sillonnera l’ensemble du territoire pour rompre avec un isolement multifactoriel des publics vulnérables : fracture numérique\, éloignement des services publics\, difficulté familiale\, précarité… \nRetrouvez plus d’information en cliquant ici. \nVous avez des questions sur les aides sociales\, besoin d’une écoute ou d’un conseil ? \n> La Caravane vous donne rendez-vous le mercredi 26 novembre 2025 de 8h30 à 14h.\nLes professionnels du Département et ses partenaires sont à votre écoute ! \n\n Parking de l’église\, place Jeanne d’arc 97426 Trois Bassins \n\n 
URL:https://trois-bassins.re/event/la-caravane-du-departement-5/
LOCATION:Parking de l’Eglise de Trois-Bassins\, 7 rue Georges Brassens
CATEGORIES:Culture,Education,Santé
ATTACH;FMTTYPE=image/jpeg:https://trois-bassins.re/wp-content/uploads/2025/02/Even-500-x-500-.jpg
END:VEVENT
END:VCALENDAR