BEGIN:VCALENDAR
VERSION:2.0
PRODID:-//Ville de Trois-Bassins - ECPv6.15.20//NONSGML v1.0//EN
CALSCALE:GREGORIAN
METHOD:PUBLISH
X-WR-CALNAME:Ville de Trois-Bassins
X-ORIGINAL-URL:https://trois-bassins.re
X-WR-CALDESC:Évènements pour Ville de Trois-Bassins
REFRESH-INTERVAL;VALUE=DURATION:PT1H
X-Robots-Tag:noindex
X-PUBLISHED-TTL:PT1H
BEGIN:VTIMEZONE
TZID:Indian/Reunion
BEGIN:STANDARD
TZOFFSETFROM:+0400
TZOFFSETTO:+0400
TZNAME:+04
DTSTART:20240101T000000
END:STANDARD
END:VTIMEZONE
BEGIN:VEVENT
DTSTART;TZID=Indian/Reunion:20251108T100000
DTEND;TZID=Indian/Reunion:20251108T103000
DTSTAMP:20260424T144906
CREATED:20251024T095534Z
LAST-MODIFIED:20251024T095739Z
UID:393217-1762596000-1762597800@trois-bassins.re
SUMMARY:Atelier de Sophrologie Parents-Enfants
DESCRIPTION:Avec Alexia Melac\, sophrologue \nVenez découvrir les bienfaits de la sophrologie avec votre enfant :  \n  \nGestion des émotions \nConfiance en soi \nEvacuer les tensions \n  \n\nSur inscription à l’accueil de la Médiathèque\nou par téléphone au 0262 91 55 64\nÀ partir de 3 ans\nDurée : 1h30
URL:https://trois-bassins.re/event/atelier-de-sophrologie-parents-enfants/
LOCATION:Pôle Culturel et Sportif\, 28 rue Georges BRASSENS\, TROIS BASSINS\, 97426\, Réunion
CATEGORIES:Culture,Education,Santé
ATTACH;FMTTYPE=image/jpeg:https://trois-bassins.re/wp-content/uploads/2025/10/116.jpg
END:VEVENT
END:VCALENDAR