BEGIN:VCALENDAR
VERSION:2.0
PRODID:-//Ville de Trois-Bassins - ECPv6.15.20//NONSGML v1.0//EN
CALSCALE:GREGORIAN
METHOD:PUBLISH
X-ORIGINAL-URL:https://trois-bassins.re
X-WR-CALDESC:Évènements pour Ville de Trois-Bassins
REFRESH-INTERVAL;VALUE=DURATION:PT1H
X-Robots-Tag:noindex
X-PUBLISHED-TTL:PT1H
BEGIN:VTIMEZONE
TZID:Indian/Reunion
BEGIN:STANDARD
TZOFFSETFROM:+0400
TZOFFSETTO:+0400
TZNAME:+04
DTSTART:20240101T000000
END:STANDARD
END:VTIMEZONE
BEGIN:VEVENT
DTSTART;TZID=Indian/Reunion:20251015T090000
DTEND;TZID=Indian/Reunion:20251015T120000
DTSTAMP:20260424T161236
CREATED:20251003T065419Z
LAST-MODIFIED:20251003T065549Z
UID:393022-1760518800-1760529600@trois-bassins.re
SUMMARY:Défi 4 : Mangeons Malin
DESCRIPTION: \nDéfi 4 : Mangeons MalinAteliers de sensibilisation autour du petit-déjeuner / collation avec les fruits et les légumes de saison \n \nFrance Services9h à 12h\n \n \nTout Public\n 
URL:https://trois-bassins.re/event/defi-4-mangeons-malin/
LOCATION:France Services\, 28 rue georges brassens\, Trois Bassins\, 97426\, Réunion
CATEGORIES:Culture,Education,Santé
ATTACH;FMTTYPE=image/png:https://trois-bassins.re/wp-content/uploads/2025/10/Even-500-x-500-8.png
END:VEVENT
END:VCALENDAR