BEGIN:VCALENDAR
VERSION:2.0
PRODID:-//Ville de Trois-Bassins - ECPv6.15.20//NONSGML v1.0//EN
CALSCALE:GREGORIAN
METHOD:PUBLISH
X-WR-CALNAME:Ville de Trois-Bassins
X-ORIGINAL-URL:https://trois-bassins.re
X-WR-CALDESC:Évènements pour Ville de Trois-Bassins
REFRESH-INTERVAL;VALUE=DURATION:PT1H
X-Robots-Tag:noindex
X-PUBLISHED-TTL:PT1H
BEGIN:VTIMEZONE
TZID:Indian/Reunion
BEGIN:STANDARD
TZOFFSETFROM:+0400
TZOFFSETTO:+0400
TZNAME:+04
DTSTART:20240101T000000
END:STANDARD
END:VTIMEZONE
BEGIN:VEVENT
DTSTART;TZID=Indian/Reunion:20250524T080000
DTEND;TZID=Indian/Reunion:20250524T130000
DTSTAMP:20260424T232913
CREATED:20250520T052231Z
LAST-MODIFIED:20250522T063103Z
UID:391066-1748073600-1748091600@trois-bassins.re
SUMMARY:Marché du terroir et des savoir-faire
DESCRIPTION:Marché du Terroir et des Savoir-faire\, les deuxièmes et quatrièmes samedis du mois.\n			\n			\n				\n				\n				\n				\n			\n				\n				\n				\n				\n				\n				\n				\n				\n				\n				\n				\n			\n			\n				\n				\n				\n				\n				\n				\n				\n				\n				\n				Le Marché du Terroir et des Savoir-Faire de Trois-Bassins fait son grand retour ! \nCe rendez-vous incontournable permet aux habitants et visiteurs de découvrir les produits locaux\, l’artisanat et les savoir-faire traditionnels de notre belle île. Il s’inscrit également dans le cadre du Projet Alimentaire Territorial (PAT) de Trois-Bassins\, visant à promouvoir une alimentation durable\, locale et de qualité. \n  \nQuand et où ?\n\nDates : Les 2ème et 4ème samedis de chaque mois\, de 8h à 13h.\nLieu : Place de l’Eglise au centre ville\n\n			\n			\n				\n				\n				\n				\n			\n				\n				\n				\n				\n				\n				\n				\n				\n				\n				\n				Comment participer en tant qu’exposant ?\nVous êtes producteur\, artisan ou créateur local et souhaitez rejoindre cet événement en tant qu’exposant ? C’est simple ! Il vous suffit de compléter la fiche de demande d’emplacement. \nImportant : La fiche doit être retournée au moins 1 semaine avant la date du marché. Afin d’assurer votre présence\, merci de nous faire parvenir votre demande dans les délais. \nComment obtenir la fiche de demande d’emplacement ?\nTélécharger la fiche de demande d’emplacement ICI ou contactez La Case Rurale au 0692 46 07 28 pour toute question concernant l’inscription. Nous vous fournirons toutes les informations nécessaires pour valider votre inscription. \nPourquoi participer ?\nCe marché est une véritable vitrine pour le Projet Alimentaire Territorial (PAT) de Trois-Bassins\, qui soutient les initiatives locales en matière de production alimentaire\, de circuits courts et de respect des traditions culinaires réunionnaises. En participant\, vous contribuez activement à la mise en valeur de notre territoire\, tout en offrant aux visiteurs une expérience authentique et de qualité. \nLe Marché du Terroir et des Savoir-Faire est également une belle occasion de promouvoir vos produits\, d’échanger avec les consommateurs et de partager votre passion pour le terroir réunionnais. \n			\n				\n				\n				\n				\n				Venez nombreux !\n			\n				\n				\n				\n				\n				Soyez exposant !\n Téléchargez ici votre demande d’emplacement.\nDate limite de retour des candidatures : une semaine avant le marché.
URL:https://trois-bassins.re/event/marche-du-terroir-et-des-savoir-faire-10/
LOCATION:Parking de l’Eglise\, 7 rue Georges Brassens\, Trois Bassins\, Réunion
CATEGORIES:Culture,Santé
ATTACH;FMTTYPE=image/png:https://trois-bassins.re/wp-content/uploads/2024/01/prog-event.png
END:VEVENT
END:VCALENDAR