BEGIN:VCALENDAR
VERSION:2.0
PRODID:-//Ville de Trois-Bassins - ECPv6.15.20//NONSGML v1.0//EN
CALSCALE:GREGORIAN
METHOD:PUBLISH
X-WR-CALNAME:Ville de Trois-Bassins
X-ORIGINAL-URL:https://trois-bassins.re
X-WR-CALDESC:Évènements pour Ville de Trois-Bassins
REFRESH-INTERVAL;VALUE=DURATION:PT1H
X-Robots-Tag:noindex
X-PUBLISHED-TTL:PT1H
BEGIN:VTIMEZONE
TZID:Indian/Reunion
BEGIN:STANDARD
TZOFFSETFROM:+0400
TZOFFSETTO:+0400
TZNAME:+04
DTSTART:20240101T000000
END:STANDARD
END:VTIMEZONE
BEGIN:VEVENT
DTSTART;TZID=Indian/Reunion:20250507T090000
DTEND;TZID=Indian/Reunion:20250507T120000
DTSTAMP:20260424T232916
CREATED:20250424T064954Z
LAST-MODIFIED:20250424T065002Z
UID:391100-1746608400-1746619200@trois-bassins.re
SUMMARY:HORS-CADRE 2025
DESCRIPTION:La Ville de Trois-Bassins\, la Case Rurale et la Compagnie Morphose vous invitent à une matinée entre PAT A TER & HORS-CADRE\nAu programme :\n• [9h – 12h] | Chasse aux énigmes numériquesUn parcours ludique animé par notre Conseiller Numérique\, pour développer son autonomie avec les outils digitaux. Parvis + Niveau 1 du pôle\n \n• [9h – 12h] | Atelier cuisine – “Manger sain\, simple et surtout sans se ruiner”Avec l’association Gourmandise des Moches. Un moment convivial pour apprendre à cuisiner bon\, bio et pas cher ! Réservation avec Aurélie de la Case Rurale : 0692 46 07 28 / caserurale2@ville-troisbassins.re\n \n• 11h – 11h30 | Spectacle PIECES DE BUS de Soraya Thomasà partir de 12 ans Parvis du pôle culturelDeux danseurs\, un arrêt de bus\, des rencontres\, de l’attente\, du mouvement… Une chorégraphie délicate portée par une bande sonore inspirée du Canon de Pachelbel.\n \n• 11h30 – 12h | Restitution du projet HORS CADREà partir de 10 ans Salle de spectacle de L’AlambicLa Compagnie Morphose vous invite à découvrir le fruit d’une rencontre entre artistes et agriculteur·rice·s des communes de Trois-Bassins\, La Possession et Saint-Paul.Avec Soraya Thomas\, Stéphane Kenkle et David Fourdrinoy. Réservation recommandée : 0262 91 55 64\n \n \nEt également à découvrir toute la matinée sur le parvis :• Association Ekopratik : démonstrations autour du low-tech (vélo blender\, four solaire)• Association Do Lwil (en attente de confirmation) : atelier fabrication d’huile comestible (moroug et autres)• Bibliothèque en plein air : profitez de la lecture autrement • Exposition photographique « DAN ZARDIN » de Stéphane Kenkle | Retour en images sur le projet HORS CADRE\, « dan zardin » est une invitation à redécouvrir les racines de notre alimentation et les hommes et femmes qui la produisent.
URL:https://trois-bassins.re/event/hors-cadre-2025/
LOCATION:Pôle Culturel et Sportif\, 28 rue Georges BRASSENS\, TROIS BASSINS\, 97426\, Réunion
CATEGORIES:Culture,Education,Santé
ATTACH;FMTTYPE=image/jpeg:https://trois-bassins.re/wp-content/uploads/2025/04/74.jpg
END:VEVENT
END:VCALENDAR