BEGIN:VCALENDAR
VERSION:2.0
PRODID:-//Ville de Trois-Bassins - ECPv6.15.20//NONSGML v1.0//EN
CALSCALE:GREGORIAN
METHOD:PUBLISH
X-ORIGINAL-URL:https://trois-bassins.re
X-WR-CALDESC:Évènements pour Ville de Trois-Bassins
REFRESH-INTERVAL;VALUE=DURATION:PT1H
X-Robots-Tag:noindex
X-PUBLISHED-TTL:PT1H
BEGIN:VTIMEZONE
TZID:Indian/Reunion
BEGIN:STANDARD
TZOFFSETFROM:+0400
TZOFFSETTO:+0400
TZNAME:+04
DTSTART:20230101T000000
END:STANDARD
END:VTIMEZONE
BEGIN:VEVENT
DTSTART;TZID=Indian/Reunion:20240726T090000
DTEND;TZID=Indian/Reunion:20240726T150000
DTSTAMP:20260425T160809
CREATED:20240708T040046Z
LAST-MODIFIED:20240708T103135Z
UID:386457-1721984400-1722006000@trois-bassins.re
SUMMARY:Visite de l'APTF - CASE RURALE
DESCRIPTION:VISITE DE L’APTF \nCASE RURALE \nLieu : Locaux de l’APTF – 7 Rue Zone Artisanale\, 97426 Trois Bassins \nThématique : Transformer \nOrganisé par la Case Rurale de la Ville de Trois Bassins et l’APTF \n\ntout public\n\nVenez visiter les locaux de l’APTF\, l’atelier de transformation collectif de Trois Bassins qui permet à ses membres de confectionner des produits artisanaux allant des conserves de canard\, des confitures et achards aux petits pots pour bébé… ! \nSUR INSCRIPTION \n0692 46 07 28 / caserurale2@ville-troisbassins.re \n                               ___________________________________________________________________________________ \nLa Case Rurale est un lieu de rencontres\, d’informations\, d’accompagnement et d’activités autour de la ruralité et de la transition alimentaire et agricole plus durable du territoire. \n 
URL:https://trois-bassins.re/event/visite-de-laptf/
LOCATION:Locaux de l’APTF\, 7 rue zone artisanale\, Trois Bassins\, France\, 97426\, Réunion
CATEGORIES:Culture,Santé
ATTACH;FMTTYPE=image/jpeg:https://trois-bassins.re/wp-content/uploads/2024/07/visite-de-laptf.jpg
END:VEVENT
END:VCALENDAR