BEGIN:VCALENDAR
VERSION:2.0
PRODID:-//Ville de Trois-Bassins - ECPv6.15.20//NONSGML v1.0//EN
CALSCALE:GREGORIAN
METHOD:PUBLISH
X-WR-CALNAME:Ville de Trois-Bassins
X-ORIGINAL-URL:https://trois-bassins.re
X-WR-CALDESC:Évènements pour Ville de Trois-Bassins
REFRESH-INTERVAL;VALUE=DURATION:PT1H
X-Robots-Tag:noindex
X-PUBLISHED-TTL:PT1H
BEGIN:VTIMEZONE
TZID:Indian/Reunion
BEGIN:STANDARD
TZOFFSETFROM:+0400
TZOFFSETTO:+0400
TZNAME:+04
DTSTART:20230101T000000
END:STANDARD
END:VTIMEZONE
BEGIN:VEVENT
DTSTART;TZID=Indian/Reunion:20240619T080000
DTEND;TZID=Indian/Reunion:20240619T160000
DTSTAMP:20260425T160526
CREATED:20240604T060039Z
LAST-MODIFIED:20240604T060048Z
UID:385962-1718784000-1718812800@trois-bassins.re
SUMMARY:Karavane du Bel Âge
DESCRIPTION:La Karavane du Bel Âge \n			\n				\n				\n				\n				\n				En forme avec les Séniors !\n\n𝐎𝐫𝐠𝐚𝐧𝐢𝐬𝐞́𝐞 𝐩𝐚𝐫 𝐥’𝐔𝐧𝐢𝐨𝐧 𝐃𝐞́𝐩𝐚𝐫𝐭𝐞𝐦𝐞𝐧𝐭𝐚𝐥𝐞 𝐝𝐞𝐬 𝐂𝐞𝐧𝐭𝐫𝐞𝐬 𝐂𝐨𝐦𝐦𝐮𝐧𝐚𝐮𝐱 𝐝’𝐀𝐜𝐭𝐢𝐨𝐧 𝐒𝐨𝐜𝐢𝐚𝐥𝐞 (𝐔𝐃𝐂𝐂𝐀𝐒)\, 𝐞𝐭 𝐥𝐞 𝐂𝐂𝐀𝐒 𝐝𝐞 𝐥𝐚 𝐕𝐢𝐥𝐥𝐞 𝐝𝐞 𝐓𝐫𝐨𝐢𝐬-𝐁𝐚𝐬𝐬𝐢𝐧𝐬 𝐜𝐞𝐭 𝐞́𝐯𝐞́𝐧𝐞𝐦𝐞𝐧𝐭 𝐞𝐬𝐭 𝐬𝐩𝐞́𝐜𝐢𝐚𝐥𝐞𝐦𝐞𝐧𝐭 𝐝𝐞́𝐝𝐢𝐞́ 𝐚𝐮𝐱 𝐬𝐞𝐧𝐢𝐨𝐫𝐬 𝐝𝐞 𝐓𝐫𝐨𝐢𝐬 𝐁𝐚𝐬𝐬𝐢𝐧𝐬\, 𝐚𝐲𝐚𝐧𝐭 𝐩𝐨𝐮𝐫 𝐨𝐛𝐣𝐞𝐜𝐭𝐢𝐟 𝐝𝐞 𝐟𝐚𝐯𝐨𝐫𝐢𝐬𝐞𝐫 𝐥𝐞 𝐛𝐢𝐞𝐧-𝐯𝐢𝐞𝐢𝐥𝐥𝐢𝐫 𝐞𝐭 𝐚𝐢𝐝𝐞𝐫 𝐚̀ 𝐥𝐚 𝐥𝐮𝐭𝐭𝐞 𝐜𝐨𝐧𝐭𝐫𝐞 𝐥𝐚 𝐩𝐞𝐫𝐭𝐞 𝐝’𝐚𝐮𝐭𝐨𝐧𝐨𝐦𝐢𝐞.\n \n\n\nDes ateliers autour de la santé\, du bien-être\, de la prévention et de l’accès aux droits seront au programme.\nMais aussi une 𝐋𝐎𝐓𝐄𝐑𝐈𝐄 𝐆𝐑𝐀𝐓𝐔𝐈𝐓𝐄  et une 𝐀𝐍𝐈𝐌𝐀𝐓𝐈𝐎𝐍 𝐃𝐀𝐍𝐒𝐀𝐍𝐓𝐄 (Orchestre Cuivre) pour nos seniors ! \n \n\n\n**Contribuons ensemble au maintien du lien social chez les personnes âgées\, à leur épanouissement.\n \n\n\n𝘕𝘰𝘶 𝘢𝘵𝘵𝘦𝘯’ 𝘢𝘻𝘰𝘵 𝘥𝘢𝘯 𝘭𝘢 𝘫𝘰𝘪 𝘦𝘵 𝘭𝘢 𝘣𝘰𝘯𝘯𝘦 𝘩𝘶𝘮𝘦𝘶𝘳 ! 𝘖𝘶𝘣𝘭𝘪 𝘱𝘢𝘴 𝘻𝘰𝘵 𝘨𝘢𝘻𝘰𝘯 𝘥’𝘳𝘪𝘻 \n\n \nPlus d’informations et réservations au 0262 24 28 28\n 
URL:https://trois-bassins.re/event/karavane-du-bel-age/
LOCATION:Parking Super U Trois Bassins\, 13 rue des Franciseas\, Trois Bassins\, TROIS BASSINS\, 97426\, Reunion
CATEGORIES:Culture,Education,Santé
ATTACH;FMTTYPE=image/jpeg:https://trois-bassins.re/wp-content/uploads/2024/06/Karavane-du-Bel-Age-Even.jpg
END:VEVENT
END:VCALENDAR