BEGIN:VCALENDAR
VERSION:2.0
PRODID:-//Ville de Trois-Bassins - ECPv6.15.20//NONSGML v1.0//EN
CALSCALE:GREGORIAN
METHOD:PUBLISH
X-ORIGINAL-URL:https://trois-bassins.re
X-WR-CALDESC:Évènements pour Ville de Trois-Bassins
REFRESH-INTERVAL;VALUE=DURATION:PT1H
X-Robots-Tag:noindex
X-PUBLISHED-TTL:PT1H
BEGIN:VTIMEZONE
TZID:Indian/Reunion
BEGIN:STANDARD
TZOFFSETFROM:+0400
TZOFFSETTO:+0400
TZNAME:+04
DTSTART:20250101T000000
END:STANDARD
END:VTIMEZONE
BEGIN:VEVENT
DTSTART;TZID=Indian/Reunion:20260304T080000
DTEND;TZID=Indian/Reunion:20260311T160000
DTSTAMP:20260424T073416
CREATED:20260223T075435Z
LAST-MODIFIED:20260223T075435Z
UID:394517-1772611200-1773244800@trois-bassins.re
SUMMARY:Gaming - les vacances numériques
DESCRIPTION:Les Vacances Numériques – Spécial Jeux & Gaming 🎮 \nPlonge dans l’univers du gaming pendant Les Vacances Numériques ! Deux journées dédiées aux jeux vidéo\, à la découverte et au fun t’attendent dans une ambiance conviviale et dynamique. \n📅 4 mars | 13h – 16h📅 11 mars | 9h – 16h👦👧 À partir de 6 ans \nAu programme : défis gaming\, découverte de nouveaux jeux et moments de partage. \nQue tu sois débutant ou passionné\, viens t’amuser et relever les challenges ! \nUne expérience numérique immersive pour passer des vacances autrement… manette en main ! 🎮
URL:https://trois-bassins.re/event/gaming-les-vacances-numeriques/
LOCATION:Pôle Culturel et Sportif\, 28 rue Georges BRASSENS\, TROIS BASSINS\, 97426\, Réunion
CATEGORIES:Culture,Education,Santé,Sport
ATTACH;FMTTYPE=image/png:https://trois-bassins.re/wp-content/uploads/2026/02/4.webp
END:VEVENT
BEGIN:VEVENT
DTSTART;TZID=Indian/Reunion:20260325T133000
DTEND;TZID=Indian/Reunion:20260325T150000
DTSTAMP:20260424T073416
CREATED:20260306T073406Z
LAST-MODIFIED:20260306T073511Z
UID:394702-1774445400-1774450800@trois-bassins.re
SUMMARY:Projection de film et Ti Café La CASE RURALE
DESCRIPTION:🎬 Projection de film & Ti Café La CASE RURALE\n📅 Mercredi 25 mars📍 L’Alambic⏰ 13h30👥 Tout public \nVenez assister à la projection du film « La Monnaie Miraculeuse » d’Urs Egger\, proposée conjointement par les associations Asso Péï et Nout Moné. \nLa projection sera suivie d’un Ti Café La CASE\, un moment d’échange convivial (rondkozé) autour du thème de la circulation d’une monnaie locale à La Réunion. \n☕ Un temps pour partager\, discuter et réfléchir ensemble à l’économie locale. \n⚠️ Places limitées : merci de vous inscrire afin de nous permettre de vous accueillir dans les meilleures conditions. \n📞 Renseignements et inscriptions : 0692 46 07 28 _ caserurale2@ville-troisbassins.re \n			\n			\n				\n				\n				\n				\n			\n				\n				\n				\n				\n				\n				\n				\n				\n				\n				\n				🎬 La Monnaie miraculeuse\nde Urs Egger \n⏱️ 89 min  \nSynopsisDans les années 1930\, un maire autrichien lance une monnaie locale pour sauver l’économie de son village frappé par la crise. Le succès est spectaculaire… mais cette expérience unique finira par être interdite par les autorités. \n\n			\n			\n				\n				\n				\n				\n				\n				\n				\n				\n				\n				 Prévu par les organisateurs\n🍪 Petits encas
URL:https://trois-bassins.re/event/projection-de-film-et-ti-cafe-la-case-rurale/
LOCATION:Pôle Culturel et Sportif\, 28 rue Georges BRASSENS\, TROIS BASSINS\, 97426\, Réunion
CATEGORIES:Culture,Education,Santé
ATTACH;FMTTYPE=image/png:https://trois-bassins.re/wp-content/uploads/2026/03/PROG-500X500-2.webp
END:VEVENT
BEGIN:VEVENT
DTSTART;TZID=Indian/Reunion:20260328T090000
DTEND;TZID=Indian/Reunion:20260328T120000
DTSTAMP:20260424T073416
CREATED:20260325T053403Z
LAST-MODIFIED:20260328T053112Z
UID:394798-1774688400-1774699200@trois-bassins.re
SUMMARY:Installation du conseil municipal
DESCRIPTION:🔴 Conseil municipal en direct\nBienvenue sur la page de diffusion en direct du Conseil municipal de la Ville. \n📅 Date : 28/03/206🕒 Heure : 9h00 \n\n\n\n			\n				\n				\n				\n				\n				\n			\n				\n				\n				\n				\n				ℹ️ Informations importantes\n\n\nLe direct est accessible sans compte Facebook \n\n\nSi la vidéo ne s’affiche pas\, vous pouvez la regarder directement sur Facebook via le lien ci-dessous \n\n\nUn léger décalage (quelques secondes) peut être constaté \n\n\n			\n				▶️ Suivre le direct\n			\n				\n				\n				\n				\n				📝 Ordre du jour\nInstallation du Conseil Municipal\n\nElection du Maire\nFixation du nombre d’adjoints  \nElection des adjoints\nLecture et diffusion de la charte de l’élu local\n\n1- AFFAIRES GENERALE \nAFFAIRE N° 1.1 :          \n\n  Approbation du contenu de la rédaction du procès-verbal des délibérations en date du 30 janvier 2026\n\n5- MANDATS \n\nAFFAIRE N° 5.1 : Délégations d’attributions du Conseil Municipal au Maire\nAFFAIRE N° 5.2 : Désignation des délégués du Conseil Municipal au sein du Conseil d’Administration du CCAS\nAFFAIRE N° 5.3 : Désignation des délégués du Conseil Municipal au sein du Comité de la Caisse des Ecoles\nAFFAIRE N° 5.4 : Désignation des membres de la Commission d’Appel d’Offres\n\n  \n			\n				Arrêté-Municipal-147-2026
URL:https://trois-bassins.re/event/installation-du-conseil-municipal/
LOCATION:Gymnase Denis Pothin\, 45 Georges Brassens\, Trois-Bassins\, 97426\, Réunion
CATEGORIES:Culture,Education,Enquête,Santé,Sport
ATTACH;FMTTYPE=image/jpeg:https://trois-bassins.re/wp-content/uploads/2026/03/PROG-500X500.webp
END:VEVENT
END:VCALENDAR