BEGIN:VCALENDAR
VERSION:2.0
PRODID:-//Ville de Trois-Bassins - ECPv6.15.20//NONSGML v1.0//EN
CALSCALE:GREGORIAN
METHOD:PUBLISH
X-WR-CALNAME:Ville de Trois-Bassins
X-ORIGINAL-URL:https://trois-bassins.re
X-WR-CALDESC:Évènements pour Ville de Trois-Bassins
REFRESH-INTERVAL;VALUE=DURATION:PT1H
X-Robots-Tag:noindex
X-PUBLISHED-TTL:PT1H
BEGIN:VTIMEZONE
TZID:Indian/Reunion
BEGIN:STANDARD
TZOFFSETFROM:+0400
TZOFFSETTO:+0400
TZNAME:+04
DTSTART:20240101T000000
END:STANDARD
END:VTIMEZONE
BEGIN:VEVENT
DTSTART;TZID=Indian/Reunion:20251204T083000
DTEND;TZID=Indian/Reunion:20251204T113000
DTSTAMP:20260424T120240
CREATED:20251118T070949Z
LAST-MODIFIED:20251118T071002Z
UID:393655-1764837000-1764847800@trois-bassins.re
SUMMARY:CASE RURALE - Visites apprenantes & inspirantes
DESCRIPTION:Cuisiner avec les plantes du bord’somin\n📅 Jeudi 04 décembre 2025📍 Lieu de la visite : La CASE RURALE⏰ Heure et lieu de rendez-vous : 8h30 à l’Alambic \n Publics : Tous publics \nObjectifs : Apprendre à reconnaître et cueillir une plante comestible locale et sauvage\, le mouroum ; découvrir des recettes simples\, économiques et saines à base ; valoriser les savoirs traditionnels et intergénérationnels (plantes médicinales\, brèdes lontan) ; renforcer la convivialité et l’autonomie alimentaire. \nProgramme : \n8H30 – 11H30 \n\nDécouverte du mouroum\nRéalisation de la poudre et son utilisation\nRéalisation d’un pesto péï\nRéalisation d’une huile de mouroum\n\n  \nINTERVENANTS:  Quentin & Coralie Josseron – CHALET COGÎTE DIMITILE \n			\n			\n				\n				\n				\n				\n			\n				\n				\n				\n				\n				\n				\n				\n				\n				\n				\n				À prévoir par les participants\n💧 Eau \n🥤 Gobelet réutilisable \n✍️ Stylo + papier \n\n			\n			\n				\n				\n				\n				\n				\n				\n				\n				\n				\n				 Prévu par les organisateurs\n🍪 Petits encas \n🌿🍵 sirop + point d’eau
URL:https://trois-bassins.re/event/case-rurale-visites-apprenantes-inspirantes-4/
CATEGORIES:Culture,Education,Santé
ATTACH;FMTTYPE=image/png:https://trois-bassins.re/wp-content/uploads/2025/11/Visites-apprenantes-et-inspirantes.webp
END:VEVENT
BEGIN:VEVENT
DTSTART;TZID=Indian/Reunion:20251210T084500
DTEND;TZID=Indian/Reunion:20251210T120000
DTSTAMP:20260424T120240
CREATED:20251118T071805Z
LAST-MODIFIED:20251118T071819Z
UID:393664-1765356300-1765368000@trois-bassins.re
SUMMARY:CASE RURALE - Visites apprenantes & inspirantes
DESCRIPTION: Association pour le développement des hauts\n📅 Mercredi 10 décembre 2025📍 Lieu de la visite : ADH La Chaloupe Saint-Leu⏰ Heure et lieu de rendez-vous : 8h45 à l’Alambic retour à 12h  \n Publics : Tous publics \nObjectifs : découvrir un lieu à proximité\, qui propose des activités autour de la parentalité et de l’alimentation. \nProgramme : \n9H30 – 11H30 \n\nparticipation à la caravane de Noël proposée par la PMI et l’ADH\nVisite des locaux et rencontre de l’équipe d’accueil\n\n  \nINTERVENANTS: Association pour le développement des hauts \n			\n			\n				\n				\n				\n				\n			\n				\n				\n				\n				\n				\n				\n				\n				\n				\n				\n				À prévoir par les participants\n💧 Eau \n🥤 Gobelet réutilisable \n✍️ Stylo + papier \n\n			\n			\n				\n				\n				\n				\n				\n				\n				\n				\n				\n				 Prévu par les organisateurs\n🚌 Transport en bus \n🍪 Petits encas
URL:https://trois-bassins.re/event/case-rurale-visites-apprenantes-inspirantes-5/
CATEGORIES:Culture,Education,Santé
ATTACH;FMTTYPE=image/png:https://trois-bassins.re/wp-content/uploads/2025/11/Visites-apprenantes-et-inspirantes.webp
END:VEVENT
BEGIN:VEVENT
DTSTART;TZID=Indian/Reunion:20251216T170000
DTEND;TZID=Indian/Reunion:20251216T170000
DTSTAMP:20260424T120240
CREATED:20251204T121950Z
LAST-MODIFIED:20251204T122003Z
UID:393977-1765904400-1765904400@trois-bassins.re
SUMMARY:Réunion Publique - Déclaration de projet – Mise en compatibilité du PLU
DESCRIPTION:Commune de Trois-Bassins – Secteur des Zattes\nLa Commune de Trois-Bassins informe la population de la tenue d’une réunion publique concernant la déclaration de projet emportant mise en compatibilité du PLU* pour le secteur des Zattes. \n📅 Mardi 16 décembre 2025🕔 À 17h00📍 Mairie de Trois-Bassins – Salle du Conseil municipal \nTous les habitants et acteurs concernés sont invités à participer. \n			\n				\n				\n				\n				\n				*Plan Local d’Urbanisme
URL:https://trois-bassins.re/event/reunion-publique-declaration-de-projet-mise-en-compatibilite-du-plu/
LOCATION:Mairie\, 2 Rue du General de Gaulle\, Trois-Bassins\, 97426\, Réunion
CATEGORIES:Culture,Education,Enquête,Santé,Sport
ATTACH;FMTTYPE=image/png:https://trois-bassins.re/wp-content/uploads/2025/12/500XPLU.webp
END:VEVENT
BEGIN:VEVENT
DTSTART;TZID=Indian/Reunion:20251218T140000
DTEND;TZID=Indian/Reunion:20251218T163000
DTSTAMP:20260424T120240
CREATED:20251205T064257Z
LAST-MODIFIED:20251205T064310Z
UID:393986-1766066400-1766075400@trois-bassins.re
SUMMARY:Portes Ouvertes du Baby Bus+ Itinérant
DESCRIPTION:Noël approche et le Baby Bus+ vous invite à un après-midi festif\, créatif et chaleureux ! \n📍 Maison de quartier Littoral – Chemin de la Montée Panon📅 Jeudi 18 décembre 2025⏰ De 14h à 16h30 \nVenez découvrir le Baby Bus+\, participer à des ateliers ludiques\, rencontrer l’équipe et partager un moment en famille ! \nNous vous attendons nombreux !N’hésitez pas à diffuser l’information autour de vous
URL:https://trois-bassins.re/event/portes-ouvertes-du-baby-bus-itinerant/
LOCATION:Maison de Quartier Montée Panon\, 1 chemin des badamiers\, Trois Bassins\, 97426
CATEGORIES:Culture,Education,Santé
ATTACH;FMTTYPE=image/png:https://trois-bassins.re/wp-content/uploads/2025/12/article-500X500.webp
END:VEVENT
END:VCALENDAR