BEGIN:VCALENDAR
VERSION:2.0
PRODID:-//Ville de Trois-Bassins - ECPv6.15.20//NONSGML v1.0//EN
CALSCALE:GREGORIAN
METHOD:PUBLISH
X-WR-CALNAME:Ville de Trois-Bassins
X-ORIGINAL-URL:https://trois-bassins.re
X-WR-CALDESC:Évènements pour Ville de Trois-Bassins
REFRESH-INTERVAL;VALUE=DURATION:PT1H
X-Robots-Tag:noindex
X-PUBLISHED-TTL:PT1H
BEGIN:VTIMEZONE
TZID:Indian/Reunion
BEGIN:STANDARD
TZOFFSETFROM:+0400
TZOFFSETTO:+0400
TZNAME:+04
DTSTART:20240101T000000
END:STANDARD
END:VTIMEZONE
BEGIN:VEVENT
DTSTART;TZID=Indian/Reunion:20250705T130000
DTEND;TZID=Indian/Reunion:20250705T160000
DTSTAMP:20260424T190420
CREATED:20250616T120030Z
LAST-MODIFIED:20250616T120151Z
UID:391562-1751720400-1751731200@trois-bassins.re
SUMMARY:Sécurité routière: sensibilisation des 2 roues motorisés
DESCRIPTION:Sensibilisation des motards sur la RD9 – Une action pour la sécurité à Trois-Bassins\nLe samedi 5 juillet 2025\, de 13h à 16h\, une opération de sensibilisation à destination des motards se tiendra sur la Route Départementale 9 (RD9)\, sur la commune de Trois-Bassins. \n📍 Cette action est organisée par l’Observatoire Départemental de Sécurité Routière et la Gendarmerie\, en partenariat avec la Ville de Trois-Bassins. \nDeux objectifs clés : sécurité & respect sonore\nL’opération vise à prévenir les comportements à risque et à promouvoir une conduite plus responsable à travers deux axes principaux : \n\n\n✅ Sensibilisation à la trajectoire de sécurité : adopter les bons réflexes pour aborder les virages en toute sécurité\, réduire les risques d’accident et mieux partager la route. \n\n\n🔇 Sensibilisation aux nuisances sonores : comprendre les effets du bruit excessif sur la qualité de vie des riverains et encourager une conduite plus respectueuse. \n\n\nUne démarche de prévention ouverte à tous\nCette action s’inscrit dans une volonté commune de protéger les usagers de la route et de favoriser le vivre-ensemble. Tous les motards\, qu’ils soient novices ou expérimentés\, sont invités à venir participer à ces échanges constructifs\, encadrés par des professionnels de la sécurité routière. \n\n📅 Rendez-vous le samedi 5 juillet\, de 13h à 16h\, sur la RD9 à Trois-Bassins !🤝 Ensemble\, faisons de la route un espace plus sûr et plus apaisé.
URL:https://trois-bassins.re/event/securite-routiere-sensibilisation-des-2-roues-motorises/
CATEGORIES:Education,Santé,Sport
ATTACH;FMTTYPE=image/png:https://trois-bassins.re/wp-content/uploads/2025/06/Site-prog-2.png
END:VEVENT
BEGIN:VEVENT
DTSTART;TZID=Indian/Reunion:20250712T080000
DTEND;TZID=Indian/Reunion:20250712T130000
DTSTAMP:20260424T190420
CREATED:20250708T050040Z
LAST-MODIFIED:20250708T045652Z
UID:391612-1752307200-1752325200@trois-bassins.re
SUMMARY:Marché du Terroir et des Savoir-Faire
DESCRIPTION: Le Marché du Terroir et des Savoir-Faire de Trois-Bassins fait son grand retour sur la place de l’église ! \nVenez découvrir et soutenir les producteurs locaux\, artisans et savoir-faire du terroir réunionnais !\n \n Quand ? Les 2ème et 4ème samedi de chaque mois\, de 8h à 13hPROCHAINS RDV :– SAMEDI 12 JUILLET 2025\n-SAMEDI 26 JUILLET 2025\n \n Où ? Sur la place de l’église de Trois-Bassins au centre ville\n \n Vous êtes producteur\, artisan ou créateur local ? Vous souhaitez exposer vos produits ?\nLes inscriptions pour un stand se font auprès de La Case Rurale au  0692 46 07 28Venez nombreux pour soutenir notre territoire et ses talents !
URL:https://trois-bassins.re/event/marche-du-terroir-et-des-savoir-faire-11/
LOCATION:Parking de l’Eglise\, 7 rue Georges Brassens\, Trois Bassins\, Réunion
CATEGORIES:Culture,Santé
ATTACH;FMTTYPE=image/png:https://trois-bassins.re/wp-content/uploads/2024/01/prog-event.png
END:VEVENT
BEGIN:VEVENT
DTSTART;TZID=Indian/Reunion:20250723T100000
DTEND;TZID=Indian/Reunion:20250723T120000
DTSTAMP:20260424T190420
CREATED:20250624T062226Z
LAST-MODIFIED:20250624T062629Z
UID:391647-1753264800-1753272000@trois-bassins.re
SUMMARY:Bibliothèque en plein air
DESCRIPTION:Avec l’équipe de la Médiathèque\, SOMNICA-EVENT spécialisée dans le domaine des animations sportives\, ludo-pédagogiques\, Laurent conseiller numérique et Tam Tam Croco \nVa y avoir du sport sur le parvis de la médiathèque !Animations DIGI-SPORT\, jeux\, coin lecture\, gaming\, dessin animé et chasse aux énigmes numériques\, pour les grands et les petits. \n11h30 : Venez au spectacle musical de clôture par Tam Tam Croco \n  \n\nEntrée libre et gratuite
URL:https://trois-bassins.re/event/bibliotheque-en-plein-air/
LOCATION:Pôle Culturel et Sportif\, 28 rue Georges BRASSENS\, TROIS BASSINS\, 97426\, Réunion
CATEGORIES:Culture,Education,Santé,Sport
ATTACH;FMTTYPE=image/png:https://trois-bassins.re/wp-content/uploads/2025/06/92.png
END:VEVENT
BEGIN:VEVENT
DTSTART;TZID=Indian/Reunion:20250726T080000
DTEND;TZID=Indian/Reunion:20250726T130000
DTSTAMP:20260424T190420
CREATED:20250721T072646Z
LAST-MODIFIED:20250721T072654Z
UID:391913-1753516800-1753534800@trois-bassins.re
SUMMARY:Marché du terroir et des savoir-faire
DESCRIPTION: Le Marché du Terroir et des Savoir-Faire de Trois-Bassins fait son grand retour sur la place de l’église ! \nVenez découvrir et soutenir les producteurs locaux\, artisans et savoir-faire du terroir réunionnais !\n \n Quand ? Les 2ème et 4ème samedi de chaque mois\, de 8h à 13hPROCHAINS RDV :– SAMEDI 26 JUILLET 2025\n-SAMEDI 9 AOUT 2025\n \n Où ? Sur la place de l’église de Trois-Bassins au centre ville\n \n Vous êtes producteur\, artisan ou créateur local ? Vous souhaitez exposer vos produits ?\nLes inscriptions pour un stand se font auprès de La Case Rurale au  0692 46 07 28Venez nombreux pour soutenir notre territoire et ses talents !
URL:https://trois-bassins.re/event/marche-du-terroir-et-des-savoir-faire-12/
LOCATION:Parking de l’Eglise de Trois-Bassins\, 7 rue Georges Brassens
CATEGORIES:Culture,Santé
ATTACH;FMTTYPE=image/png:https://trois-bassins.re/wp-content/uploads/2024/01/prog-event.png
END:VEVENT
BEGIN:VEVENT
DTSTART;TZID=Indian/Reunion:20250727T053000
DTEND;TZID=Indian/Reunion:20250727T180000
DTSTAMP:20260424T190420
CREATED:20250710T072227Z
LAST-MODIFIED:20250710T072234Z
UID:391820-1753594200-1753639200@trois-bassins.re
SUMMARY:Trail Trois-Bassinoise
DESCRIPTION:TRAIL GRAND BENARE – La Trois Bassinoise\nEvénement sportif organisé par l’Association Culturelle et Sportive de Trois-Bassins en partenariat avec la Ville de Trois-Bassins.\n2 Épreuves :\n Le Grand-Bénare – 51km D+2760M (trail long)\n La Trois-Bassinoise – 28km D+1290M (trail court)Rando – course de 28 km marcher courir chacun à son rythme pas de souci de barrière horaire\, D+1200m.\nInscrivez-vous vite : http://www.acstb.fr/\n \nDate limite des inscriptions le 24 juillet.Remise des dossards le jeudi 25 et vendredi 26 juillet lieu et heure seront communiqués ultérieurement.
URL:https://trois-bassins.re/event/trail-trois-bassinoise/
LOCATION:Parking de l’Eglise\, 7 rue Georges Brassens\, Trois Bassins\, Réunion
CATEGORIES:Culture,Santé,Sport
ATTACH;FMTTYPE=image/jpeg:https://trois-bassins.re/wp-content/uploads/2025/07/Even-500-x-500-19.jpg
END:VEVENT
BEGIN:VEVENT
DTSTART;TZID=Indian/Reunion:20250730T080000
DTEND;TZID=Indian/Reunion:20250730T130000
DTSTAMP:20260424T190420
CREATED:20250715T070330Z
LAST-MODIFIED:20250715T070338Z
UID:391857-1753862400-1753880400@trois-bassins.re
SUMMARY:Don du sang
DESCRIPTION:Le don de sang\, une manière d’agir contre le cancer\nL’Établissement français du sang invite les citoyens à faire un cadeau précieux et utile en prenant rendez-vous sur la collecte de don de sang qui se déroulera à Trois Bassins: \n  \n			\n				\n				\n				\n				\n				Le mercredi 30 juillet 2025 à l’Alambic de 8h à 13h\n  \n			\n				\n				\n				\n				\n				L’Établissement Français du Sang invite toutes les personnes qui peuvent donner leur sang à se mobiliser pour les patients. \n			\n				\n				\n				\n				\n				Nous vous invitons à prendre RDV dès à présent pour un don de sang et à relayer l’information :• Par téléphone au 0262 90 53 07 ou 0262 90 53 92• ou directement en ligne en cliquant sur le lien du planning : ICI \nPlus d’un tiers des transfusions sont destinées à des personnes atteintes de cancerLe don de sang joue un rôle important dans la prise en charge des malades du cancer.Le traitement de cancers peut nécessiter des transfusions régulières\, notamment pour pallier les effets de la chimiothérapie. \nLa lutte contre le cancer passe aussi par la mobilisation de toutes et tous pour le don de sang.Tout au long du mois d’octobre mais aussi toute l’année\, mobilisez-vous en donnant votre sang\, votre plasma ou vos plaquettes et contribuez ainsi à aider les malades atteints de cancer ! \nPour savoir où et quand donner\, rendez-vous sur https://dondesang.efs.sante.fr/ \nSuis-je éligible au don du sang ? Testez directement en ligne – https://dondesang.efs.sante.fr/puis-je-donner? \n			\n			\n				\n				\n				\n				\n			\n				\n				\n				\n				\n				\n				\n				\n				\n				\n				\n				Qui peut donner ? \nToute personne : \n\nÂgée de 18 à 70 ans et en bonne santé\nPesant plus de 50kg\nReconnue apte au don à l’issue de l’entretien pré don qui se déroule le jour de la collecte\n\nUn grand merci à vous pour cette contribution qui aide chaque jour de nombreux patients !Les dons de sang sont indispensables pour soigner chaque année un million de patients. \nIrremplaçables et vitaux\, les produits sanguins sont utilisés dans deux grands cas de figure : les situations d’urgence (hémorragies lors d’un accouchement\, d’un accident\, d’une opération chirurgicale\, etc.) et les besoins chroniques (maladies du sang et cancers)\, qui demeurent les pathologies les plus consommatrices de produits sanguins avec près de la moitié (47 %) des patients transfusés.
URL:https://trois-bassins.re/event/don-du-sang-2/
LOCATION:Pôle Culturel et Sportif\, 28 rue Georges BRASSENS\, TROIS BASSINS\, 97426\, Réunion
CATEGORIES:Culture,Santé
ATTACH;FMTTYPE=image/jpeg:https://trois-bassins.re/wp-content/uploads/2024/04/kossa-y-di-dan-zot-kartier-1.jpg
END:VEVENT
END:VCALENDAR