BEGIN:VCALENDAR
VERSION:2.0
PRODID:-//Ville de Trois-Bassins - ECPv6.15.20//NONSGML v1.0//EN
CALSCALE:GREGORIAN
METHOD:PUBLISH
X-WR-CALNAME:Ville de Trois-Bassins
X-ORIGINAL-URL:https://trois-bassins.re
X-WR-CALDESC:Évènements pour Ville de Trois-Bassins
REFRESH-INTERVAL;VALUE=DURATION:PT1H
X-Robots-Tag:noindex
X-PUBLISHED-TTL:PT1H
BEGIN:VTIMEZONE
TZID:Indian/Reunion
BEGIN:STANDARD
TZOFFSETFROM:+0400
TZOFFSETTO:+0400
TZNAME:+04
DTSTART:20240101T000000
END:STANDARD
END:VTIMEZONE
BEGIN:VEVENT
DTSTART;TZID=Indian/Reunion:20250403T180000
DTEND;TZID=Indian/Reunion:20250403T190000
DTSTAMP:20260424T232305
CREATED:20250324T093706Z
LAST-MODIFIED:20250328T065147Z
UID:390746-1743703200-1743706800@trois-bassins.re
SUMMARY:Conseil Municipal
DESCRIPTION:La réunion du Conseil Municipal se tiendra le jeudi 03 avril 2025 à 18h00 à l’hôtel de ville de Trois Bassins (salle du conseil municipal) \n			\n				\n				\n				\n				\n				ORDRE DU JOUR\n			\n				\n				\n				\n				\n				1- AFFAIRES GENERALES\n\nAFFAIRE N° 1.1 : Approbation du contenu de la rédaction du procès-verbaldes délibérations en date du 13 mars 2025\nAFFAIRE N° 1.2 : Avis sur les différentes contractualisations entre la Commune et le CCAS de Trois-Bassins\n\n2- AMENAGEMENT\n\nAFFAIRE N° 2.1 : Rapport des mandataires 2023 – SPL MARAINA\nAFFAIRE N° 2.2 : Régularisation de l’assiette foncière occupée par la famille AMASSY René Paul – AE 1084\nAFFAIRE N° 2.3 : Formalisation de la servitude de passage au profit de la parcelle cadastrée AD 735\nAFFAIRE N° 2.4 : Création d’une servitude de passage conventionnelle sur la parcelle communale AH 149 au profit de la parcelle AH 1524\nAFFAIRE N° 2.5 : Convention relative au fonds mutualisé pour l’amélioration de l’habitat (FMAH) – 2025\n\n3- RH\n\nAFFAIRE N° 3.1 : Mise en place d’une garantie prévoyance collective au sein de la Collectivité – Proposition\nAFFAIRE N° 3.2 : Avis protection sociale complémentaire risques santé\nAFFAIRE N° 3.3 : Modification du tableau des effectifs par création de postes – PAT/CASE RURALE _ webmaster/community manager\nAFFAIRE N° 3.4 : Modification de la durée de travail d’un emploi permanent à temps non complet\nAFFAIRE N° 3.5 : Personnel communal – Modification du tableau des effectifs par création de postes\n\n4- COMMANDE PUBLIQUE\n\nAFFAIRE N° 4.1 : Délégations d’attributions au Maire – Compte rendu des décisions prises_Marchés publics\nAFFAIRE N° 4.2 : Information du Conseil Municipal sur la liste des marchés conclus en 2024 soumis à publication\n\n \n6- FINANCES\n\nAFFAIRE N° 6.1 : Délégations d’attributions au Maire – Compte rendu des décisions prises_Finances\nAFFAIRE N° 6.2 : Compte Financier Unique (CFU) pour l’exercice 2024 – Budget Principal\nAFFAIRE N° 6.3 : Compte Financier Unique (CFU) pour l’exercice 2024 – Budget Fossoyage\nAFFAIRE N° 6.4 : Affectation du résultat de l’exercice 2024 – Budget Principal\nAFFAIRE N° 6.5 : Vote des taux d’imposition des taxes locales pour l’année 2025\nAFFAIRE N° 6.6 : Budget Primitif pour l’exercice 2025 – Budget Principal\nAFFAIRE N° 6.7 : Budget Primitif pour l’exercice 2025 – Budget Fossoyage\nAFFAIRE N° 6.8 : Approbation de la redevance d’occupation des salles de veillée de Trois-Bassins\nAFFAIRE N° 6.9 : Approbation des redevances des maisons de quartier et salles polyvalentes de la Commune\n\n			\n			\n				\n				\n				\n				\n			\n				\n				\n				\n				\n				\n				\n				Les délibérations du Conseil Municipal
URL:https://trois-bassins.re/event/conseil-municipal-16/
LOCATION:Mairie\, 2 Rue du General de Gaulle\, Trois-Bassins\, 97426\, Réunion
CATEGORIES:Culture,Education,Enquête,Santé,Sport
ATTACH;FMTTYPE=image/webp:https://trois-bassins.re/wp-content/uploads/2022/11/conseil-municipal1.webp
END:VEVENT
BEGIN:VEVENT
DTSTART;TZID=Indian/Reunion:20250406T140000
DTEND;TZID=Indian/Reunion:20250406T170000
DTSTAMP:20260424T232305
CREATED:20250326T052041Z
LAST-MODIFIED:20250326T052054Z
UID:390770-1743948000-1743958800@trois-bassins.re
SUMMARY:LOTO-QUINE
DESCRIPTION:LOTO-QUINE\n			\n				\n				\n				\n				\n				Association Les Fleurs de sels\n			\n				\n				\n				\n				\n				Dimanche 6 avril 2025\n			\n				\n				\n				\n				\n				à partir de 14h au Centre Technique Municipal\n			\n				\n				\n				\n				\n				\nLoto quine de L’association Les Fleurs de Sels – 06/04/2025\n \n\n\n Date : Dimanche 6 avril 2025\n Heure : 14h00\n Centre Technique Municipal (Garage) – Chemin des barrières\n \n\n\nL’Association Les Fleurs de Sels organise un loto quine afin de financer son Voyage au Championnat de France de Twirling Bâton\, Majorettes et Pompon\, qui aura lieu en juin à Valence (Lyon).\n \n\n\nCet événement est une belle occasion de soutenir nos talents locaux tout en passant un moment convivial en famille ou entre amis !\n \n\n\nRendez-vous le 6 avril au Centre Technique Municipal de Trois Bassins\, pour tenter votre chance et aider l’association à atteindre son objectif !\n\n\nTous les fonds récoltés seront consacrés à ce projet ambitieux. Merci à tous pour votre soutien !\n\n\n 
URL:https://trois-bassins.re/event/loto-quine/
LOCATION:CTM\, 84 Chem. des Barrières\, Trois-Bassins\, 97426\, Réunion
CATEGORIES:Culture,Santé,Sport
ATTACH;FMTTYPE=image/jpeg:https://trois-bassins.re/wp-content/uploads/2023/02/lotoquine.jpg
END:VEVENT
BEGIN:VEVENT
DTSTART;TZID=Indian/Reunion:20250409T083000
DTEND;TZID=Indian/Reunion:20250416T150000
DTSTAMP:20260424T232305
CREATED:20250325T051707Z
LAST-MODIFIED:20250325T103704Z
UID:390754-1744187400-1744815600@trois-bassins.re
SUMMARY:Mon Espace Santé : Rendez-vous à Trois-Bassins
DESCRIPTION:Le service public pour gérer sa santé\nVous avez la main sur votre santé ! \n\n\n\n\nAu quotidien\, recevez\, stockez et partagez vos documents de santé (ordonnances\, résultats d’analyses\, etc.).\nEn consultation\, partagez vos antécédents médicaux avec votre professionnel de santé en toute sécurité\nPour vos enfants\, activez Mon espace santé pour suivre leur santé.\n\nDes spécialistes viennent à votre rencontre pour vous présenter Mon espace santé et vous guider dans l’activation et l’utilisation du nouveau carnet de santé numérique. Ne manquez pas ces quatre dates : \n\n\n• Mercredi 9 Avril : Maison France Services de 8h30 à 12h puis de 13h à 15h28 Rue Georges Brassens\, Les Trois-Bassins \n• Vendredi 11 avril : Pharmacie CHEUNG TOI CHEUNG de 8h à 12h307 Rue du Général de Gaulle\, Les Trois-Bassins \n• Lundi 14 avril : Pharmacie des CHOCAS de 8h à 12h303 Rue Francois de Mahy\, Les Trois-Bassins \n• Mercredi 16 Avril : Centre Communal du Littoral de 8h30 à 12h puis de 13h à 15h6\, Allée des filaos\, Les Trois-Bassins \n \nPensez à apporter votre carte Vitale et nous pourrons activer votre profil Mon espace santé. Vous y retrouverez vos documents de santé.\nMon espace santé est un service gratuit de l’Assurance Maladie et disponible pour tous les assurés
URL:https://trois-bassins.re/event/mon-espace-sante-rendez-vous-a-trois-bassins/
LOCATION:France Services\, 28 rue georges brassens\, Trois Bassins\, 97426\, Réunion
CATEGORIES:Education,Santé
ATTACH;FMTTYPE=image/jpeg:https://trois-bassins.re/wp-content/uploads/2025/03/Even-500-x-500-7.jpg
END:VEVENT
END:VCALENDAR