BEGIN:VCALENDAR
VERSION:2.0
PRODID:-//Ville de Trois-Bassins - ECPv6.15.20//NONSGML v1.0//EN
CALSCALE:GREGORIAN
METHOD:PUBLISH
X-ORIGINAL-URL:https://trois-bassins.re
X-WR-CALDESC:Évènements pour Ville de Trois-Bassins
REFRESH-INTERVAL;VALUE=DURATION:PT1H
X-Robots-Tag:noindex
X-PUBLISHED-TTL:PT1H
BEGIN:VTIMEZONE
TZID:Indian/Reunion
BEGIN:STANDARD
TZOFFSETFROM:+0400
TZOFFSETTO:+0400
TZNAME:+04
DTSTART:20230101T000000
END:STANDARD
END:VTIMEZONE
BEGIN:VEVENT
DTSTART;TZID=Indian/Reunion:20240404T090000
DTEND;TZID=Indian/Reunion:20240404T120000
DTSTAMP:20260425T172220
CREATED:20240403T074017Z
LAST-MODIFIED:20240403T074218Z
UID:385075-1712221200-1712232000@trois-bassins.re
SUMMARY:La SARavàn' à Trois Bassins
DESCRIPTION:VIEN WAR NOUS DANN’ SARavàn’\n			\n				\n				\n				\n				\n				Jeudi 04 avril 2024 à L’Alambic – Trois Bassins\n			\n				\n				\n				\n				\n				\ntout public\n\n			\n				\n				\n				\n				\n				À travers la SARavàn’\, la Région Réunion vient à Trois Bassins\, à l’Alambic (Impasse Célimène)\, le 4 avril pour élaborer avec vous le nouveau Schéma d’Aménagement Régional (SAR) qui déterminera l’avenir de La Réunion jusqu’en 2050. \nKosa SAR La ? Le SAR a le moyen de mieux équilibrer nos vies au quotidien dans les quartiers\, dans les hauts\, dans les mi-pentes\, pour nos marmay\, nos gramouns. \n« Comment habiter La Réunion ? »\, « Comment se nourrir en local ? »\, « Comment faire de La Réunion\, territoire de ressources\, un territoire productif ? » Comment assurer l’autonomie énergétique et l’économie circulaire ? » \nCe sont les grands défis auxquels le SAR doit répondre. \nInformation aux riverains : la circulation et le stationnement seront interdits ce jeudi 04 avril 2024 de 06h00 à 18h00 dans l’allée Célimène. 
URL:https://trois-bassins.re/event/la-saravan-a-trois-bassins/
LOCATION:Pôle Culturel et Sportif\, 28 rue Georges BRASSENS\, TROIS BASSINS\, 97426\, Réunion
CATEGORIES:Culture,Education,Enquête,Santé,Sport
ATTACH;FMTTYPE=image/jpeg:https://trois-bassins.re/wp-content/uploads/2024/04/Site-prog-41.jpg
END:VEVENT
BEGIN:VEVENT
DTSTART;TZID=Indian/Reunion:20240404T180000
DTEND;TZID=Indian/Reunion:20240404T180000
DTSTAMP:20260425T172220
CREATED:20240403T105523Z
LAST-MODIFIED:20240403T105548Z
UID:385093-1712253600-1712253600@trois-bassins.re
SUMMARY:Conseil Municipal
DESCRIPTION:La réunion du Conseil Municipal se tiendra le jeudi 04 avril 2024 à 18h00 à l’hôtel de ville de Trois Bassins (salle du conseil municipal) \n			\n				\n				\n				\n				\n				ORDRE DU JOUR\n			\n				\n				\n				\n				\n				1- AFFAIRES GENERALES\n\nAFFAIRE N° 1.1 : Approbation du contenu de la rédaction du procès-verbal des délibérations en date du 7 mars 2024\n\n6- FINANCES\n\nAFFAIRE N° 6.1 : Délégations d’attributions au Maire – Compte rendu des décisions prises \nAFFAIRE N° 6.2 : Compte de gestion du comptable pour l’exercice 2023- Budget Principal\nAFFAIRE N° 6.3 : Compte de gestion du comptable pour l’exercice 2023- Régie de Fossoyage\nAFFAIRE N° 6.4 : Compte administratif pour l’exercice 2023- Budget Principal\nAFFAIRE N° 6.5 : Compte administratif pour l’exercice 2023- Régie de Fossoyage\nAFFAIRE N° 6.6 : Affectation du résultat de l’exercice 2023- Budget Principal\nAFFAIRE N° 6.7 : Vote des taux d’imposition des taxes locales pour l’année 2023\nAFFAIRE N° 6.8 : Budget Primitif pour l’exercice 2024 / A Budget Principal / B Régie de Fossoyage\nAFFAIRE N° 6.9 : Occupation du domaine public communal – Tarification pour l’année 2024\n\n			\n			\n				\n				\n				\n				\n			\n				\n				\n				\n				\n				\n				\n				Les délibérations du Conseil Municipal
URL:https://trois-bassins.re/event/conseil-municipal-9/
LOCATION:Mairie\, 2 Rue du General de Gaulle\, Trois-Bassins\, 97426\, Réunion
CATEGORIES:Culture,Education,Enquête,Santé,Sport
ATTACH;FMTTYPE=image/webp:https://trois-bassins.re/wp-content/uploads/2022/11/conseil-municipal1.webp
END:VEVENT
BEGIN:VEVENT
DTSTART;TZID=Indian/Reunion:20240412T140000
DTEND;TZID=Indian/Reunion:20240412T180000
DTSTAMP:20260425T172220
CREATED:20240410T121822Z
LAST-MODIFIED:20240410T121933Z
UID:385235-1712930400-1712944800@trois-bassins.re
SUMMARY:La Pointe Gourmande
DESCRIPTION:La Pointe Gourmande\nAu Littoral de Trois Bassins\nEXCEPTIONNELLEMENT DE 14h à 18h – 12/04/2024 \n			\n				\n				\n				\n				\n				Venez participer à la Pointe Gourmande au Littoral de Trois Bassins (le long de la Nationale 1a).La Pointe Gourmande est un évènement agri-culturel du Projet Alimentaire Territorial de la ville de Trois Bassins. \n			\n			\n				\n				\n				\n				\n			\n				\n				\n				\n				\n				\n				\n				\n				\n				\n				\n				Commerçants\, artisans\, créateurs\,\nSoyez exposants à la Pointe Gourmande !\n			\n				\n				\n				\n				\n				Remplissez le formulaire de demande d’emplacement disponible sur demande au 0692 45 01 57 ou en téléchargement ici.\n			\n				\n				\n				\n				\n				Date limite de candidature le 9 avril 2024\ndocuments demande d’emplacement cliquez ici
URL:https://trois-bassins.re/event/la-pointe-gourmande-9/
LOCATION:Parking Super U Trois Bassins\, 13 rue des Franciseas\, Trois Bassins\, TROIS BASSINS\, 97426\, Reunion
CATEGORIES:Culture,Santé
ATTACH;FMTTYPE=image/png:https://trois-bassins.re/wp-content/uploads/2023/08/Site-prog-21.png
END:VEVENT
BEGIN:VEVENT
DTSTART;TZID=Indian/Reunion:20240413T080000
DTEND;TZID=Indian/Reunion:20240413T130000
DTSTAMP:20260425T172220
CREATED:20240410T120830Z
LAST-MODIFIED:20240410T120904Z
UID:385226-1712995200-1713013200@trois-bassins.re
SUMMARY:Marché du terroir et des savoir-faire
DESCRIPTION:Marché du Terroir et des Savoir-faire\n			\n				\n				\n				\n				\n				Le Marché du Terroir et des Savoir-faire se tiendra le samedi 13 avril de 8H à 13H au centre-ville de Trois-Bassins sur la Place de l’Eglise. \n\nOrganisé par la Ville de Trois-Bassins et les commerçants du centre ville.\n\n			\n				\n				\n				\n				\n				Venez nombreux !\n			\n				\n				\n				\n				\n				Soyez exposant !\n Téléchargez ici votre demande d’emplacement.\nDate limite de retour des candidatures : les derniers vendredis du mois (une semaine avant le marché). \n			\n			\n				\n				\n				\n				\n			\n				\n				\n				\n				\n				\n				\n				\n				\n				\n				\n				Ce projet a été financé à l’aide du Fonds Européen de Développement Régional (FEDER) dans le cadre de la réponse de l’Union Européenne à la pandémie de COVID-19 (REACT-UE). L’Europe s’engage à la Réunion.
URL:https://trois-bassins.re/event/marche-du-terroir-et-des-savoir-faire-4/
LOCATION:Parking Super U Trois Bassins\, 13 rue des Franciseas\, Trois Bassins\, TROIS BASSINS\, 97426\, Reunion
CATEGORIES:Culture,Santé
ATTACH;FMTTYPE=image/png:https://trois-bassins.re/wp-content/uploads/2024/01/prog-event.png
END:VEVENT
BEGIN:VEVENT
DTSTART;TZID=Indian/Reunion:20240424T173000
DTEND;TZID=Indian/Reunion:20240424T173000
DTSTAMP:20260425T172220
CREATED:20240415T070414Z
LAST-MODIFIED:20240415T071322Z
UID:385307-1713979800-1713979800@trois-bassins.re
SUMMARY:Kossa y di dan zot kartier ?
DESCRIPTION:Kossa y di dan zot kartier ?\nLes élus du Conseil Municipal de Trois Bassins vous donnent rendez-vous à la maison de quartier du Littoral Montée Panon \nLe mercredi 24 avril 2024 à 17h30\nUne opportunité pour échanger et poser des questions sur la vie dans votre quartier. \nL’objectif et de discuter sur les projets réalisés et de présenter le programme à venir.
URL:https://trois-bassins.re/event/kossa-y-di-dan-zot-kartier/
CATEGORIES:Culture,Education,Enquête,Santé,Sport
ATTACH;FMTTYPE=image/jpeg:https://trois-bassins.re/wp-content/uploads/2024/04/kossa-y-di-dan-zot-kartier.jpg
END:VEVENT
BEGIN:VEVENT
DTSTART;TZID=Indian/Reunion:20240425T180000
DTEND;TZID=Indian/Reunion:20240425T180000
DTSTAMP:20260425T172220
CREATED:20240422T103812Z
LAST-MODIFIED:20240422T104726Z
UID:385433-1714068000-1714068000@trois-bassins.re
SUMMARY:Conseil Municipal
DESCRIPTION:La réunion du Conseil Municipal se tiendra le jeudi 25 avril 2024 à 18h00 à l’hôtel de ville de Trois Bassins (salle du conseil municipal) \n			\n				\n				\n				\n				\n				ORDRE DU JOUR\n			\n				\n				\n				\n				\n				1- AFFAIRES GENERALES\n\nAFFAIRE N 1.1 : Approbation du contenu de la rédaction du procès-verbal des délibérations en date du 04 avril 2024\nAFFAIRE N 1.2 : Convention de mise à disposition par le Territoire de I’Ouest de matériels aux communes pour la lutte contre la divagation animale\n\n2- AMENAGEMENT\n\nAFFAIRE N 2.1 : Délégations d’attributions au Maire – Compte rendu des décisions prises-Transactions foncières pour 2023\nAFFAIRE N 2.2 : Bilan des transactions foncières de I’EPFR pour 2023\nAFFAIRE N 2.3 : Rétrocession de la parcelle cadastrée AH 149 à la commune Trois-Bassins\nAFFAIRE N 2.4 : Rétrocession à la commune des délaissés des parcelles faisant partie de la RHI « GRANDE RAVINE » – Acte rectificatif pour omission d’immeuble\nAFFAIRE N 2.5 : Session de la parcelle AK 1481 à Monsieur POININCOULIN Christopher\nAFFAIRE N 2.6 : Cession de la parcelle AE 1050 à Madame EMERENTIENNE Yolande\nAFFAIRE N 2.7 : Acquisition par I’EPF Réunion de la parcelle cadastrée AD 43 à Bois De Nèfles en vue de la constitution d’une réserve foncière à destination d’équipements – Passation d’une convention d’acquisition foncière et de portage n°23 23 02 entre I’EPF Réunion et la commune de Trois-Bassins\nAFFAIRE N 2.8 : Acquisition par I’EPF Réunion de la parcelle cadastrée AK 559 situé à Grande Ravine les hauts destinée à la réalisation d’équipements publics Passation d’une convention d’acquisition foncière et de portage n° 23 23 03 entre l’EPF Réunion et la commune de Trois-Bassins\nAFFAIRE N 2.9 : Avenant n°1 à la convention de mandat de maitrise d’ouvrage déléguée relative à l’aménagement et à la valorisation de la place de I’Eglise passée avec la SPL Maraina\nAFFAIRE N 2.10 : Conventions relatives au fonds mutualisé pour l’amélioration de I’habitat (FMAH)\nAFFAIRE N 2.11 : Réforme des modalités de gestion et de réservation des logements locatifs sociaux : passage à la gestion de flux\nAFFAIRE N 2.12 : Plan de financement du programme des travaux 2024 / 2025 d’éclairage public\n\n3- RH\n\nAFFAIRE N 3.1 : Convention portant adhésion à des prestations ponctuelles de prévention et de traitement des risques psychosociaux\, proposées par le Centre de Gestion de la Fonction Publique Territoriale de la Réunion\nAFFAIRE N 3.2 : Modification du tableau des effectifs par création de postes – Création d’emplois non permanent\n\n4- COMMANDE PUBLIQUE\n\nAFFAIRE N 4.1 : Délégations d’attributions au Maire – Compte rendu des décisions prises_ Marchés publics\nAFFAIRE N 4.2 : Information du Conseil Municipal sur la liste des marchés conclus en 2023 soumis à publication\n\n6- FINANCES\n\nAFFAIRE N 6.1 : Délégations d’attributions au Maire – Compte rendu des décisions prises_ Demande de subventions à L’Etat ou à d’autres collectivités territoriales\nAFFAIRE N 6.2 : Garantie d’emprunt à la SHLMR Opération de construction neuve de logements locatifs sociaux « CLOS DES LISERONS « –  Montant du prêt 3 235 693.00 €\nAFFAIRE N 6.3 :Autorisation de signature d’une convention entre la commune de Trois-Bassins et la CRÉOLE pour la pose de coffret AEP dans le cadre du réaménagement de la rue des Amaryllis\nAFFAIRE N 6.4 :Convention cadre de transfert de propriété de matériel acquis pour I’accomplissement de projets financés par le fonds d’innovation pédagogique (FIP)\n\n			\n			\n				\n				\n				\n				\n			\n				\n				\n				\n				\n				\n				\n				Les délibérations du Conseil Municipal
URL:https://trois-bassins.re/event/conseil-municipal-10/
LOCATION:Mairie\, 2 Rue du General de Gaulle\, Trois-Bassins\, 97426\, Réunion
CATEGORIES:Culture,Education,Enquête,Santé,Sport
ATTACH;FMTTYPE=image/webp:https://trois-bassins.re/wp-content/uploads/2022/11/conseil-municipal1.webp
END:VEVENT
END:VCALENDAR