BEGIN:VCALENDAR
VERSION:2.0
PRODID:-//Ville de Trois-Bassins - ECPv6.15.20//NONSGML v1.0//EN
CALSCALE:GREGORIAN
METHOD:PUBLISH
X-ORIGINAL-URL:https://trois-bassins.re
X-WR-CALDESC:Évènements pour Ville de Trois-Bassins
REFRESH-INTERVAL;VALUE=DURATION:PT1H
X-Robots-Tag:noindex
X-PUBLISHED-TTL:PT1H
BEGIN:VTIMEZONE
TZID:Indian/Reunion
BEGIN:STANDARD
TZOFFSETFROM:+0400
TZOFFSETTO:+0400
TZNAME:+04
DTSTART:20220101T000000
END:STANDARD
END:VTIMEZONE
BEGIN:VEVENT
DTSTART;TZID=Indian/Reunion:20231220T083000
DTEND;TZID=Indian/Reunion:20231220T190000
DTSTAMP:20260419T195101
CREATED:20231211T074527Z
LAST-MODIFIED:20231214T074031Z
UID:383243-1703061000-1703098800@trois-bassins.re
SUMMARY:La Case Rurale - Fêt Kaf
DESCRIPTION:Mercredi 20 décembre – 8h30 à 19h\nStands Place de l’Église Activités pour tous ! \nExpositions ; \nDécouvrez en image la Case Rurale et venez rencontrer la communauté d’acteurs au service des porteurs de projets du territoire. \nFresque des nouveaux récits  \nUn atelier ouvert aux citoyens de Trois Bassins pour comprendre nos modèles de pensée et amorcer ensemble de la transition. \n> Dégustations produits lontan \n			\n			\n				\n				\n				\n				\n			\n				\n				\n				\n				\n				\n				\n				\n				\n				\n				\n				« Projet cofinancé par le Fonds Européen Agricole pour le Développement Rural – FEADER »
URL:https://trois-bassins.re/event/la-case-rurale-fet-kaf/
CATEGORIES:Culture,Education,Santé
ATTACH;FMTTYPE=image/png:https://trois-bassins.re/wp-content/uploads/2023/12/FORMAT-EVEN.png
END:VEVENT
END:VCALENDAR