BEGIN:VCALENDAR
VERSION:2.0
PRODID:-//Ville de Trois-Bassins - ECPv6.15.20//NONSGML v1.0//EN
CALSCALE:GREGORIAN
METHOD:PUBLISH
X-WR-CALNAME:Ville de Trois-Bassins
X-ORIGINAL-URL:https://trois-bassins.re
X-WR-CALDESC:Évènements pour Ville de Trois-Bassins
REFRESH-INTERVAL;VALUE=DURATION:PT1H
X-Robots-Tag:noindex
X-PUBLISHED-TTL:PT1H
BEGIN:VTIMEZONE
TZID:Indian/Reunion
BEGIN:STANDARD
TZOFFSETFROM:+0400
TZOFFSETTO:+0400
TZNAME:+04
DTSTART:20220101T000000
END:STANDARD
END:VTIMEZONE
BEGIN:VEVENT
DTSTART;VALUE=DATE:20231118
DTEND;VALUE=DATE:20231217
DTSTAMP:20260421T000654
CREATED:20231120T042906Z
LAST-MODIFIED:20231123T062856Z
UID:382817-1700265600-1702771199@trois-bassins.re
SUMMARY:Journées Gaming
DESCRIPTION:PLACES LIMITÉES ET GRATUITES SUR INSCRIPTION\n			\n			\n				\n				\n				\n				\n			\n				\n				\n				\n				\n				\n				\n				\n				\n				\n				\n				Les animateurs jeunesses de Trois Bassins accompagnent nos jeunes à travers un projet gaming durant la période du mois de novembre à décembre. \n\nMaison de quartier Mont Vert : le vendredi 24 novembre et vendredi 15 décembre de 15h à 18h\nSalle multi activités Grande Ravine : le samedi 25 novembre\, samedi 9 et 16 décembre de 9h30 à 14h30\nMaison de quartier Bois de Nèfles : le mercredi 29 novembre\, mercredi 6 et 13 décembre de 15h à 18h\nATD Quart Monde Littoral Trois Bassins : le samedi 18 novembre de 10h à 15h\n\nLa première journée gaming débute ce samedi 18 novembre au Littoral Trois Bassins de 10h à 15h. \nPlus d’informations au 0692 10 88 61
URL:https://trois-bassins.re/event/journees-gaming/
LOCATION:Parking Super U Trois Bassins\, 13 rue des Franciseas\, Trois Bassins\, TROIS BASSINS\, 97426\, Reunion
CATEGORIES:Culture,Education
ATTACH;FMTTYPE=image/png:https://trois-bassins.re/wp-content/uploads/2023/09/expo-1.png
END:VEVENT
BEGIN:VEVENT
DTSTART;TZID=Indian/Reunion:20231202T090000
DTEND;TZID=Indian/Reunion:20231202T130000
DTSTAMP:20260421T000654
CREATED:20231120T093926Z
LAST-MODIFIED:20231121T053000Z
UID:382851-1701507600-1701522000@trois-bassins.re
SUMMARY:Matinée de la Petite Enfance
DESCRIPTION:ENTRÉE GRATUITE À L’ALAMBIC\n			\n			\n				\n				\n				\n				\n			\n				\n				\n				\n				\n				\n				\n				\n				\n				\n				\n				La ville de Trois Bassins invite les parents\, les futurs parents\, et professionnels à nous rejoindre à la Matinée de la Petite Enfance le Samedi 2 décembre de 9h à 13h. \nVous pourrez enfin rencontrer nos différents acteurs de la petite enfance à travers la mise en place de diverses activités : \n\nAnimations\nAteliers Parent ; Enfant ; Bébé lecteur\nInfo/Droits
URL:https://trois-bassins.re/event/matinee-de-la-petite-enfance/
LOCATION:Pôle Culturel et Sportif\, 28 rue Georges BRASSENS\, TROIS BASSINS\, 97426\, Réunion
CATEGORIES:Culture,Education
ATTACH;FMTTYPE=image/png:https://trois-bassins.re/wp-content/uploads/2023/11/matinee-petite-enfance-500x500-1.png
END:VEVENT
END:VCALENDAR