BEGIN:VCALENDAR
VERSION:2.0
PRODID:-//Ville de Trois-Bassins - ECPv6.15.20//NONSGML v1.0//EN
CALSCALE:GREGORIAN
METHOD:PUBLISH
X-WR-CALNAME:Ville de Trois-Bassins
X-ORIGINAL-URL:https://trois-bassins.re
X-WR-CALDESC:Évènements pour Ville de Trois-Bassins
REFRESH-INTERVAL;VALUE=DURATION:PT1H
X-Robots-Tag:noindex
X-PUBLISHED-TTL:PT1H
BEGIN:VTIMEZONE
TZID:Indian/Reunion
BEGIN:STANDARD
TZOFFSETFROM:+0400
TZOFFSETTO:+0400
TZNAME:+04
DTSTART:20220101T000000
END:STANDARD
END:VTIMEZONE
BEGIN:VEVENT
DTSTART;TZID=Indian/Reunion:20230529T110000
DTEND;TZID=Indian/Reunion:20230529T150000
DTSTAMP:20260421T151831
CREATED:20230505T063137Z
LAST-MODIFIED:20230524T075057Z
UID:380070-1685358000-1685372400@trois-bassins.re
SUMMARY:Journée Solidarité AFPAR
DESCRIPTION:Journée Solidarité AFPAR\n« Comment mieux accompagner les stagiaires en situation de handicap au sein de notre organisme de formation ? »\n			\n				\n				\n				\n				\n				Toute la journée sur site et ouvert au public : \n\nHandicar IRSAM Véhicule de sensibilisation au handicap sensoriel.\nKaravan ODHIR : Dépistage du diabète\, Contrôle de la tension artérielle\, Evaluation de l’indice de masse corporelle \, Conseils en diététique et sur l’alimentation équilibrée…\n\n11h-12h: Table Ronde Démarche de progrès : partenaires\, usagers et formateurs AFPAR avec Céline CANU (Chargée de Mission Handicap & Diversité)\, Denise LEDORMEUR (présidente Association Handicap Solidaire)\, Didier LEFEVRE (chef de pôle régional Défenseur des Droits)\,  Bernard FOLIO et Teddy LUN-KWOK-SUI (formateurs AFPAR).
URL:https://trois-bassins.re/event/journee-solidarite-afpar/
LOCATION:Pôle Culturel et Sportif\, 28 rue Georges BRASSENS\, TROIS BASSINS\, 97426\, Réunion
CATEGORIES:Culture,Education,Santé
ATTACH;FMTTYPE=image/png:https://trois-bassins.re/wp-content/uploads/2023/05/Site-prog-8.png
END:VEVENT
END:VCALENDAR