BEGIN:VCALENDAR
VERSION:2.0
PRODID:-//Ville de Trois-Bassins - ECPv6.15.20//NONSGML v1.0//EN
CALSCALE:GREGORIAN
METHOD:PUBLISH
X-ORIGINAL-URL:https://trois-bassins.re
X-WR-CALDESC:Évènements pour Ville de Trois-Bassins
REFRESH-INTERVAL;VALUE=DURATION:PT1H
X-Robots-Tag:noindex
X-PUBLISHED-TTL:PT1H
BEGIN:VTIMEZONE
TZID:Indian/Reunion
BEGIN:STANDARD
TZOFFSETFROM:+0400
TZOFFSETTO:+0400
TZNAME:+04
DTSTART:20220101T000000
END:STANDARD
END:VTIMEZONE
BEGIN:VEVENT
DTSTART;TZID=Indian/Reunion:20231106T090000
DTEND;TZID=Indian/Reunion:20231106T180000
DTSTAMP:20260421T051644
CREATED:20231025T054248Z
LAST-MODIFIED:20231026T050850Z
UID:382204-1699261200-1699293600@trois-bassins.re
SUMMARY:SARavàn
DESCRIPTION:VIEN WAR NOUS DANN’ SARavàn’\n			\n				\n				\n				\n				\n				Lundi 06 novembre 2023 à L’Alambic – Trois bassins\n			\n				\n				\n				\n				\n				\ntout public\n\n			\n				\n				\n				\n				\n				À travers la SARavàn’\, la Région Réunion vient à Trois Bassins\, à l’Alambic (Impasse Célimène)\, le 6 novembre pour élaborer avec vous le nouveau Schéma d’Aménagement Régional (SAR) qui déterminera l’avenir de La Réunion jusqu’en 2050. \nKosa SAR La ? Le SAR a le moyen de mieux équilibrer nos vies au quotidien dans les quartiers\, dans les hauts\, dans les mi-pentes\, pour nos marmay\, nos gramouns. \n« Comment habiter La Réunion ? »\, « Comment se nourrir en local ? »\, « Comment faire de La Réunion\, territoire de ressources\, un territoire productif ? » Comment assurer l’autonomie énergétique et l’économie circulaire ? » \nCe sont les grands défis auxquels le SAR doit répondre. \nVien don zot l’avis ! Partaz out Zarlor ! Rakont a nou out zistoir avec le théâtre forum ! \nInformation aux riverains : la circulation et le stationnement seront interdits ce lundi 06 novembre 2023 de 06h00 à 18h00 dans l’allée Célimène.  \nRetrouvez ci-joint : L’ARRÊTE N°592 IMPASSE CÉLIMÈNE \n			\n				\n				\n				\n				\n				Plateforme de réservation en ligne disponible \nINSCRIPTION AU THÉÂTRE FORUM ACCESSIBLE SUR LE SITE INTERNET \nSAR.REGIONREUNION.COM
URL:https://trois-bassins.re/event/saravan/
LOCATION:Pôle Culturel et Sportif\, 28 rue Georges BRASSENS\, TROIS BASSINS\, 97426\, Réunion
CATEGORIES:Culture,Education,Enquête,Santé,Sport
ATTACH;FMTTYPE=image/png:https://trois-bassins.re/wp-content/uploads/2023/10/Site-prog-20.png
END:VEVENT
BEGIN:VEVENT
DTSTART;TZID=Indian/Reunion:20231111T100000
DTEND;TZID=Indian/Reunion:20231111T130000
DTSTAMP:20260421T051644
CREATED:20230505T045750Z
LAST-MODIFIED:20231102T113356Z
UID:380039-1699696800-1699707600@trois-bassins.re
SUMMARY:Commémoration de l'Armistice de 1918
DESCRIPTION:Le Maire\, Daniel PAUSE et le Conseil Municipal vous convient à la commémoration de l’Armistice de 1918.\nLe samedi 11 novembre 2023\n\n\n10h : Messe\n\n\n11h : Dépôt de gerbe (place de l’Église)\n\n\nSuivi d’un vin d’honneur (école Bois joli cœur)\n\n\n \n			\n				\n				\n				\n				\n				INFO PRATIQUE :\nDu vendredi 10 novembre 2023 à partir de 22H jusqu’au 11 novembre 2023 à 13H\, la circulation et le stationnement de tous les véhicules motorisés seront interdits sur la place de l’église. \nArrêté n°615
URL:https://trois-bassins.re/event/commemoration-de-la-victoire-du-8-mai-1945/
CATEGORIES:Culture,Education,Enquête,Santé,Sport
ATTACH;FMTTYPE=image/jpeg:https://trois-bassins.re/wp-content/uploads/2023/05/8mai-imageweb.jpg
END:VEVENT
BEGIN:VEVENT
DTSTART;VALUE=DATE:20231118
DTEND;VALUE=DATE:20231217
DTSTAMP:20260421T051644
CREATED:20231120T042906Z
LAST-MODIFIED:20231123T062856Z
UID:382817-1700265600-1702771199@trois-bassins.re
SUMMARY:Journées Gaming
DESCRIPTION:PLACES LIMITÉES ET GRATUITES SUR INSCRIPTION\n			\n			\n				\n				\n				\n				\n			\n				\n				\n				\n				\n				\n				\n				\n				\n				\n				\n				Les animateurs jeunesses de Trois Bassins accompagnent nos jeunes à travers un projet gaming durant la période du mois de novembre à décembre. \n\nMaison de quartier Mont Vert : le vendredi 24 novembre et vendredi 15 décembre de 15h à 18h\nSalle multi activités Grande Ravine : le samedi 25 novembre\, samedi 9 et 16 décembre de 9h30 à 14h30\nMaison de quartier Bois de Nèfles : le mercredi 29 novembre\, mercredi 6 et 13 décembre de 15h à 18h\nATD Quart Monde Littoral Trois Bassins : le samedi 18 novembre de 10h à 15h\n\nLa première journée gaming débute ce samedi 18 novembre au Littoral Trois Bassins de 10h à 15h. \nPlus d’informations au 0692 10 88 61
URL:https://trois-bassins.re/event/journees-gaming/
LOCATION:Parking Super U Trois Bassins\, 13 rue des Franciseas\, Trois Bassins\, TROIS BASSINS\, 97426\, Reunion
CATEGORIES:Culture,Education
ATTACH;FMTTYPE=image/png:https://trois-bassins.re/wp-content/uploads/2023/09/expo-1.png
END:VEVENT
BEGIN:VEVENT
DTSTART;TZID=Indian/Reunion:20231121T080000
DTEND;TZID=Indian/Reunion:20231121T120000
DTSTAMP:20260421T051644
CREATED:20231117T095311Z
LAST-MODIFIED:20231121T044510Z
UID:382778-1700553600-1700568000@trois-bassins.re
SUMMARY:Semaine Européenne de la Réduction des Déchets
DESCRIPTION:Semaine Européenne de la Réduction des Déchets (SERD)\n			\n				\n				\n				\n				\n				Mardi 21 novembre 2023\n			\n				\n				\n				\n				\n				\ntout public\n\n			\n			\n				\n				\n				\n				\n			\n				\n				\n				\n				\n				\n				\n				\n				\n				\n				\n				Dans le cadre de la Semaine Européenne de la Réduction des Déchets (SERD) les médiateurs du Territoire de l’Ouest (TO) seront sur le parvis de la mairie de 8h à 12h afin de mettre en place divers stands de sensibilisation ainsi qu’un atelier manuel. \n\nl’achat malin\, en mettant en avant l’achat en vrac\nsensibilisation au pique-nique zéro déchet pour déchet pour réduire l’utilisation d’emballages jetables\nsensibilisation aux avantages des produits faits maison\natelier de fabrication de produits naturels\n\nNous invitons le grand public à venir assister et à participer à cette matinée sensibilisation.
URL:https://trois-bassins.re/event/semaine-europeenne-de-la-reduction-des-dechets/
LOCATION:Mairie\, 2 Rue du General de Gaulle\, Trois-Bassins\, 97426\, Réunion
CATEGORIES:Education,Santé
ATTACH;FMTTYPE=image/png:https://trois-bassins.re/wp-content/uploads/2023/11/MISE-EN-AVANT-EVENEMENT-2.png
END:VEVENT
BEGIN:VEVENT
DTSTART;TZID=Indian/Reunion:20231130T180000
DTEND;TZID=Indian/Reunion:20231130T193000
DTSTAMP:20260421T051644
CREATED:20231127T065544Z
LAST-MODIFIED:20231127T070006Z
UID:383044-1701367200-1701372600@trois-bassins.re
SUMMARY:Conseil Municipal
DESCRIPTION:La réunion du Conseil Municipal se tiendra le jeudi 30 novembre 2023 à 18h00 à l’hôtel de ville de Trois Bassins (salle du conseil municipal) \n			\n				\n				\n				\n				\n				ORDRE DU JOUR\n			\n				\n				\n				\n				\n				1- AFFAIRES GENERALES\n\nAFFAIRE N° 1.1 : Approbation du contenu de la rédaction du procès-verbal des délibérations en date du 21 septembre 2023\nAFFAIRE N° 1.2 : Rapport d’activités 2022 – SPL Horizon Réunion\nAFFAIRE N° 1.3 : Contrat d’engagement entre l’éco-organisme ALCOME etla commune de Trois Bassins\nAFFAIRE N° 1.4 : Bail de trente ans au profit du Wood hôtel – Approbation\n\n2- AMENAGEMENT\n\nAFFAIRE N° 2.1 : Mission de consultance architecturale – Convention à intervenir entre la commune et le CAUE (Conseil d’Architecture\, d’Urbanisme et de l’Environnement) pour l’année 2024\nAFFAIRE N° 2.2 : Mission d’assistance architecturale – Convention à intervenir entre la commune et le CAUE (Conseil d’Architecture\, d’Urbanisme et de l’Environnement) pour l’année 2024\nAFFAIRE N° 2.3 : Mission de conseil dans le domaine du logement – Convention à intervenir entre la commune et l’ADIL (Agence Départementale pour l’Information sur le Logement) pour l’année 2024\nAFFAIRE N° 2.4 : Mandat de maîtrise d’ouvrage « Aménagement de la place de l’église de la commune de Trois Bassins » – Compte Rendu d’Activité – Année 2022\nAFFAIRE N° 2.5 : Avis sur la proposition de composition de la Conférence Régionale de Gouvernance de la politique de réduction de l’artificialisation des sols instaurée par la loi 2023-630 du 20 juillet 2023 visant à faciliter la mise en œuvre des objectifs de lutte contre l’artificialisation des sols et à renforcer l’accompagnement des élus locaux\nAFFAIRE N° 2.6 : Dénomination de voies\n\n \n3- RH\n\nAFFAIRE N° 3.1 : Rapport Social Unique (RSU) 2022 – VILLE\nAFFAIRE N° 3.2 : Convention d’adhésion à la mission de médecine préventive du centre de gestion de la fonction publique territoriale de la Réunion\nAFFAIRE N° 3.3 : Convention d’adhésion à la mission d’hygiène et sécurité du centre de gestion de la fonction publique territoriale de la Réunion\nAFFAIRE N° 3.4 : Modification du tableau des effectifs par création de postes – Création de deux emplois non permanents\nAFFAIRE N° 3.5 : Modification du tableau des effectifs par création de poste – Contrat de projet – Animateur de la case rurale\nAFFAIRE N° 3.6 : Modification du tableau des effectifs\nAFFAIRE N° 3.7 : Personnel communal – Création de postes : Parcours Emploi Compétences pour 2024\n\n  \n4- COMMANDE PUBLIQUE\n\nAFFAIRE N° 4.1 : Délégations d’attributions au Maire – Compte rendu des décisions prises_Marchés publics\n\n  \n5- FINANCES\n\nAFFAIRE N° 5.1 : Délégations d’attributions au Maire – Compte rendu des décisions prises _ Demande de subventions à l’Etat ou à d’autres collectivités territoriales\nAFFAIRE N° 5.2 : Régie principale unique mixte (avances et recettes) – Elargissement du champ de compétence\nAFFAIRE N° 5.3 : Créances irrécouvrables – Admissions en non-valeurs et créances éteintes – Budget principal\nAFFAIRE N° 5.4 : Ouverture spéciale des crédits – Section d’investissement 2024\nAFFAIRE N° 5.5 : Budget Principal – Décision Modificative N° 1 pour l’exercice 2023\nAFFAIRE N° 5.6 : Attribution d’une bourse au Lycée Paule Pignolet de Fresne Rivière de Trois Bassins\nAFFAIRE N° 5.7 : Subventions aux associations\n\n  \n6- MANDATS\n\nAFFAIRE N° 6.1 : Maintien ou non des fonctions des adjoint(e)s au Maire\, après retrait de l’ensemble de leurs délégations\nAFFAIRE N° 6.2 : Détermination du nombre des adjoints au Maire et fixation de l’ordre des adjoints\nAFFAIRE N° 6.3 : Election des nouveaux adjoints au Maire\nAFFAIRE N° 6.4 : Indemnités de fonction des élus municipaux\n\n			\n			\n				\n				\n				\n				\n			\n				\n				\n				\n				\n				\n				\n				Les délibérations du Conseil Municipal
URL:https://trois-bassins.re/event/conseil-municipal-7/
LOCATION:Mairie\, 2 Rue du General de Gaulle\, Trois-Bassins\, 97426\, Réunion
CATEGORIES:Culture,Education,Enquête,Santé,Sport
ATTACH;FMTTYPE=image/jpeg:https://trois-bassins.re/wp-content/uploads/2022/11/conseil-municipal1.jpg
END:VEVENT
END:VCALENDAR