BEGIN:VCALENDAR
VERSION:2.0
PRODID:-//Ville de Trois-Bassins - ECPv6.15.20//NONSGML v1.0//EN
CALSCALE:GREGORIAN
METHOD:PUBLISH
X-WR-CALNAME:Ville de Trois-Bassins
X-ORIGINAL-URL:https://trois-bassins.re
X-WR-CALDESC:Évènements pour Ville de Trois-Bassins
REFRESH-INTERVAL;VALUE=DURATION:PT1H
X-Robots-Tag:noindex
X-PUBLISHED-TTL:PT1H
BEGIN:VTIMEZONE
TZID:Indian/Reunion
BEGIN:STANDARD
TZOFFSETFROM:+0400
TZOFFSETTO:+0400
TZNAME:+04
DTSTART:20220101T000000
END:STANDARD
END:VTIMEZONE
BEGIN:VEVENT
DTSTART;TZID=Indian/Reunion:20231027T103000
DTEND;TZID=Indian/Reunion:20231027T110500
DTSTAMP:20260421T065240
CREATED:20231002T071244Z
LAST-MODIFIED:20231002T071253Z
UID:381590-1698402600-1698404700@trois-bassins.re
SUMMARY:Contes - Zistwar à dormir debout
DESCRIPTION:Vendredi 27 octobre\n(10h30 – 11h05) à l’Alambic\n			\n				\n				\n				\n				\n				Avec l’équipe de la médiathèque\n			\n				\n				\n				\n				\n				\nà partir de 6 ans\n\n			\n				\n				\n				\n				\n				Venez découvrir notre sélection d’ouvrages et écouter nos « zistwar lontan »\, qui font un petit peu peur\, mais pas trop… \n			\n				\n				\n				\n				\n				Sur inscription à l’accueil ; gratuit dans la limite des places disponibles ; informations au 0262 74 56 91
URL:https://trois-bassins.re/event/contes-zistwar-a-dormir-debout/
CATEGORIES:Culture,Education
ATTACH;FMTTYPE=image/png:https://trois-bassins.re/wp-content/uploads/2023/09/zistwar-a-dormir-debout.png
END:VEVENT
BEGIN:VEVENT
DTSTART;TZID=Indian/Reunion:20231030T183000
DTEND;TZID=Indian/Reunion:20231030T183000
DTSTAMP:20260421T065240
CREATED:20231009T125206Z
LAST-MODIFIED:20231026T050117Z
UID:381855-1698690600-1698690600@trois-bassins.re
SUMMARY:Réunion Publique - Révision du PLU
DESCRIPTION:REUNION PUBLIQUE – CONCERTATION PRÉALABLE RÉVISION DU PLU *\nLundi 30 Octobre 2023 – 18h00\nà l’Alambic – Salle Verte \n(28 rue Georges Brassens 97426 Trois Bassins) \n			\n				\n				\n				\n				\n				La commune engage la révision de son PLU ! Koza zot y di?\nLa 1ère réunion publique de concertation préalable à la révision du Plan Local d’Urbanisme (PLU) se déroulera\, lundi 30 octobre 2023 à 18h00 à l’Alambic de Trois Bassins. \nUne réunion en 2 temps:\n\nInformation sur le PLU de Trois Bassins – Qu’est ce que c’est le PLU? Quelles évolutions pour la commune ?\nTemps de parole – Echanges avec les urbanistes\n\n			\n				\n				\n				\n				\n				*Plan Local d’Urbanisme
URL:https://trois-bassins.re/event/reunion-publique-revisions-du-plu/
LOCATION:Pôle Culturel et Sportif\, 28 rue Georges BRASSENS\, TROIS BASSINS\, 97426\, Réunion
CATEGORIES:Culture,Education,Enquête,Santé
ATTACH;FMTTYPE=image/png:https://trois-bassins.re/wp-content/uploads/2023/10/Site-prog-19.png
END:VEVENT
END:VCALENDAR