BEGIN:VCALENDAR
VERSION:2.0
PRODID:-//Ville de Trois-Bassins - ECPv6.15.20//NONSGML v1.0//EN
CALSCALE:GREGORIAN
METHOD:PUBLISH
X-ORIGINAL-URL:https://trois-bassins.re
X-WR-CALDESC:Évènements pour Ville de Trois-Bassins
REFRESH-INTERVAL;VALUE=DURATION:PT1H
X-Robots-Tag:noindex
X-PUBLISHED-TTL:PT1H
BEGIN:VTIMEZONE
TZID:Indian/Reunion
BEGIN:STANDARD
TZOFFSETFROM:+0400
TZOFFSETTO:+0400
TZNAME:+04
DTSTART:20250101T000000
END:STANDARD
END:VTIMEZONE
BEGIN:VEVENT
DTSTART;TZID=Indian/Reunion:20260423T180000
DTEND;TZID=Indian/Reunion:20260423T190000
DTSTAMP:20260423T201353
CREATED:20260417T102418Z
LAST-MODIFIED:20260417T102429Z
UID:395094-1776967200-1776970800@trois-bassins.re
SUMMARY:Conseil Municipal
DESCRIPTION:La réunion du Conseil Municipal se tiendra le jeudi 23 avril 2026 à 18h00 à l’hôtel de ville de Trois Bassins (salle du conseil municipal) \n			\n				\n				\n				\n				\n				ORDRE DU JOUR\n			\n				\n				\n				\n				\n				1- AFFAIRES GENERALES\n\nAFFAIRE N° 1.1 : Approbation du contenu de la rédaction du procès-verbal des délibérations en date du 09 avril 2026\nAFFAIRE N° 1.2 : Modification des statuts de la SPL ENERGIES REUNION : Réduction du nombre de sièges au Conseil d’Administration et modification de l’objet social\nAFFAIRE N° 1.3 : Rapport des mandataires 2024 – SPL MARAINA\nAFFAIRE N° 1.4 : Rapport de gestion 2025 – SPL TI BABA\nAFFAIRE N° 1.5 : Régulation des collections de la bibliothèque\n\n2- AMENAGEMENT\n3- RH\n\nModification du tableau des emplois et des effectifs par création de postes – Emplois non permanents – Accroissement temporaire d’activité\n\n4- COMMANDE PUBLIQUE\n5- MANDAT\n\nAFFAIRE N° 5.1 : Renouvellement des membres de la Commission communale des impôts\nAFFAIRE N° 5.2 : Représentation de la commune au sein du Conseil d’Administration de la SAFER Réunion\n\n6- FINANCES\n\nAFFAIRE N° 6.1 : Compte Financier Unique (CFU) pour l’exercice 2025 – Budget Principal\nAFFAIRE N° 6.2 : Compte Financier Unique (CFU) pour l’exercice 2025 – Budget Fossoyage\nAFFAIRE N° 6.3 : Affectation du résultat de l’exercice 2025 – Budget Principal\nAFFAIRE N° 6.4 : Vote des taux d’imposition des taxes locales pour l’année 2026\nAFFAIRE N° 6.5 : Budget Primitif pour l’exercice 2026 – Budget Principal\nAFFAIRE N° 6.6 : Budget Primitif pour l’exercice 2026 – Budget Service Extérieur des Pompes Funèbres\nAFFAIRE N° 6.7 : Demande d’habilitation auprès de la Direction Générale des Finances Publiques (DGFIP) pour la mise en place du dispositif API Particulier développé par la Direction Interministérielle du Numérique (DINUM)\nAFFAIRE N° 6.8 : Avenant 1 à la convention du Pacte Département et Territoires (PDT)\nAFFAIRE N° 6.9 : Contrat Territoire-Lecture (CTL) 2026 – 2028\n\n			\n			\n				\n				\n				\n				\n			\n				\n				\n				\n				\n				\n				\n				Les délibérations du Conseil Municipal
URL:https://trois-bassins.re/event/conseil-municipal-22/
LOCATION:Mairie\, 2 Rue du General de Gaulle\, Trois-Bassins\, 97426\, Réunion
CATEGORIES:Culture,Education,Enquête,Santé,Sport
ATTACH;FMTTYPE=image/webp:https://trois-bassins.re/wp-content/uploads/2022/11/conseil-municipal1.webp
END:VEVENT
BEGIN:VEVENT
DTSTART;TZID=Indian/Reunion:20260425T080000
DTEND;TZID=Indian/Reunion:20260425T120000
DTSTAMP:20260423T201353
CREATED:20260423T073719Z
LAST-MODIFIED:20260423T073729Z
UID:395155-1777104000-1777118400@trois-bassins.re
SUMMARY:Lodér mon pei
DESCRIPTION:Lodér mon pei avec l’association Zespri Alambic \n\nUne douce odeur de café flotte dans l’air…\n\nCe samedi 25 avril\, laissez-vous tenter par un moment chaleureux autour d’un café torréfié avec passion par une association de quartier Zespri Alambic. Une invitation à ralentir\, à partager et à savourer ensemble\, comme un doux souvenir du temps d’avant. \nProfiter de cet instant convivial pour (re)découvrir nos traditions\, échanger avec vos voisins et créer du lien\, en famille\, entre amis ou même en solo pour faire de belles rencontres. \nUne belle initiative de quartier qui nous rappelle que les moments simples sont souvent les plus précieux. \n107 rue Henri Aubert – Quartier MONTVERT TROIS BASSINS
URL:https://trois-bassins.re/event/loder-mon-pei/
LOCATION:Zespri Alambic\, 107 rue Henri Aubert\, Trois Bassins
CATEGORIES:Culture,Education,Santé
ATTACH;FMTTYPE=image/png:https://trois-bassins.re/wp-content/uploads/2026/04/PROG-500X500-8.webp
END:VEVENT
BEGIN:VEVENT
DTSTART;TZID=Indian/Reunion:20260425T100000
DTEND;TZID=Indian/Reunion:20260425T110000
DTSTAMP:20260423T201353
CREATED:20260331T060236Z
LAST-MODIFIED:20260331T060245Z
UID:394903-1777111200-1777114800@trois-bassins.re
SUMMARY:Racontaz zistoir avec Sully Andoche
DESCRIPTION:JE LIS UN LIVRE PÉI ! \n\nCONTE créole / “ Talèr bébèt i vyin ! ” racontaz zistoir \nAvec Sully Andoche (conteur) \nDurée : lecture 1H  \n\n  \n”Na lontan minm\, pli lontan èk in bout\, lavé in zinn zan mizèr. Domoun té kri ali ZanSanlswin. Li té sitèlman bonkèr\, in zour li la sov in sat té pou krèv la fin. Somansa\, néna in diab la déboulé … “ \nAlor si zot i vé conèt la suite lo zistoir\, Sully Andoche i aten’ a zot la Médiatek Trois Bassins ! \n—–  \n« Il y a très longtemps\, encore plus longtemps qu’on ne peut l’imaginer\, vivait un jeune homme très pauvre. On l’appelait ZanSanlswin. Il était tellement généreux qu’un jour\, il sauva un chat qui allait mourir de faim. C’est alors qu’un diable surgit… » \nSi vous voulez connaitre la suite de l’histoire\, Sully Andoche vous attend à la Médiathèque de Trois Bassins. \n—– \n\nSur inscription à l’accueil de la Médiathèque ou par téléphone au 0262 91 55 64
URL:https://trois-bassins.re/event/racontaz-zistoir-avec-sully-andoche/
LOCATION:Pôle Culturel et Sportif\, 28 rue Georges BRASSENS\, TROIS BASSINS\, 97426\, Réunion
CATEGORIES:Culture,Education
ATTACH;FMTTYPE=image/png:https://trois-bassins.re/wp-content/uploads/2026/03/6.webp
END:VEVENT
BEGIN:VEVENT
DTSTART;TZID=Indian/Reunion:20260428T080000
DTEND;TZID=Indian/Reunion:20260428T170000
DTSTAMP:20260423T201353
CREATED:20260223T112728Z
LAST-MODIFIED:20260301T090431Z
UID:394587-1777363200-1777395600@trois-bassins.re
SUMMARY:L'association Les Capucines du Bois Joli se mobilise
DESCRIPTION:🍰 Gourmandises solidaires pour soutenir les projets des écoles Bois Joli Cœur et Capucines !\n📅 Mardi 28 avril🕞 À 15h30\, à la sortie des classes des Capucines et de Bois Joli Cœur \n\n🤝 Participez et soutenez l’association !\nVous aimez cuisiner ou souhaitez simplement donner un coup de main ? Voici comment vous impliquer : \n\n\nDéposez un gâteau en amenant votre enfant à l’école. \n\n\nOu rejoignez l’association dès 15h15 pour préparer le stand et participer à la vente. \n\n\nChaque contribution gourmande compte pour soutenir les activités de l’association ! 😋 \n📧 Pour plus d’informations sur l’association :Envoyez un mail à lescapucinesduboisjoli@gmail.com ou contactez Céline au 06 92 08 53 53. \n			\n				\n				\n				\n				\n				🌸 L’association des parents d’élèves – Les Capucines du Bois Joli\nL’association Les Capucines du Bois Joli a été créée par les parents d’élèves de l’école primaire Bois Joli Cœur\, qui comprend les classes maternelles des Capucines et les classes élémentaires Bois Joli Cœur. Régie par la loi 1901\, elle a pour objectif de : \n\n\nCréer du lien entre parents\, équipe pédagogique et direction. \n\n\nSoutenir et entraider les familles au quotidien. \n\n\nInformer et accompagner les enfants sur différents sujets (prévention\, aide aux devoirs\, activités éducatives). \n\n\nOrganiser des activités conviviales pour financer des projets pédagogiques et sorties scolaires (ventes de gâteaux\, lotos\, tombolas…). \n\n\nProposer des animations ludiques tout au long de l’année (kermesse\, Noël\, Pâques\, fêtes des mères…) et des sorties pendant les week-ends ou vacances scolaires. \n\n\nUne association active\, conviviale et engagée pour le bien-être et l’épanouissement des enfants !
URL:https://trois-bassins.re/event/lassociation-les-capucines-du-bois-joli-se-mobilise/
LOCATION:Parking de l’Eglise de Trois-Bassins\, 7 rue Georges Brassens
CATEGORIES:Culture,Education,Santé
ATTACH;FMTTYPE=image/png:https://trois-bassins.re/wp-content/uploads/2026/02/PROG-500X500-1.webp
END:VEVENT
BEGIN:VEVENT
DTSTART;TZID=Indian/Reunion:20260429T090000
DTEND;TZID=Indian/Reunion:20260429T120000
DTSTAMP:20260423T201353
CREATED:20260422T100304Z
LAST-MODIFIED:20260422T100315Z
UID:395129-1777453200-1777464000@trois-bassins.re
SUMMARY:Job dating - Mob'île interim
DESCRIPTION:📣 Job Dating à Trois-Bassins !\n			\n				\n				\n				\n				\n				L’agence Mob’île Intérim vient à votre rencontre pour une matinée dédiée à l’emploi 🤝 \n📆 Mercredi 29 avril 2026📍 Centre Communal du Littoral – 6 allée des Filaos⌚ De 9h à 12h \n👉 Vous êtes à la recherche d’un emploi ou de missions en intérim ?Venez échanger directement avec des recruteurs et saisir de nouvelles opportunités ! \n⚠️ Pensez à apporter votre CV \nUne occasion à ne pas manquer pour booster votre parcours professionnel ! \nOuvert à toutes et à tous – venez nombreux ! \n			\n				\n				\n				\n				\n				www.serviceinterim.fr \n 
URL:https://trois-bassins.re/event/job-dating-mobile-interim/
LOCATION:Centre communal du Littoral\, 6 allée des Filaos\, Trois Bassins
CATEGORIES:Culture,Education,Enquête,Santé,Sport
ATTACH;FMTTYPE=image/jpeg:https://trois-bassins.re/wp-content/uploads/2026/04/PROG-500X500-1.webp
END:VEVENT
END:VCALENDAR