BEGIN:VCALENDAR
VERSION:2.0
PRODID:-//Ville de Trois-Bassins - ECPv6.15.20//NONSGML v1.0//EN
CALSCALE:GREGORIAN
METHOD:PUBLISH
X-ORIGINAL-URL:https://trois-bassins.re
X-WR-CALDESC:Évènements pour Ville de Trois-Bassins
REFRESH-INTERVAL;VALUE=DURATION:PT1H
X-Robots-Tag:noindex
X-PUBLISHED-TTL:PT1H
BEGIN:VTIMEZONE
TZID:Indian/Reunion
BEGIN:STANDARD
TZOFFSETFROM:+0400
TZOFFSETTO:+0400
TZNAME:+04
DTSTART:20250101T000000
END:STANDARD
END:VTIMEZONE
BEGIN:VEVENT
DTSTART;TZID=Indian/Reunion:20260212T130000
DTEND;TZID=Indian/Reunion:20271223T160000
DTSTAMP:20260420T003605
CREATED:20260209T110652Z
LAST-MODIFIED:20260301T090430Z
UID:394437-1770901200-1829577600@trois-bassins.re
SUMMARY:Initiation Mahjong
DESCRIPTION:INITIATION MAHJONG \n			\n				\n				\n				\n				\n				\n\ntout public\n\nVenez découvrir ce jeu ancestral de Chine\, avec l’association les Bambous. 100% bonne humeur pour découvrir le jeu\, s’améliorer ou tout simplement s’amuser ! \nLe mahjong est un jeu de société d’origine chinoise qui se joue à quatre joueurs. Le mot vient du chinois májiang en mandarin. Ce jeu ancestral est le plus populaire de Chine. On y joue à tout âge et quelque soit son niveau social. En Chine\, un foyer sur deux possède un jeu de Mah-Jong. \nRenseignements sur place aux horaires des ateliers \nTous les jeudis à partir de 13h00
URL:https://trois-bassins.re/event/initiation-mahjong-2/
LOCATION:Pôle Culturel et Sportif\, 28 rue Georges BRASSENS\, TROIS BASSINS\, 97426\, Réunion
CATEGORIES:Culture
ATTACH;FMTTYPE=image/jpeg:https://trois-bassins.re/wp-content/uploads/2024/04/initiation-mahjong-even.jpg
END:VEVENT
END:VCALENDAR