BEGIN:VCALENDAR
VERSION:2.0
PRODID:-//Ville de Trois-Bassins - ECPv6.15.20//NONSGML v1.0//EN
CALSCALE:GREGORIAN
METHOD:PUBLISH
X-WR-CALNAME:Ville de Trois-Bassins
X-ORIGINAL-URL:https://trois-bassins.re
X-WR-CALDESC:Évènements pour Ville de Trois-Bassins
REFRESH-INTERVAL;VALUE=DURATION:PT1H
X-Robots-Tag:noindex
X-PUBLISHED-TTL:PT1H
BEGIN:VTIMEZONE
TZID:Indian/Reunion
BEGIN:STANDARD
TZOFFSETFROM:+0400
TZOFFSETTO:+0400
TZNAME:+04
DTSTART:20230101T000000
END:STANDARD
END:VTIMEZONE
BEGIN:VEVENT
DTSTART;VALUE=DATE:20240501
DTEND;VALUE=DATE:20241129
DTSTAMP:20260426T055756
CREATED:20231030T081216Z
LAST-MODIFIED:20241128T043208Z
UID:381630-1714521600-1732838399@trois-bassins.re
SUMMARY:Applications pour tout apprendre
DESCRIPTION:Accès gratuit et illimité au pack Loisirs\n			\n				\n				\n				\n				\n				\ntout public\n\n			\n				\n				\n				\n				\n				Optez pour le pack Loisirs\, gratuit et illimité\, des applications sur smartphone\, tablette\, ordinateur qui permettent de tout apprendre. \nÀ votre disposition retrouvez : \n\n66 000 livres\, 3 300 BD\, 6500 livres audio et le bouquet presse plus de 200 titres\, des cours en lignes…\n\nDemandez votre code d’accès gratuit à l’accueil de la médiathèque !
URL:https://trois-bassins.re/event/applications-pour-tout-apprendre/
LOCATION:Pôle Culturel et Sportif\, 28 rue Georges BRASSENS\, TROIS BASSINS\, 97426\, Réunion
CATEGORIES:Culture,Education
ATTACH;FMTTYPE=image/png:https://trois-bassins.re/wp-content/uploads/2023/09/application.png
END:VEVENT
BEGIN:VEVENT
DTSTART;VALUE=DATE:20240503
DTEND;VALUE=DATE:20240519
DTSTAMP:20260426T055756
CREATED:20240429T052750Z
LAST-MODIFIED:20240429T053453Z
UID:385549-1714694400-1716076799@trois-bassins.re
SUMMARY:Exposition Cyanotype
DESCRIPTION:Exposition de Cyanotype – Karine Maussière\n			\n				\n				\n				\n				\n				\n\ntout public\n\nC’est à partir des formes végétales que Karine Maussière s’inspire. En s’appropriant les formes et motifs des forêts sombres tropicales\, elle décline sous la forme de photogrammes troncs fins\, branches\, feuilles\, réalisés au cyanotype sur des tissus grand format. Elle souhaite construire des compositions où se conjuguent les formes nettes des feuilles et des bois tout en évoquant leur évanescence. Ces cyanotypes sur tissus de 2m50 sont un hommage à l’éphémère fragilité du vivant et à leur beauté fugace. \n 
URL:https://trois-bassins.re/event/exposition-cyanotype/
LOCATION:Pôle Culturel et Sportif\, 28 rue Georges BRASSENS\, TROIS BASSINS\, 97426\, Réunion
CATEGORIES:Culture,Education
ATTACH;FMTTYPE=image/jpeg:https://trois-bassins.re/wp-content/uploads/2024/04/exposition-cyanotype-even.jpg
END:VEVENT
BEGIN:VEVENT
DTSTART;TZID=Indian/Reunion:20240515T100000
DTEND;TZID=Indian/Reunion:20240515T120000
DTSTAMP:20260426T055756
CREATED:20240429T072632Z
LAST-MODIFIED:20240429T073431Z
UID:385599-1715767200-1715774400@trois-bassins.re
SUMMARY:Rencontre avec Olivier Giraud
DESCRIPTION:Rencontre avec Olivier Giraud – Dessinateur et Scénariste de Bandes Dessinées\n			\n				\n				\n				\n				\n				\ntout public\n\n\nVenez rencontrer Olivier Giraud dessinateur et scénariste de bandes dessinées à la médiathèque ! En partenariat avec la Réunion des livres.
URL:https://trois-bassins.re/event/rencontre-avec-olivier-giraud/
LOCATION:Pôle Culturel et Sportif\, 28 rue Georges BRASSENS\, TROIS BASSINS\, 97426\, Réunion
CATEGORIES:Culture,Education
ATTACH;FMTTYPE=image/jpeg:https://trois-bassins.re/wp-content/uploads/2024/04/rencontre-avec-olivier-giraud-even.jpg
END:VEVENT
BEGIN:VEVENT
DTSTART;TZID=Indian/Reunion:20240515T140000
DTEND;TZID=Indian/Reunion:20240515T150000
DTSTAMP:20260426T055756
CREATED:20240429T070116Z
LAST-MODIFIED:20240429T070945Z
UID:385575-1715781600-1715785200@trois-bassins.re
SUMMARY:Aventures z'animées
DESCRIPTION:Aventures z’animées – Avec la Cie Pied2nez Rouge\n			\n				\n				\n				\n				\n				\nà partir de 5 ans\n\nTHÉATRE MUSICAL DESSINÉ \nAl’bert Taximan se réveille et commence en retard une nouvelle journée. Tous les spectateurs sont des passagers du Taxi\, et attendent le départ. La Roue des Destinations détermine la route finale. Le Taxi démarre\, Al’bert allume l’auto-radio\, et tombe sur sa radio préférée : « Radio waf la radio qui a du Chien » Radio dont les parties musicales et les informations ponctuent son voyage. Tout va bien sur la route\, quand tout à coup\, un oiseau fatigué tombe du ciel\, et percute le taxi : Un Jeune PETREL ! \nPlus d’informations à l’accueil de médiathèque ou au 0262 74 56 91
URL:https://trois-bassins.re/event/aventures-zanimees/
LOCATION:Pôle Culturel et Sportif\, 28 rue Georges BRASSENS\, TROIS BASSINS\, 97426\, Réunion
CATEGORIES:Culture,Education
ATTACH;FMTTYPE=image/jpeg:https://trois-bassins.re/wp-content/uploads/2024/04/aventures-zanimees-even.jpg
END:VEVENT
END:VCALENDAR