BEGIN:VCALENDAR
VERSION:2.0
PRODID:-//Ville de Trois-Bassins - ECPv6.15.20//NONSGML v1.0//EN
CALSCALE:GREGORIAN
METHOD:PUBLISH
X-WR-CALNAME:Ville de Trois-Bassins
X-ORIGINAL-URL:https://trois-bassins.re
X-WR-CALDESC:Évènements pour Ville de Trois-Bassins
REFRESH-INTERVAL;VALUE=DURATION:PT1H
X-Robots-Tag:noindex
X-PUBLISHED-TTL:PT1H
BEGIN:VTIMEZONE
TZID:Indian/Reunion
BEGIN:STANDARD
TZOFFSETFROM:+0400
TZOFFSETTO:+0400
TZNAME:+04
DTSTART:20250101T000000
END:STANDARD
END:VTIMEZONE
BEGIN:VEVENT
DTSTART;TZID=Indian/Reunion:20260212T130000
DTEND;TZID=Indian/Reunion:20271223T160000
DTSTAMP:20260419T213808
CREATED:20260209T110652Z
LAST-MODIFIED:20260301T090430Z
UID:394437-1770901200-1829577600@trois-bassins.re
SUMMARY:Initiation Mahjong
DESCRIPTION:INITIATION MAHJONG \n			\n				\n				\n				\n				\n				\n\ntout public\n\nVenez découvrir ce jeu ancestral de Chine\, avec l’association les Bambous. 100% bonne humeur pour découvrir le jeu\, s’améliorer ou tout simplement s’amuser ! \nLe mahjong est un jeu de société d’origine chinoise qui se joue à quatre joueurs. Le mot vient du chinois májiang en mandarin. Ce jeu ancestral est le plus populaire de Chine. On y joue à tout âge et quelque soit son niveau social. En Chine\, un foyer sur deux possède un jeu de Mah-Jong. \nRenseignements sur place aux horaires des ateliers \nTous les jeudis à partir de 13h00
URL:https://trois-bassins.re/event/initiation-mahjong-2/
LOCATION:Pôle Culturel et Sportif\, 28 rue Georges BRASSENS\, TROIS BASSINS\, 97426\, Réunion
CATEGORIES:Culture
ATTACH;FMTTYPE=image/jpeg:https://trois-bassins.re/wp-content/uploads/2024/04/initiation-mahjong-even.jpg
END:VEVENT
BEGIN:VEVENT
DTSTART;TZID=Indian/Reunion:20260223T080000
DTEND;TZID=Indian/Reunion:20261231T170000
DTSTAMP:20260419T213808
CREATED:20260223T093351Z
LAST-MODIFIED:20260223T093351Z
UID:394544-1771833600-1798736400@trois-bassins.re
SUMMARY:Book day _ Le livre du jour
DESCRIPTION:BOOK DAY – « Le livre du jour »\n			\n				\n				\n				\n				\n				📚 Book Day à la Médiathèque – Tous les vendredis ! \nPlutôt roman\, conte\, BD… ou envie de surprise ? \nChaque vendredi\, venez découvrir et emprunter les coups de cœur des lecteurs et des médiathécaires. Une sélection variée pour tous les goûts et tous les âges\, à explorer librement. \nUn moment convivial pour échanger\, feuilleter\, partager… et repartir avec votre prochaine lecture préférée ! \n📅 Rendez-vous tous les vendredis à la Médiathèque de Trois Bassins📖 Parce qu’un vendredi\, c’est encore mieux avec un bon livre !
URL:https://trois-bassins.re/event/book-day-_-le-livre-du-jour/
LOCATION:Pôle Culturel et Sportif\, 28 rue Georges BRASSENS\, TROIS BASSINS\, 97426\, Réunion
CATEGORIES:Culture,Education
ATTACH;FMTTYPE=image/jpeg:https://trois-bassins.re/wp-content/uploads/2024/01/even-book-day.jpg
END:VEVENT
BEGIN:VEVENT
DTSTART;TZID=Indian/Reunion:20260223T080000
DTEND;TZID=Indian/Reunion:20261231T170000
DTSTAMP:20260419T213808
CREATED:20260223T101419Z
LAST-MODIFIED:20260223T101419Z
UID:394579-1771833600-1798736400@trois-bassins.re
SUMMARY:Espace jeux vidéo - PS5
DESCRIPTION:​🎮 Espace Jeux Vidéo – PS5\n📅 Horaires réguliers : \n\n\nMercredis : 10h – 12h | 13h30 – 16h30 \n\n\nSamedis : 9h30 – 11h30 \n\nPendant les vacances : Tous les jours 10h – 12h | 14h – 16h\n\n  \n\n✨ Venez jouer sur PS5 !\nUn espace dédié aux amateurs de jeux vidéo pour s’amuser\, découvrir et partager autour de la PS5. Que vous soyez débutant ou gamer confirmé\, des moments de jeu conviviaux vous attendent. \nImportant : \n\n\nInscription obligatoire à la Médiathèque au 0262 91 55 64 \n\n\nAutorisation parentale nécessaire pour les mineurs \n\n\nVoir les conditions d’utilisation à l’accueil \n\n\nVenez tester vos réflexes et relever les défis dans un cadre sécurisé et encadré !
URL:https://trois-bassins.re/event/espace-jeux-video-ps5/
LOCATION:Pôle Culturel et Sportif\, 28 rue Georges BRASSENS\, TROIS BASSINS\, 97426\, Réunion
CATEGORIES:Culture,Education,Sport
ATTACH;FMTTYPE=image/png:https://trois-bassins.re/wp-content/uploads/2023/07/Prog-SITE-MAI-2.png
END:VEVENT
BEGIN:VEVENT
DTSTART;TZID=Indian/Reunion:20260304T080000
DTEND;TZID=Indian/Reunion:20260311T160000
DTSTAMP:20260419T213808
CREATED:20260223T075435Z
LAST-MODIFIED:20260223T075435Z
UID:394517-1772611200-1773244800@trois-bassins.re
SUMMARY:Gaming - les vacances numériques
DESCRIPTION:Les Vacances Numériques – Spécial Jeux & Gaming 🎮 \nPlonge dans l’univers du gaming pendant Les Vacances Numériques ! Deux journées dédiées aux jeux vidéo\, à la découverte et au fun t’attendent dans une ambiance conviviale et dynamique. \n📅 4 mars | 13h – 16h📅 11 mars | 9h – 16h👦👧 À partir de 6 ans \nAu programme : défis gaming\, découverte de nouveaux jeux et moments de partage. \nQue tu sois débutant ou passionné\, viens t’amuser et relever les challenges ! \nUne expérience numérique immersive pour passer des vacances autrement… manette en main ! 🎮
URL:https://trois-bassins.re/event/gaming-les-vacances-numeriques/
LOCATION:Pôle Culturel et Sportif\, 28 rue Georges BRASSENS\, TROIS BASSINS\, 97426\, Réunion
CATEGORIES:Culture,Education,Santé,Sport
ATTACH;FMTTYPE=image/png:https://trois-bassins.re/wp-content/uploads/2026/02/4.webp
END:VEVENT
BEGIN:VEVENT
DTSTART;TZID=Indian/Reunion:20260307T100000
DTEND;TZID=Indian/Reunion:20260307T110000
DTSTAMP:20260419T213808
CREATED:20260223T080324Z
LAST-MODIFIED:20260223T080324Z
UID:394526-1772877600-1772881200@trois-bassins.re
SUMMARY:LES AVENTURES DE MINOUDOU - Le langage des animaux
DESCRIPTION:🎭 Spectacle Jeune Public – Avec l’association Piton des Z’arts \n📅 7 mars à 10h👶 Très jeune public – à partir de 6 mois (accompagné d’un ou des parent(s))⏱ Durée : 30 à 45 minutes \n\n🐱 Minoudou\, le petit chaton aventurier\nMinoudou est un chaton curieux et intrépide.Avec l’accord de sa maman\, Minouchatte\, il part à l’aventure pour découvrir le monde qui l’entoure. \nAu fil de son exploration\, il rencontre les animaux de la ferme : le cochon\, le chien\, la brebis\, l’âne et le corbeau.Chaque rencontre est l’occasion de découvrir leurs particularités et leur langage… en chansons ! 🎵 \nUn spectacle amusant et interactif\, spécialement conçu pour les tout-petits. \n Objectifs du spectacle\nÀ travers les aventures de Minoudou\, les enfants : \n\n\ndécouvrent les animaux de la ferme \n\n\napprennent leurs habitudes et leurs sons \n\n\ndéveloppent leur curiosité \n\n\néveillent leur amour pour la nature \n\n\n\n📌 Sur inscription à l’accueil de la Médiathèque📞 Ou par téléphone au 0262 91 55 64
URL:https://trois-bassins.re/event/les-aventures-de-minoudou-le-langage-des-animaux/
LOCATION:Pôle Culturel et Sportif\, 28 rue Georges BRASSENS\, TROIS BASSINS\, 97426\, Réunion
CATEGORIES:Culture,Education
ATTACH;FMTTYPE=image/png:https://trois-bassins.re/wp-content/uploads/2026/02/1.webp
END:VEVENT
BEGIN:VEVENT
DTSTART;TZID=Indian/Reunion:20260309T080000
DTEND;TZID=Indian/Reunion:20260316T170000
DTSTAMP:20260419T213808
CREATED:20260223T094637Z
LAST-MODIFIED:20260223T094637Z
UID:394552-1773043200-1773680400@trois-bassins.re
SUMMARY:Expo spéciale Journée des droits des Femmes
DESCRIPTION:​🎨 Exposition – Journée Internationale des Droits des Femmes\nDans le cadre de la Journée Internationale des Droits des Femmes\, L’Alambic met à l’honneur des illustratrices péi à travers une exposition engagée et inspirante. \nÀ travers leurs œuvres\, ces artistes locales partagent leurs regards\, leurs sensibilités et leurs voix. Chaque illustration raconte une histoire\, questionne\, célèbre la féminité\, la force\, la résilience et la diversité des parcours de femmes. \nCette exposition est une invitation à découvrir la richesse de la création féminine sur notre territoire\, à soutenir les talents péi et à célébrer l’expression artistique comme vecteur d’émancipation et de dialogue. \nUn rendez-vous culturel fort\, entre art et engagement.  \nAccès libre et gratuit
URL:https://trois-bassins.re/event/expo-speciale-journee-des-droits-des-femmes/
LOCATION:Pôle Culturel et Sportif\, 28 rue Georges BRASSENS\, TROIS BASSINS\, 97426\, Réunion
CATEGORIES:Culture,Education
ATTACH;FMTTYPE=image/png:https://trois-bassins.re/wp-content/uploads/2026/02/6.webp
END:VEVENT
BEGIN:VEVENT
DTSTART;TZID=Indian/Reunion:20260310T090000
DTEND;TZID=Indian/Reunion:20260310T120000
DTSTAMP:20260419T213808
CREATED:20260211T094907Z
LAST-MODIFIED:20260301T090430Z
UID:394482-1773133200-1773144000@trois-bassins.re
SUMMARY:Portes Ouvertes du Baby Bus+ Itinérant
DESCRIPTION:Baby Bus+ vous invite à une journée portes ouvertes sur le thème du mardi gras ! \n📍 Maison de quartier Littoral – Chemin de la Montée Panon📅Mardi 10 mars 2026⏰ De 9h00 à 12h00 \nVenez découvrir le Baby Bus+\, participer à des ateliers ludiques\, rencontrer l’équipe et partager un moment en famille ! \nNous vous attendons nombreux !N’hésitez pas à diffuser l’information autour de vous
URL:https://trois-bassins.re/event/portes-ouvertes-du-baby-bus-itinerant-2/
LOCATION:Maison de Quartier Montée Panon\, 1 chemin des badamiers\, Trois Bassins\, 97426
CATEGORIES:Culture,Education
ATTACH;FMTTYPE=image/jpeg:https://trois-bassins.re/wp-content/uploads/2025/10/test-1.jpg
END:VEVENT
BEGIN:VEVENT
DTSTART;TZID=Indian/Reunion:20260311T133000
DTEND;TZID=Indian/Reunion:20260311T153000
DTSTAMP:20260419T213808
CREATED:20260223T080959Z
LAST-MODIFIED:20260223T080959Z
UID:394535-1773235800-1773243000@trois-bassins.re
SUMMARY:Là-haut
DESCRIPTION:🎬 Projection Film d’Animation – Là-haut \n🎥 Réalisé par Pete Docter📅 Mercredi 11 mars 2026⏱ Durée : 1h35 \n🎈 Une aventure haute en couleurs\nQuand Carl\, un grincheux de 78 ans\, décide de réaliser le rêve de sa vie en attachant des milliers de ballons à sa maison pour s’envoler vers l’Amérique du Sud\, il ne s’attend pas à embarquer avec lui Russell\, un jeune explorateur de 9 ans\, enthousiaste… et un peu envahissant ! \nUne aventure drôle\, touchante et pleine d’émotions qui célèbre l’amitié\, le voyage et les rêves d’enfance. \n📌 Sur inscription à l’accueil de la Médiathèque📞 Ou par téléphone au 0262 91 55 64
URL:https://trois-bassins.re/event/la-haut/
LOCATION:Pôle Culturel et Sportif\, 28 rue Georges BRASSENS\, TROIS BASSINS\, 97426\, Réunion
CATEGORIES:Culture,Education
ATTACH;FMTTYPE=image/png:https://trois-bassins.re/wp-content/uploads/2026/02/2-1.webp
END:VEVENT
BEGIN:VEVENT
DTSTART;TZID=Indian/Reunion:20260318T133000
DTEND;TZID=Indian/Reunion:20260318T143000
DTSTAMP:20260419T213808
CREATED:20260223T095736Z
LAST-MODIFIED:20260223T095736Z
UID:394561-1773840600-1773844200@trois-bassins.re
SUMMARY:Poésigraphie
DESCRIPTION:🎭 Poésigraphie – Performance et Atelier\n📅 Mercredi 18 mars 2026 | 13h30👦👧 À partir de 8 ans⏱ Performance : 40 min | Atelier : 1h \n\n✨ Une expérience poétique et graphique\nPoésigraphie est une performance originale et intime qui donne à voir et à entendre les mots.Un trio protéiforme d’artistes – Jean-Philippe Raymond (comédien-poète)\, Franswa Filain (musicien) et Stéphanie Lebon (artiste plasticienne) – invite le public à explorer la poésie autrement\, loin des clichés de l’inaccessible. \nAu fil de la performance\, les poésies prennent vie visuellement et soniquement\, et une œuvre graphique unique est créée en live. \nCe projet artistique\, combinant performance et atelier\, est présenté dans le cadre du dispositif régional GUETALI. \n📌 Sur inscription à l’accueil de la Médiathèque📞 Ou par téléphone au 0262 91 55 64 \nUne expérience pour éveiller l’imaginaire et la créativité des jeunes et des grands !
URL:https://trois-bassins.re/event/poesigraphie/
LOCATION:Pôle Culturel et Sportif\, 28 rue Georges BRASSENS\, TROIS BASSINS\, 97426\, Réunion
CATEGORIES:Culture,Education
ATTACH;FMTTYPE=image/png:https://trois-bassins.re/wp-content/uploads/2026/02/3.webp
END:VEVENT
BEGIN:VEVENT
DTSTART;TZID=Indian/Reunion:20260321T100000
DTEND;TZID=Indian/Reunion:20260321T120000
DTSTAMP:20260419T213808
CREATED:20260223T100656Z
LAST-MODIFIED:20260223T100656Z
UID:394569-1774087200-1774094400@trois-bassins.re
SUMMARY:Atelier créatif - jardin miniature
DESCRIPTION:🌿 Atelier Créatif – Jardin Miniature façon Tsuboniwa\n📅 Samedi 21 mars 2026 | 10h👦👧 À partir de 8 ans📌 Places limitées – sur inscription \n\n✨ Créez votre propre mini-jardin\nApprenez à concevoir un écosystème miniature unique en choisissant vos plantes et vos éléments décoratifs.Guidé par Ker Design Run\, découvrez les techniques d’assemblage et d’entretien pour réaliser votre propre jardin miniature façon Tsuboniwa\, l’art japonais du jardin en miniature. \nUn atelier ludique et créatif qui allie esthétique\, nature et savoir-faire\, idéal pour stimuler imagination et patience. \n\n📌 Inscription à l’accueil de la Médiathèque📞 Ou par téléphone au 0262 91 55 64 \nUn moment créatif à partager et à garder… votre mini-jardin à emporter !
URL:https://trois-bassins.re/event/atelier-creatif-jardin-miniature/
LOCATION:Pôle Culturel et Sportif\, 28 rue Georges BRASSENS\, TROIS BASSINS\, 97426\, Réunion
CATEGORIES:Culture,Education
ATTACH;FMTTYPE=image/png:https://trois-bassins.re/wp-content/uploads/2026/02/PROG-500X500.webp
END:VEVENT
BEGIN:VEVENT
DTSTART;TZID=Indian/Reunion:20260325T133000
DTEND;TZID=Indian/Reunion:20260325T150000
DTSTAMP:20260419T213808
CREATED:20260306T073406Z
LAST-MODIFIED:20260306T073511Z
UID:394702-1774445400-1774450800@trois-bassins.re
SUMMARY:Projection de film et Ti Café La CASE RURALE
DESCRIPTION:🎬 Projection de film & Ti Café La CASE RURALE\n📅 Mercredi 25 mars📍 L’Alambic⏰ 13h30👥 Tout public \nVenez assister à la projection du film « La Monnaie Miraculeuse » d’Urs Egger\, proposée conjointement par les associations Asso Péï et Nout Moné. \nLa projection sera suivie d’un Ti Café La CASE\, un moment d’échange convivial (rondkozé) autour du thème de la circulation d’une monnaie locale à La Réunion. \n☕ Un temps pour partager\, discuter et réfléchir ensemble à l’économie locale. \n⚠️ Places limitées : merci de vous inscrire afin de nous permettre de vous accueillir dans les meilleures conditions. \n📞 Renseignements et inscriptions : 0692 46 07 28 _ caserurale2@ville-troisbassins.re \n			\n			\n				\n				\n				\n				\n			\n				\n				\n				\n				\n				\n				\n				\n				\n				\n				\n				🎬 La Monnaie miraculeuse\nde Urs Egger \n⏱️ 89 min  \nSynopsisDans les années 1930\, un maire autrichien lance une monnaie locale pour sauver l’économie de son village frappé par la crise. Le succès est spectaculaire… mais cette expérience unique finira par être interdite par les autorités. \n\n			\n			\n				\n				\n				\n				\n				\n				\n				\n				\n				\n				 Prévu par les organisateurs\n🍪 Petits encas
URL:https://trois-bassins.re/event/projection-de-film-et-ti-cafe-la-case-rurale/
LOCATION:Pôle Culturel et Sportif\, 28 rue Georges BRASSENS\, TROIS BASSINS\, 97426\, Réunion
CATEGORIES:Culture,Education,Santé
ATTACH;FMTTYPE=image/png:https://trois-bassins.re/wp-content/uploads/2026/03/PROG-500X500-2.webp
END:VEVENT
BEGIN:VEVENT
DTSTART;TZID=Indian/Reunion:20260328T090000
DTEND;TZID=Indian/Reunion:20260328T120000
DTSTAMP:20260419T213808
CREATED:20260325T053403Z
LAST-MODIFIED:20260328T053112Z
UID:394798-1774688400-1774699200@trois-bassins.re
SUMMARY:Installation du conseil municipal
DESCRIPTION:🔴 Conseil municipal en direct\nBienvenue sur la page de diffusion en direct du Conseil municipal de la Ville. \n📅 Date : 28/03/206🕒 Heure : 9h00 \n\n\n\n			\n				\n				\n				\n				\n				\n			\n				\n				\n				\n				\n				ℹ️ Informations importantes\n\n\nLe direct est accessible sans compte Facebook \n\n\nSi la vidéo ne s’affiche pas\, vous pouvez la regarder directement sur Facebook via le lien ci-dessous \n\n\nUn léger décalage (quelques secondes) peut être constaté \n\n\n			\n				▶️ Suivre le direct\n			\n				\n				\n				\n				\n				📝 Ordre du jour\nInstallation du Conseil Municipal\n\nElection du Maire\nFixation du nombre d’adjoints  \nElection des adjoints\nLecture et diffusion de la charte de l’élu local\n\n1- AFFAIRES GENERALE \nAFFAIRE N° 1.1 :          \n\n  Approbation du contenu de la rédaction du procès-verbal des délibérations en date du 30 janvier 2026\n\n5- MANDATS \n\nAFFAIRE N° 5.1 : Délégations d’attributions du Conseil Municipal au Maire\nAFFAIRE N° 5.2 : Désignation des délégués du Conseil Municipal au sein du Conseil d’Administration du CCAS\nAFFAIRE N° 5.3 : Désignation des délégués du Conseil Municipal au sein du Comité de la Caisse des Ecoles\nAFFAIRE N° 5.4 : Désignation des membres de la Commission d’Appel d’Offres\n\n  \n			\n				Arrêté-Municipal-147-2026
URL:https://trois-bassins.re/event/installation-du-conseil-municipal/
LOCATION:Gymnase Denis Pothin\, 45 Georges Brassens\, Trois-Bassins\, 97426\, Réunion
CATEGORIES:Culture,Education,Enquête,Santé,Sport
ATTACH;FMTTYPE=image/jpeg:https://trois-bassins.re/wp-content/uploads/2026/03/PROG-500X500.webp
END:VEVENT
END:VCALENDAR