BEGIN:VCALENDAR
VERSION:2.0
PRODID:-//Ville de Trois-Bassins - ECPv6.15.20//NONSGML v1.0//EN
CALSCALE:GREGORIAN
METHOD:PUBLISH
X-WR-CALNAME:Ville de Trois-Bassins
X-ORIGINAL-URL:https://trois-bassins.re
X-WR-CALDESC:Évènements pour Ville de Trois-Bassins
REFRESH-INTERVAL;VALUE=DURATION:PT1H
X-Robots-Tag:noindex
X-PUBLISHED-TTL:PT1H
BEGIN:VTIMEZONE
TZID:Indian/Reunion
BEGIN:STANDARD
TZOFFSETFROM:+0400
TZOFFSETTO:+0400
TZNAME:+04
DTSTART:20230101T000000
END:STANDARD
END:VTIMEZONE
BEGIN:VEVENT
DTSTART;VALUE=DATE:20240501
DTEND;VALUE=DATE:20241129
DTSTAMP:20260420T060939
CREATED:20231030T081216Z
LAST-MODIFIED:20241128T043208Z
UID:381630-1714521600-1732838399@trois-bassins.re
SUMMARY:Applications pour tout apprendre
DESCRIPTION:Accès gratuit et illimité au pack Loisirs\n			\n				\n				\n				\n				\n				\ntout public\n\n			\n				\n				\n				\n				\n				Optez pour le pack Loisirs\, gratuit et illimité\, des applications sur smartphone\, tablette\, ordinateur qui permettent de tout apprendre. \nÀ votre disposition retrouvez : \n\n66 000 livres\, 3 300 BD\, 6500 livres audio et le bouquet presse plus de 200 titres\, des cours en lignes…\n\nDemandez votre code d’accès gratuit à l’accueil de la médiathèque !
URL:https://trois-bassins.re/event/applications-pour-tout-apprendre/
LOCATION:Pôle Culturel et Sportif\, 28 rue Georges BRASSENS\, TROIS BASSINS\, 97426\, Réunion
CATEGORIES:Culture,Education
ATTACH;FMTTYPE=image/png:https://trois-bassins.re/wp-content/uploads/2023/09/application.png
END:VEVENT
BEGIN:VEVENT
DTSTART;VALUE=DATE:20240529
DTEND;VALUE=DATE:20240627
DTSTAMP:20260420T060939
CREATED:20240429T073622Z
LAST-MODIFIED:20240606T054308Z
UID:384568-1716940800-1719446399@trois-bassins.re
SUMMARY:Atelier Slam
DESCRIPTION:ATELIER SLAM\nAvec Stéphane Fiarda\, en partenariat avec la Croix-Rouge Française\n\nà partir de 8 ans\n\n\nVenez vous amuser avec les mots ! Mettez du style à votre plume. Faites sortir le slameur\, le rappeur\, le poète qui est en vous ! Stéphane & Naëlie\, vous proposent un atelier libre\, écriture et expression corporelle pour tout âge\, ados\, adultes\, enfants à partir de 8 ans. \nSur réservation à l’accueil de la médiathèque ou par téléphone au 0262 74 56 91
URL:https://trois-bassins.re/event/atelier-slam/
LOCATION:Pôle Culturel et Sportif\, 28 rue Georges BRASSENS\, TROIS BASSINS\, 97426\, Réunion
CATEGORIES:Culture
ATTACH;FMTTYPE=image/jpeg:https://trois-bassins.re/wp-content/uploads/2024/02/even-atelier-slam.jpg
END:VEVENT
BEGIN:VEVENT
DTSTART;VALUE=DATE:20240601
DTEND;VALUE=DATE:20240623
DTSTAMP:20260420T060939
CREATED:20240531T095959Z
LAST-MODIFIED:20240531T100013Z
UID:385918-1717200000-1719100799@trois-bassins.re
SUMMARY:Exposition Land Art des Écoles
DESCRIPTION:Exposition Land Art des Écoles « VOL’ART- les oiseaux en land art »\n\n			\n				\n				\n				\n				\n				14 classes des écoles Souris Blanche\, Petit Pont\, Bois Joli Cœur\, Grande Ravine et Bois de Nèfles.\n			\n				\n				\n				\n				\n				\ntout public\n\n\nChaque année\, depuis près de 20 ans les écoles de Saint Leu et de Trois-Bassins conçoivent et exposent leurs créations de Land Art\, œuvres d’art éphémères\, réalisées par les élèves\, à partir de feuilles\, branches\, cailloux et tous autres éléments naturels collectés dans leur environnement. Cette année\, le projet Land Art s’envole et prend de la hauteur pour mieux appréhender le monde vu d’en haut. Intitulé « VOL’ART » \, il invite à créer des oiseaux\, moineaux\, becs roses\, bulbuls\, papangues et autres créatures volantes du règne animal. 14 classes de Trois Bassins ont relevé le défi !
URL:https://trois-bassins.re/event/exposition-land-art-des-ecoles/
LOCATION:Pôle Culturel et Sportif\, 28 rue Georges BRASSENS\, TROIS BASSINS\, 97426\, Réunion
CATEGORIES:Culture,Education
ATTACH;FMTTYPE=image/jpeg:https://trois-bassins.re/wp-content/uploads/2024/05/land-art-even.jpg
END:VEVENT
BEGIN:VEVENT
DTSTART;TZID=Indian/Reunion:20240601T080000
DTEND;TZID=Indian/Reunion:20240814T170000
DTSTAMP:20260420T060939
CREATED:20240531T101518Z
LAST-MODIFIED:20240531T101545Z
UID:385930-1717228800-1723654800@trois-bassins.re
SUMMARY:Réalisation court-métrage - appel à candidature
DESCRIPTION:APPEL À CANDIDATURE – Réalisation d’un court-métrage\nTu as entre 12 et 25 ans ? \nTu vis sur la Commune de Trois Bassins ? \nTu aimerais réaliser un court-métrage ? \nGénération R – de la ruralité au cinéma \nProgramme : \n\nAtelier collectif d’écriture de scénario\nInitiation à la réalisation et au tournage\nInitiation à l’utilisation de matériel audiovisuel\nInitiation au montage\nProjection de film\n\ninformations et inscriptions au 0262 74 56 91 – bibliotheque2@ville-troisbassins.re
URL:https://trois-bassins.re/event/realisation-court-metrage-appel-a-candidature/
LOCATION:Pôle Culturel et Sportif\, 28 rue Georges BRASSENS\, TROIS BASSINS\, 97426\, Réunion
CATEGORIES:Culture,Education
ATTACH;FMTTYPE=image/jpeg:https://trois-bassins.re/wp-content/uploads/2024/05/court-metrage-even.jpg
END:VEVENT
BEGIN:VEVENT
DTSTART;TZID=Indian/Reunion:20240613T083000
DTEND;TZID=Indian/Reunion:20240613T120000
DTSTAMP:20260420T060939
CREATED:20240605T120024Z
LAST-MODIFIED:20240606T072447Z
UID:386002-1718267400-1718280000@trois-bassins.re
SUMMARY:ADIE - Point Info
DESCRIPTION:Point d’information de l’ ADIE  –  Le 13 juin 2024 à La France Services de Trois Bassins\nDu 10 au 14 juin\, l’Association pour le Droit à l’Initiative Economique (ADIE) se déplace sur toute l’île pour accompagner les porteurs de projets à créer ou développer leur entreprise. L’équipe de l’ADIE sera à la France Services de Trois Bassins le 13 juin 2024 de 8H30 à 12H00.
URL:https://trois-bassins.re/event/adie-point-info/
LOCATION:Pôle Culturel et Sportif\, 28 rue Georges BRASSENS\, TROIS BASSINS\, 97426\, Réunion
CATEGORIES:Culture
ATTACH;FMTTYPE=image/jpeg:https://trois-bassins.re/wp-content/uploads/2024/06/Site-prog-47.jpg
END:VEVENT
BEGIN:VEVENT
DTSTART;TZID=Indian/Reunion:20240613T180000
DTEND;TZID=Indian/Reunion:20240613T190000
DTSTAMP:20260420T060939
CREATED:20240611T122520Z
LAST-MODIFIED:20240611T122527Z
UID:386071-1718301600-1718305200@trois-bassins.re
SUMMARY:Conseil Municipal
DESCRIPTION:La réunion du Conseil Municipal se tiendra le jeudi 13 juin 2024 à 18h00 à l’hôtel de ville de Trois Bassins (salle du conseil municipal) \n			\n				\n				\n				\n				\n				ORDRE DU JOUR\n			\n				\n				\n				\n				\n				1- AFFAIRES GENERALES\n\nAFFAIRE N 1.1 : Approbation du contenu de la rédaction du procès-verbal des délibérations en date du 25 avril 2024 ​\nAFFAIRE N 1.2 : Dénomination du stade du Littoral – Jules\, Henri MARDEMOUTOU (dit COUPOU)\n\n3- RH\n\nAFFAIRE N 3.1 : Engagement service civique – Année 2024\nAFFAIRE N 3.2 : Modification du tableau des effectifs par création de postes – Création d’emplois non permanents\n\n5- MANDATS\n\nAFFAIRE N 5.1 : Mandat spécial – Tiers-Lieux/Démonstrateurs des transitions territoriales\n\n6- FINANCES\n\nAFFAIRE N 6.1 : Délégations d’attributions au Maire – Compte rendu des décisions prises_Demande de subventions à l’Etat ou à d’autres collectivités territoriales\nAFFAIRE N 6.2 : Plan de financement n° 2 du programme des travaux 2024/2025 d’éclairage public\nAFFAIRE N 6.3 : Convention portant sur les conditions de recouvrement des produits locaux \nAFFAIRE N 6.4 : Participation complémentaire au GIP-RNMR pour 2024 \nAFFAIRE N 6.5 : Subventions aux associations – Complément \n\n			\n			\n				\n				\n				\n				\n			\n				\n				\n				\n				\n				\n				\n				Les délibérations du Conseil Municipal
URL:https://trois-bassins.re/event/conseil-municipal-11/
LOCATION:Parking Super U Trois Bassins\, 13 rue des Franciseas\, Trois Bassins\, TROIS BASSINS\, 97426\, Reunion
CATEGORIES:Culture,Education,Enquête,Santé,Sport
ATTACH;FMTTYPE=image/webp:https://trois-bassins.re/wp-content/uploads/2022/11/conseil-municipal1.webp
END:VEVENT
END:VCALENDAR