BEGIN:VCALENDAR
VERSION:2.0
PRODID:-//Ville de Trois-Bassins - ECPv6.15.20//NONSGML v1.0//EN
CALSCALE:GREGORIAN
METHOD:PUBLISH
X-WR-CALNAME:Ville de Trois-Bassins
X-ORIGINAL-URL:https://trois-bassins.re
X-WR-CALDESC:Évènements pour Ville de Trois-Bassins
REFRESH-INTERVAL;VALUE=DURATION:PT1H
X-Robots-Tag:noindex
X-PUBLISHED-TTL:PT1H
BEGIN:VTIMEZONE
TZID:Indian/Reunion
BEGIN:STANDARD
TZOFFSETFROM:+0400
TZOFFSETTO:+0400
TZNAME:+04
DTSTART:20230101T000000
END:STANDARD
END:VTIMEZONE
BEGIN:VEVENT
DTSTART;TZID=Indian/Reunion:20240927T090000
DTEND;TZID=Indian/Reunion:20240927T120000
DTSTAMP:20260424T170931
CREATED:20240911T095702Z
LAST-MODIFIED:20240911T100430Z
UID:388030-1727427600-1727438400@trois-bassins.re
SUMMARY:Visite de l'atelier Soja D'Asie
DESCRIPTION:Organisée par la Ville de Trois-Bassins et la SARL Soja d’Asie\, \nVenez à la rencontre de Soja D’Asie\, une entreprise trois-bassinoise qui oeuvre à la proposition d’alternatives alimentaires et qui développe des produits à base de protéines végétales ! \n\nTOUT PUBLIC \ninscription au 06 92 46 07 28\ncaserurale2@ville-troisbassins.re
URL:https://trois-bassins.re/event/visite-de-latelier-soja-dasie/
LOCATION:locaux de soja d’asie\, 6 chemin économique\, Trois Bassins\, 97426\, Réunion
CATEGORIES:Culture,Education,Santé
ATTACH;FMTTYPE=image/jpeg:https://trois-bassins.re/wp-content/uploads/2024/09/soja-dasie-evenement.jpg
END:VEVENT
END:VCALENDAR