BEGIN:VCALENDAR
VERSION:2.0
PRODID:-//Ville de Trois-Bassins - ECPv6.15.20//NONSGML v1.0//EN
CALSCALE:GREGORIAN
METHOD:PUBLISH
X-WR-CALNAME:Ville de Trois-Bassins
X-ORIGINAL-URL:https://trois-bassins.re
X-WR-CALDESC:Évènements pour Ville de Trois-Bassins
REFRESH-INTERVAL;VALUE=DURATION:PT1H
X-Robots-Tag:noindex
X-PUBLISHED-TTL:PT1H
BEGIN:VTIMEZONE
TZID:Indian/Reunion
BEGIN:STANDARD
TZOFFSETFROM:+0400
TZOFFSETTO:+0400
TZNAME:+04
DTSTART:20220101T000000
END:STANDARD
END:VTIMEZONE
BEGIN:VEVENT
DTSTART;TZID=Indian/Reunion:20231025T150000
DTEND;TZID=Indian/Reunion:20231025T150000
DTSTAMP:20260421T080812
CREATED:20231002T074004Z
LAST-MODIFIED:20231002T074014Z
UID:381599-1698246000-1698246000@trois-bassins.re
SUMMARY:Spectacle "Zistwar bébèt"
DESCRIPTION:Mercredi 25 octobre\n(15h) à l’Alambic\n			\n				\n				\n				\n				\n				Cie Lolita Monga\n			\n				\n				\n				\n				\n				\nà partir de 12 ans\n\n			\n				\n				\n				\n				\n				Histoires et légendes de l’île de la Réunion et de l’océan Indien vraies ou fausses… au choix ! \nComme le conteur traditionnel Lolita a puisé son inspiration dans le répertoire universel des contes traditionnels mais aussi des légendes\, des récits de vie\, des romans\, des créations personnelles. Les histoires choisies : un florilège de légendes\, le fantôme dans la treille chouchou\, le trésor\, les scorpions\, Fangana\, l’avion perdu\, Fifine\, Sitarane\, … \nAmbiance bougies\, fumée\, voix modulées et vieux grimoires… \n			\n				\n				\n				\n				\n				Sur inscription et informations au 0262 74 56 91 ; gratuit dans la limite des places disponibles
URL:https://trois-bassins.re/event/spectacle-zistwar-bebet/
LOCATION:Pôle Culturel et Sportif\, 28 rue Georges BRASSENS\, TROIS BASSINS\, 97426\, Réunion
CATEGORIES:Culture
ATTACH;FMTTYPE=image/png:https://trois-bassins.re/wp-content/uploads/2023/09/zistwar-a-dormir-debout-1.png
END:VEVENT
END:VCALENDAR