BEGIN:VCALENDAR
VERSION:2.0
PRODID:-//Ville de Trois-Bassins - ECPv6.15.20//NONSGML v1.0//EN
CALSCALE:GREGORIAN
METHOD:PUBLISH
X-WR-CALNAME:Ville de Trois-Bassins
X-ORIGINAL-URL:https://trois-bassins.re
X-WR-CALDESC:Évènements pour Ville de Trois-Bassins
REFRESH-INTERVAL;VALUE=DURATION:PT1H
X-Robots-Tag:noindex
X-PUBLISHED-TTL:PT1H
BEGIN:VTIMEZONE
TZID:Indian/Reunion
BEGIN:STANDARD
TZOFFSETFROM:+0400
TZOFFSETTO:+0400
TZNAME:+04
DTSTART:20230101T000000
END:STANDARD
END:VTIMEZONE
BEGIN:VEVENT
DTSTART;TZID=Indian/Reunion:20240717T100000
DTEND;TZID=Indian/Reunion:20240717T110000
DTSTAMP:20260422T095259
CREATED:20240626T122705Z
LAST-MODIFIED:20240626T122738Z
UID:386293-1721210400-1721214000@trois-bassins.re
SUMMARY:Spectacle : PIPIT DANN SOMIN
DESCRIPTION:SPECTACLE «  Pipit dann somin  » \nConte\, musique et marionnette  \nCompagnie Zafèr K \n\nÀ partir de 6 ans\nDURÉE 45 Minutes\n\n\nPipit in ti marmay la Rényon i ravage in bonpé\, i renkont in ta domoun\, i ariv ali in ta zafèr ekstraordinèr ! Les aventures de Pipit\, un petit garçon joueur et malicieux vont le mener sur un chemin initiatique où il découvrira que les apparences sont trompeuses ! Et que la vérité vraie n’est peut-être pas celle que l’on croit !. \n\nSur réservation à l’accueil de la Médiathèque ou par téléphone au 0262 91 55 64
URL:https://trois-bassins.re/event/spectacle-pipit-dann-somin/
LOCATION:Pôle Culturel et Sportif\, 28 rue Georges BRASSENS\, TROIS BASSINS\, 97426\, Réunion
CATEGORIES:Culture
ATTACH;FMTTYPE=image/jpeg:https://trois-bassins.re/wp-content/uploads/2024/06/4-1.jpg
END:VEVENT
END:VCALENDAR