BEGIN:VCALENDAR
VERSION:2.0
PRODID:-//Ville de Trois-Bassins - ECPv6.15.20//NONSGML v1.0//EN
CALSCALE:GREGORIAN
METHOD:PUBLISH
X-WR-CALNAME:Ville de Trois-Bassins
X-ORIGINAL-URL:https://trois-bassins.re
X-WR-CALDESC:Évènements pour Ville de Trois-Bassins
REFRESH-INTERVAL;VALUE=DURATION:PT1H
X-Robots-Tag:noindex
X-PUBLISHED-TTL:PT1H
BEGIN:VTIMEZONE
TZID:Indian/Reunion
BEGIN:STANDARD
TZOFFSETFROM:+0400
TZOFFSETTO:+0400
TZNAME:+04
DTSTART:20230101T000000
END:STANDARD
END:VTIMEZONE
BEGIN:VEVENT
DTSTART;TZID=Indian/Reunion:20240706T100000
DTEND;TZID=Indian/Reunion:20240706T110000
DTSTAMP:20260421T014530
CREATED:20240626T114318Z
LAST-MODIFIED:20240626T114407Z
UID:386248-1720260000-1720263600@trois-bassins.re
SUMMARY:Spectacle : DAN MON MARMIT
DESCRIPTION:SPECTACLE «  Dan mon marmit » \nDanse/Théâtre \nCompagnie Baba Sifon \n\nÀ partir de 3 ans\n\n\nBaba Sifon a interrogé petits et grands sur leurs plaisirs gustatifs dans l’idée de trouver des madeleines de Proust créoles à partager\, de “mettre en lér” le plaisir de manger des produits frais\, légumes et fruits péï\, et l’envie de cuisiner. Sur ces voix collectées\, une danseuse nous emmène au pays du goût dans un solo de théâtre et danse. Les marmites\, devenues instruments\, créent des rythmes corporels simples et ludiques qui éveillent l’imaginaire des enfants et des familles. Raconte-moi ton goût préféré\, je te dirai qui tu es. \n\nSur réservation à l’accueil de la Médiathèque ou par téléphone au 0262 91 55 64
URL:https://trois-bassins.re/event/spectacle-dan-mon-marmit/
LOCATION:Pôle Culturel et Sportif\, 28 rue Georges BRASSENS\, TROIS BASSINS\, 97426\, Réunion
CATEGORIES:Culture
ATTACH;FMTTYPE=image/jpeg:https://trois-bassins.re/wp-content/uploads/2024/06/8.jpg
END:VEVENT
END:VCALENDAR