BEGIN:VCALENDAR
VERSION:2.0
PRODID:-//Ville de Trois-Bassins - ECPv6.15.20//NONSGML v1.0//EN
CALSCALE:GREGORIAN
METHOD:PUBLISH
X-WR-CALNAME:Ville de Trois-Bassins
X-ORIGINAL-URL:https://trois-bassins.re
X-WR-CALDESC:Évènements pour Ville de Trois-Bassins
REFRESH-INTERVAL;VALUE=DURATION:PT1H
X-Robots-Tag:noindex
X-PUBLISHED-TTL:PT1H
BEGIN:VTIMEZONE
TZID:Indian/Reunion
BEGIN:STANDARD
TZOFFSETFROM:+0400
TZOFFSETTO:+0400
TZNAME:+04
DTSTART:20230101T000000
END:STANDARD
END:VTIMEZONE
BEGIN:VEVENT
DTSTART;TZID=Indian/Reunion:20241018T180000
DTEND;TZID=Indian/Reunion:20241018T190000
DTSTAMP:20260423T104638
CREATED:20240924T074118Z
LAST-MODIFIED:20240924T074125Z
UID:388386-1729274400-1729278000@trois-bassins.re
SUMMARY:Projection du court métrage "Génération R "
DESCRIPTION:2024 / Trois Bassins / Court métrage de fiction de 12 min \nProjection et rencontre avec l’équipe de réalisation et les comédiens \nVenez assister en avant première à la diffusion du court métrage écrit\, réalisé et joué par nos jeunes Trois Bassinois\, lors des ateliers proposés par la Médiathèque et animés par l’association Cyberun. \nUne action en lien et financée par le Projet Alimentaire Territorial de la ville de Trois Bassins  \n« Ensemble Nourrissons nos racines\, cultivons nos liens ! » \n  \n\nGratuit\nTOUT PUBLIC\n1h\n\nSur réservation à l’accueil ou par téléphone au 0262 91 55 64
URL:https://trois-bassins.re/event/projection-du-court-metrage-generation-r/
LOCATION:Pôle Culturel et Sportif\, 28 rue Georges BRASSENS\, TROIS BASSINS\, 97426\, Réunion
CATEGORIES:Culture,Education
ATTACH;FMTTYPE=image/jpeg:https://trois-bassins.re/wp-content/uploads/2024/09/24.jpg
END:VEVENT
END:VCALENDAR