BEGIN:VCALENDAR
VERSION:2.0
PRODID:-//Ville de Trois-Bassins - ECPv6.15.20//NONSGML v1.0//EN
CALSCALE:GREGORIAN
METHOD:PUBLISH
X-WR-CALNAME:Ville de Trois-Bassins
X-ORIGINAL-URL:https://trois-bassins.re
X-WR-CALDESC:Évènements pour Ville de Trois-Bassins
REFRESH-INTERVAL;VALUE=DURATION:PT1H
X-Robots-Tag:noindex
X-PUBLISHED-TTL:PT1H
BEGIN:VTIMEZONE
TZID:Indian/Reunion
BEGIN:STANDARD
TZOFFSETFROM:+0400
TZOFFSETTO:+0400
TZNAME:+04
DTSTART:20230101T000000
END:STANDARD
END:VTIMEZONE
BEGIN:VEVENT
DTSTART;TZID=Indian/Reunion:20240518T080000
DTEND;TZID=Indian/Reunion:20240518T120000
DTSTAMP:20260426T023541
CREATED:20240506T092941Z
LAST-MODIFIED:20240506T095018Z
UID:385739-1716019200-1716033600@trois-bassins.re
SUMMARY:Pat à Ter
DESCRIPTION:PROJET ALIMENTAIRE TERRITORIAL\n » Nourrissons nos racines\, cultivons nos liens « \n\ntout public\n\n			\n				\n				\n				\n				\n				La Ville de Trois Bassins vous donne rendez-vous pour le prochain « PAT’ à Ter »\, le samedi 18 mai 2024 à partir de 8h sur le parvis de l’Alambic – La Culture dans les Hauts. \n« PAT’ à Ter » est un évènement tout public GRATUIT qui mêle culture et alimentaire autour de la valorisation des projets\, des acteurs et des produits du terroir inscrit au Projet Alimentaire Territorial de Trois Bassins. \nVenez flâner dans le petit village qui sera mis en place sur le parvis de l’Alambic de 8h à 12h\, entre les stands d’associations et de ventes alimentaires\, et participez aux ateliers qui vous seront proposés pour l’occasion. \nNous atten’ azot nombreux et nombreuses !
URL:https://trois-bassins.re/event/pat-a-ter-3/
LOCATION:Pôle Culturel et Sportif\, 28 rue Georges BRASSENS\, TROIS BASSINS\, 97426\, Réunion
CATEGORIES:Culture
ATTACH;FMTTYPE=image/jpeg:https://trois-bassins.re/wp-content/uploads/2024/05/PAT-A-TER-affiche-18-mai.jpg
END:VEVENT
END:VCALENDAR