BEGIN:VCALENDAR
VERSION:2.0
PRODID:-//Ville de Trois-Bassins - ECPv6.15.20//NONSGML v1.0//EN
CALSCALE:GREGORIAN
METHOD:PUBLISH
X-WR-CALNAME:Ville de Trois-Bassins
X-ORIGINAL-URL:https://trois-bassins.re
X-WR-CALDESC:Évènements pour Ville de Trois-Bassins
REFRESH-INTERVAL;VALUE=DURATION:PT1H
X-Robots-Tag:noindex
X-PUBLISHED-TTL:PT1H
BEGIN:VTIMEZONE
TZID:Indian/Reunion
BEGIN:STANDARD
TZOFFSETFROM:+0400
TZOFFSETTO:+0400
TZNAME:+04
DTSTART:20230101T000000
END:STANDARD
END:VTIMEZONE
BEGIN:VEVENT
DTSTART;TZID=Indian/Reunion:20241214T080000
DTEND;TZID=Indian/Reunion:20241214T190000
DTSTAMP:20260420T054300
CREATED:20241204T103719Z
LAST-MODIFIED:20241212T101352Z
UID:389472-1734163200-1734202800@trois-bassins.re
SUMMARY:Marché du Terroir et des Savoir-faire - SPECIAL NOËL
DESCRIPTION:Marché du Terroir et des Savoir-faire – ÉDITION SPÉCIALE NOËL\n			\n				\n				\n				\n				\n				\n Marché du Terroir et des Savoir-faire « Spécial Noël » à Trois-Bassins ! \n\n\nVenez vivre la magie de Noël au Marché du Terroir et des Savoir-faire\, un événement incontournable organisé par la Ville de Trois-Bassins ! \n Samedi 14 décembre 2024 De 8h00 à 19h00\n Place de l’Église\, Centre-ville de Trois-Bassins\nIdéalement situé au cœur de ville\, pour un moment convivial et pratique !\n Au programme : Des commerçants locaux : pour des idées cadeaux uniques et authentiques ! Des producteurs : savourez les délices du terroir et emportez des produits frais\, locaux et de qualité. Des artisans : découvrez des créations originales\, des objets faits main\, parfaits pour vos fêtes de fin d’année.\nET … DES SURPRISES À DECOUVRIR SUR PLACE ! \n \n Pourquoi ne pas combiner le plaisir des découvertes avec la magie de Noël ?Le marché se transforme en un petit village de Noël (Stand décoré soigneusement par les exposants) \, où l’ambiance chaleureuse et festive vous plonge dans l’esprit des fêtes. \n \nVenez flâner\, goûter\, et dénicher des trésors faits maison tout en profitant de la proximité et de la convivialité du marché en centre-ville !\n Un événement à ne pas manquer !\nFaites vos petites courses de Noël\, soutenez nos artisans et producteurs locaux !\n \n À très bientôt ! \n\n			\n				\n				\n				\n				\n				\n			\n			\n				\n				\n				\n				\n			\n				\n				\n			\n				\n				\n				\n				\n				\n				\n				\n				\n				\n				\n				\n				\n				\n				\n				\n				\n				\n				\n			\n			\n				\n				\n				\n				\n			\n				\n				\n			\n				\n				\n				\n				\n				\n				\n				\n				\n				\n				\n				\n				\n				\n				\n				\n				\n				\n				Soyez exposant !\n Téléchargez ici votre demande d’emplacement.\nDate limite de retour des candidatures : les derniers vendredis du mois (une semaine avant le marché). \n			\n				\n				\n				\n				\n				Venez nombreux !\n			\n			\n				\n				\n				\n				\n			\n				\n				\n				\n				\n				\n				\n				\n				\n				\n				\n				Ce projet a été financé à l’aide du Fonds Européen de Développement Régional (FEDER) dans le cadre de la réponse de l’Union Européenne à la pandémie de COVID-19 (REACT-UE). L’Europe s’engage à la Réunion.
URL:https://trois-bassins.re/event/marche-du-terroir-et-des-savoir-faire-special-noel/
LOCATION:Parking Super U Trois Bassins\, 13 rue des Franciseas\, Trois Bassins\, TROIS BASSINS\, 97426\, Reunion
CATEGORIES:Culture,Santé
ATTACH;FMTTYPE=image/png:https://trois-bassins.re/wp-content/uploads/2024/01/prog-event.png
END:VEVENT
END:VCALENDAR