BEGIN:VCALENDAR
VERSION:2.0
PRODID:-//Ville de Trois-Bassins - ECPv6.15.20//NONSGML v1.0//EN
CALSCALE:GREGORIAN
METHOD:PUBLISH
X-WR-CALNAME:Ville de Trois-Bassins
X-ORIGINAL-URL:https://trois-bassins.re
X-WR-CALDESC:Évènements pour Ville de Trois-Bassins
REFRESH-INTERVAL;VALUE=DURATION:PT1H
X-Robots-Tag:noindex
X-PUBLISHED-TTL:PT1H
BEGIN:VTIMEZONE
TZID:Indian/Reunion
BEGIN:STANDARD
TZOFFSETFROM:+0400
TZOFFSETTO:+0400
TZNAME:+04
DTSTART:20230101T000000
END:STANDARD
END:VTIMEZONE
BEGIN:VEVENT
DTSTART;TZID=Indian/Reunion:20241012T080000
DTEND;TZID=Indian/Reunion:20241012T130000
DTSTAMP:20260420T173924
CREATED:20241003T074619Z
LAST-MODIFIED:20241009T073213Z
UID:388665-1728720000-1728738000@trois-bassins.re
SUMMARY:Marché du Terroir et des Savoir-faire
DESCRIPTION:Marché du Terroir et des Savoir-faire\n			\n				\n				\n				\n				\n				Le Marché du Terroir et des Savoir-faire se tiendra le samedi 12 octobre de 8H à 13H au centre-ville de Trois-Bassins sur la Place de l’Eglise. \n\nOrganisé par la Ville de Trois-Bassins et les commerçants du centre ville.\n\n			\n			\n				\n				\n				\n				\n			\n				\n				\n			\n				\n				\n				\n				\n				\n				\n				\n				\n				\n				\n				\n				\n				\n				\n				\n				\n				\n				Soyez exposant !\n Téléchargez ici votre demande d’emplacement.\nDate limite de retour des candidatures : les derniers vendredis du mois (une semaine avant le marché). \n			\n				\n				\n				\n				\n				Venez nombreux !\n			\n			\n				\n				\n				\n				\n			\n				\n				\n				\n				\n				\n				\n				\n				\n				\n				\n				Ce projet a été financé à l’aide du Fonds Européen de Développement Régional (FEDER) dans le cadre de la réponse de l’Union Européenne à la pandémie de COVID-19 (REACT-UE). L’Europe s’engage à la Réunion.
URL:https://trois-bassins.re/event/marche-du-terroir-des-savoir-faire-3/
CATEGORIES:Culture,Santé
ATTACH;FMTTYPE=image/png:https://trois-bassins.re/wp-content/uploads/2024/01/prog-event.png
END:VEVENT
END:VCALENDAR