BEGIN:VCALENDAR
VERSION:2.0
PRODID:-//Ville de Trois-Bassins - ECPv6.15.20//NONSGML v1.0//EN
CALSCALE:GREGORIAN
METHOD:PUBLISH
X-WR-CALNAME:Ville de Trois-Bassins
X-ORIGINAL-URL:https://trois-bassins.re
X-WR-CALDESC:Évènements pour Ville de Trois-Bassins
REFRESH-INTERVAL;VALUE=DURATION:PT1H
X-Robots-Tag:noindex
X-PUBLISHED-TTL:PT1H
BEGIN:VTIMEZONE
TZID:Indian/Reunion
BEGIN:STANDARD
TZOFFSETFROM:+0400
TZOFFSETTO:+0400
TZNAME:+04
DTSTART:20250101T000000
END:STANDARD
END:VTIMEZONE
BEGIN:VEVENT
DTSTART;TZID=Indian/Reunion:20260425T080000
DTEND;TZID=Indian/Reunion:20260425T120000
DTSTAMP:20260423T150605
CREATED:20260423T073719Z
LAST-MODIFIED:20260423T073729Z
UID:395155-1777104000-1777118400@trois-bassins.re
SUMMARY:Lodér mon pei
DESCRIPTION:Lodér mon pei avec l’association Zespri Alambic \n\nUne douce odeur de café flotte dans l’air…\n\nCe samedi 25 avril\, laissez-vous tenter par un moment chaleureux autour d’un café torréfié avec passion par une association de quartier Zespri Alambic. Une invitation à ralentir\, à partager et à savourer ensemble\, comme un doux souvenir du temps d’avant. \nProfiter de cet instant convivial pour (re)découvrir nos traditions\, échanger avec vos voisins et créer du lien\, en famille\, entre amis ou même en solo pour faire de belles rencontres. \nUne belle initiative de quartier qui nous rappelle que les moments simples sont souvent les plus précieux. \n107 rue Henri Aubert – Quartier MONTVERT TROIS BASSINS
URL:https://trois-bassins.re/event/loder-mon-pei/
LOCATION:Zespri Alambic\, 107 rue Henri Aubert\, Trois Bassins
CATEGORIES:Culture,Education,Santé
ATTACH;FMTTYPE=image/png:https://trois-bassins.re/wp-content/uploads/2026/04/PROG-500X500-8.webp
END:VEVENT
END:VCALENDAR