BEGIN:VCALENDAR
VERSION:2.0
PRODID:-//Ville de Trois-Bassins - ECPv6.15.20//NONSGML v1.0//EN
CALSCALE:GREGORIAN
METHOD:PUBLISH
X-WR-CALNAME:Ville de Trois-Bassins
X-ORIGINAL-URL:https://trois-bassins.re
X-WR-CALDESC:Évènements pour Ville de Trois-Bassins
REFRESH-INTERVAL;VALUE=DURATION:PT1H
X-Robots-Tag:noindex
X-PUBLISHED-TTL:PT1H
BEGIN:VTIMEZONE
TZID:Indian/Reunion
BEGIN:STANDARD
TZOFFSETFROM:+0400
TZOFFSETTO:+0400
TZNAME:+04
DTSTART:20240101T000000
END:STANDARD
END:VTIMEZONE
BEGIN:VEVENT
DTSTART;TZID=Indian/Reunion:20251122T080000
DTEND;TZID=Indian/Reunion:20251122T130000
DTSTAMP:20260421T052519
CREATED:20251119T101824Z
LAST-MODIFIED:20251119T101833Z
UID:393692-1763798400-1763816400@trois-bassins.re
SUMMARY: Le Marché du Terroir et des Savoir-Faire
DESCRIPTION: Le Marché du Terroir et des Savoir-Faire de Trois-Bassins fait son grand retour sur la place de l’église ! \nVenez découvrir et soutenir les producteurs locaux\, artisans et savoir-faire du terroir réunionnais !\n \n Quand ? Les 2ème et 4ème samedi de chaque mois\, de 8h à 13hPROCHAINS RDV :– SAMEDI 13 DECEMBRE 2025\n-SAMEDI 27 DECEMBRE 2025\n \n Où ? Sur la place de l’église de Trois-Bassins au centre ville\n \n Vous êtes producteur\, artisan ou créateur local ? Vous souhaitez exposer vos produits ?\nLes inscriptions pour un stand se font auprès de La Case Rurale au  0692 46 07 28Venez nombreux pour soutenir notre territoire et ses talents !
URL:https://trois-bassins.re/event/le-marche-du-terroir-et-des-savoir-faire/
LOCATION:Parking de l’Eglise\, 7 rue Georges Brassens\, Trois Bassins\, Réunion
CATEGORIES:Culture,Santé
ATTACH;FMTTYPE=image/png:https://trois-bassins.re/wp-content/uploads/2024/01/prog-event.png
END:VEVENT
END:VCALENDAR