BEGIN:VCALENDAR
VERSION:2.0
PRODID:-//Ville de Trois-Bassins - ECPv6.15.20//NONSGML v1.0//EN
CALSCALE:GREGORIAN
METHOD:PUBLISH
X-WR-CALNAME:Ville de Trois-Bassins
X-ORIGINAL-URL:https://trois-bassins.re
X-WR-CALDESC:Évènements pour Ville de Trois-Bassins
REFRESH-INTERVAL;VALUE=DURATION:PT1H
X-Robots-Tag:noindex
X-PUBLISHED-TTL:PT1H
BEGIN:VTIMEZONE
TZID:Indian/Reunion
BEGIN:STANDARD
TZOFFSETFROM:+0400
TZOFFSETTO:+0400
TZNAME:+04
DTSTART:20220101T000000
END:STANDARD
END:VTIMEZONE
BEGIN:VEVENT
DTSTART;TZID=Indian/Reunion:20230415T180000
DTEND;TZID=Indian/Reunion:20230415T190000
DTSTAMP:20260424T101437
CREATED:20230331T071541Z
LAST-MODIFIED:20230331T071545Z
UID:379564-1681581600-1681585200@trois-bassins.re
SUMMARY:KANIKI 2.0 -Création 2022
DESCRIPTION:Danse contemporaine\n			\n				\n				\n				\n				\n				Chorégraphe: Florence BOYER Dramaturge : Guy COOLS\nInterprètes: Muriel MERLIN-VIDIL\, José Njiva ANDRIANANTENAINA\, Florence BOYER\, Régis TSOUMBOU BAKANA Scénographie : Gaston DUBOIS\, Florence BOYER Costumes : Juliette ADAM Musique : collaboration avec Jako Maron Musique : Colleen Construction scénographie radeau suspendu : Cédric Perraudeau\n			\n				\n				\n				\n				\n				 \n\n\nKaniki aborde des questions de migrations\, de déracinement\, de perte d’identité en évoquant particulièrement l’arrachement des enfants réunionnais à leurs familles dans l’affaire des Enfants dits de la Creuse. La chorégraphe Florence Boyer développe un travail chorégraphique contemporain inspirée de la tradition Maloya – danse\, musique et chant de la Réunion\, inscrite à l’Unesco – en parallèle du travail de recherche en anthropologie de la danse. \n\n\n \n\n \n\n			\n				\n				\n				\n				\n				​TOUT PUBLIC \nDurée : 50 min \nAccès gratuit\, dans la limite des places disponibles. \n  \n			\n				\n				\n				\n				\n				Info/ Résa:  au 0262 74 56 91\n 
URL:https://trois-bassins.re/event/kaniki-2-0-creation-2022/
LOCATION:Pôle Culturel et Sportif\, 28 rue Georges BRASSENS\, TROIS BASSINS\, 97426\, Réunion
CATEGORIES:Culture
ATTACH;FMTTYPE=image/jpeg:https://trois-bassins.re/wp-content/uploads/2023/03/4-1.jpg
END:VEVENT
END:VCALENDAR