BEGIN:VCALENDAR
VERSION:2.0
PRODID:-//Ville de Trois-Bassins - ECPv6.15.20//NONSGML v1.0//EN
CALSCALE:GREGORIAN
METHOD:PUBLISH
X-WR-CALNAME:Ville de Trois-Bassins
X-ORIGINAL-URL:https://trois-bassins.re
X-WR-CALDESC:Évènements pour Ville de Trois-Bassins
REFRESH-INTERVAL;VALUE=DURATION:PT1H
X-Robots-Tag:noindex
X-PUBLISHED-TTL:PT1H
BEGIN:VTIMEZONE
TZID:Indian/Reunion
BEGIN:STANDARD
TZOFFSETFROM:+0400
TZOFFSETTO:+0400
TZNAME:+04
DTSTART:20240101T000000
END:STANDARD
END:VTIMEZONE
BEGIN:VEVENT
DTSTART;TZID=Indian/Reunion:20251219T170000
DTEND;TZID=Indian/Reunion:20251219T220000
DTSTAMP:20260421T083944
CREATED:20251121T053353Z
LAST-MODIFIED:20251121T053402Z
UID:393762-1766163600-1766181600@trois-bassins.re
SUMMARY:Kabar 20 décembre
DESCRIPTION: Animation musicale avec :  \nJerry Bouclier – Titom l’artiste – Yohan Chan Fui – Franko Marka – Méta – Djaici – Ily -Karim – Mathias – Maloya – Mangalor – Zingade – Coco lé en fer \nNou invit azot pou fet la liberté à Trois-Bassins ! \n\nInfo à l’accueil ou au 0262 91 55 64\nTOUT PUBLIC\nDurée : 4h
URL:https://trois-bassins.re/event/kabar-20-decembre/
LOCATION:Pôle Culturel et Sportif\, 28 rue Georges BRASSENS\, TROIS BASSINS\, 97426\, Réunion
CATEGORIES:Culture
ATTACH;FMTTYPE=image/png:https://trois-bassins.re/wp-content/uploads/2025/11/Even-500-x-500-11.webp
END:VEVENT
END:VCALENDAR