BEGIN:VCALENDAR
VERSION:2.0
PRODID:-//Ville de Trois-Bassins - ECPv6.15.20//NONSGML v1.0//EN
CALSCALE:GREGORIAN
METHOD:PUBLISH
X-WR-CALNAME:Ville de Trois-Bassins
X-ORIGINAL-URL:https://trois-bassins.re
X-WR-CALDESC:Évènements pour Ville de Trois-Bassins
REFRESH-INTERVAL;VALUE=DURATION:PT1H
X-Robots-Tag:noindex
X-PUBLISHED-TTL:PT1H
BEGIN:VTIMEZONE
TZID:Indian/Reunion
BEGIN:STANDARD
TZOFFSETFROM:+0400
TZOFFSETTO:+0400
TZNAME:+04
DTSTART:20250101T000000
END:STANDARD
END:VTIMEZONE
BEGIN:VEVENT
DTSTART;TZID=Indian/Reunion:20260429T090000
DTEND;TZID=Indian/Reunion:20260429T120000
DTSTAMP:20260423T002016
CREATED:20260422T100304Z
LAST-MODIFIED:20260422T100315Z
UID:395129-1777453200-1777464000@trois-bassins.re
SUMMARY:Job dating - Mob'île interim
DESCRIPTION:📣 Job Dating à Trois-Bassins !\n			\n				\n				\n				\n				\n				L’agence Mob’île Intérim vient à votre rencontre pour une matinée dédiée à l’emploi 🤝 \n📆 Mercredi 29 avril 2026📍 Centre Communal du Littoral – 6 allée des Filaos⌚ De 9h à 12h \n👉 Vous êtes à la recherche d’un emploi ou de missions en intérim ?Venez échanger directement avec des recruteurs et saisir de nouvelles opportunités ! \n⚠️ Pensez à apporter votre CV \nUne occasion à ne pas manquer pour booster votre parcours professionnel ! \nOuvert à toutes et à tous – venez nombreux ! \n			\n				\n				\n				\n				\n				www.serviceinterim.fr \n 
URL:https://trois-bassins.re/event/job-dating-mobile-interim/
LOCATION:Centre communal du Littoral\, 6 allée des Filaos\, Trois Bassins
CATEGORIES:Culture,Education,Enquête,Santé,Sport
ATTACH;FMTTYPE=image/jpeg:https://trois-bassins.re/wp-content/uploads/2026/04/PROG-500X500-1.webp
END:VEVENT
END:VCALENDAR