BEGIN:VCALENDAR
VERSION:2.0
PRODID:-//Ville de Trois-Bassins - ECPv6.15.20//NONSGML v1.0//EN
CALSCALE:GREGORIAN
METHOD:PUBLISH
X-WR-CALNAME:Ville de Trois-Bassins
X-ORIGINAL-URL:https://trois-bassins.re
X-WR-CALDESC:Évènements pour Ville de Trois-Bassins
REFRESH-INTERVAL;VALUE=DURATION:PT1H
X-Robots-Tag:noindex
X-PUBLISHED-TTL:PT1H
BEGIN:VTIMEZONE
TZID:Indian/Reunion
BEGIN:STANDARD
TZOFFSETFROM:+0400
TZOFFSETTO:+0400
TZNAME:+04
DTSTART:20230101T000000
END:STANDARD
END:VTIMEZONE
BEGIN:VEVENT
DTSTART;TZID=Indian/Reunion:20241106T133000
DTEND;TZID=Indian/Reunion:20241106T160000
DTSTAMP:20260420T135309
CREATED:20241030T061704Z
LAST-MODIFIED:20241030T061712Z
UID:389063-1730899800-1730908800@trois-bassins.re
SUMMARY:Gran Tourismo - Le film
DESCRIPTION:un film de Neill Blomkamp 2023 / USA / Aventure / Drame \n« Gran Turismo retrace l’incroyable histoire vraie d’une équipe d’outsiders : un gamer issu de la classe ouvrière\, un ex-pilote de course raté et un cadre idéaliste de l’industrie du sport automobile. Ensemble\, ils risquent tout et s’attaquent au sport le plus élitiste au monde. Inspirant\, palpitant et bourré d’action\, le film GRAN TURISMO prouve que rien n’est impossible quand on est déterminé à prendre tous les risques.. » \n\nGratuit – Places limitées\nConseillé à partir de 12 ans\n2h14min\n\n  \nSur réservation à l’accueil ou par téléphone au 0262 91 55 64
URL:https://trois-bassins.re/event/gran-tourismo-le-film/
LOCATION:Pôle Culturel et Sportif\, 28 rue Georges BRASSENS\, TROIS BASSINS\, 97426\, Réunion
CATEGORIES:Culture,Education
ATTACH;FMTTYPE=image/jpeg:https://trois-bassins.re/wp-content/uploads/2024/10/34.jpg
END:VEVENT
END:VCALENDAR