BEGIN:VCALENDAR
VERSION:2.0
PRODID:-//Ville de Trois-Bassins - ECPv6.15.20//NONSGML v1.0//EN
CALSCALE:GREGORIAN
METHOD:PUBLISH
X-WR-CALNAME:Ville de Trois-Bassins
X-ORIGINAL-URL:https://trois-bassins.re
X-WR-CALDESC:Évènements pour Ville de Trois-Bassins
REFRESH-INTERVAL;VALUE=DURATION:PT1H
X-Robots-Tag:noindex
X-PUBLISHED-TTL:PT1H
BEGIN:VTIMEZONE
TZID:Indian/Reunion
BEGIN:STANDARD
TZOFFSETFROM:+0400
TZOFFSETTO:+0400
TZNAME:+04
DTSTART:20230101T000000
END:STANDARD
END:VTIMEZONE
BEGIN:VEVENT
DTSTART;VALUE=DATE:20240402
DTEND;VALUE=DATE:20240420
DTSTAMP:20260423T150605
CREATED:20240329T053807Z
LAST-MODIFIED:20240329T053843Z
UID:384947-1712016000-1713571199@trois-bassins.re
SUMMARY:Exposition peintures
DESCRIPTION:Exposition de peintures avec l’Association ZOT Y PIN\n\ntout public / à l’étage du patio du pôle culturel & sportif\n\nEn partenariat avec le club de peinture ZOT Y PIN\, le Pôle Culturel L’Alambic expose et met à l’honneur les artistes amateurs et confirmés de l’association. \nEn Avril venez découvrir l’artiste Rose Malet et ses oeuvres\, qui vous feront voyager à travers\, l’histoire avec le sacre de Napoléon et la Guyane où elle a séjourné. \nZOT Y PIN est un club de peinture crée en 2011 à Trois Bassins. \nChacun peut exprimer sa créativité et apprendre les bases de l’aquarelle\, de l’acrylique et de l’huile. \nPour plus d’informations contactez\, Claude FOUGEROUX au 0692 73 17 08. \n 
URL:https://trois-bassins.re/event/exposition-peintures/
LOCATION:Pôle Culturel et Sportif\, 28 rue Georges BRASSENS\, TROIS BASSINS\, 97426\, Réunion
CATEGORIES:Culture,Education
ATTACH;FMTTYPE=image/jpeg:https://trois-bassins.re/wp-content/uploads/2024/03/even-exposition-peintures.jpg
END:VEVENT
END:VCALENDAR