BEGIN:VCALENDAR
VERSION:2.0
PRODID:-//Ville de Trois-Bassins - ECPv6.15.20//NONSGML v1.0//EN
CALSCALE:GREGORIAN
METHOD:PUBLISH
X-WR-CALNAME:Ville de Trois-Bassins
X-ORIGINAL-URL:https://trois-bassins.re
X-WR-CALDESC:Évènements pour Ville de Trois-Bassins
REFRESH-INTERVAL;VALUE=DURATION:PT1H
X-Robots-Tag:noindex
X-PUBLISHED-TTL:PT1H
BEGIN:VTIMEZONE
TZID:Indian/Reunion
BEGIN:STANDARD
TZOFFSETFROM:+0400
TZOFFSETTO:+0400
TZNAME:+04
DTSTART:20220101T000000
END:STANDARD
END:VTIMEZONE
BEGIN:VEVENT
DTSTART;TZID=Indian/Reunion:20230804T100000
DTEND;TZID=Indian/Reunion:20230804T153000
DTSTAMP:20260419T185058
CREATED:20230727T051307Z
LAST-MODIFIED:20230727T051314Z
UID:380928-1691143200-1691163000@trois-bassins.re
SUMMARY:Escape game à la médiathèque
DESCRIPTION:Vendredi 04 août 2023 \n(10H – 15H30)\n			\n				\n				\n				\n				\n				« Panique à la médiathèque »\n			\n				\n				\n				\n				\n				\nA partir de 8 ans\nde 3 à 6 joueurs\ndurée: 01H00\n\n			\n				\n				\n				\n				\n				Mêlant sciences et investigation\, cette enquête grandeur nature invite tous les curieux et curieuses\, petits et grands\, à vivre une expérience originale et ludique. Leur mission ? S’appuyer sur leur sens de l’observation\, le travail d’équipe et un esprit critique pour déconstruire une vague d’idées reçues diffusées par un groupe se faisant appeler « Les Obscurantes ». Mais attention\, l’horloge tourne… Il leur faudra aller vite pour achever ce défi ! \n			\n				\n				\n				\n				\n				Sur inscription à l’accueil de la médiathèque et dans la limite des places disponibles
URL:https://trois-bassins.re/event/escape-game-a-la-mediatheque/
LOCATION:Pôle Culturel et Sportif\, 28 rue Georges BRASSENS\, TROIS BASSINS\, 97426\, Réunion
CATEGORIES:Culture
ATTACH;FMTTYPE=image/png:https://trois-bassins.re/wp-content/uploads/2023/07/escap-1.png
END:VEVENT
END:VCALENDAR