BEGIN:VCALENDAR
VERSION:2.0
PRODID:-//Ville de Trois-Bassins - ECPv6.15.20//NONSGML v1.0//EN
CALSCALE:GREGORIAN
METHOD:PUBLISH
X-WR-CALNAME:Ville de Trois-Bassins
X-ORIGINAL-URL:https://trois-bassins.re
X-WR-CALDESC:Évènements pour Ville de Trois-Bassins
REFRESH-INTERVAL;VALUE=DURATION:PT1H
X-Robots-Tag:noindex
X-PUBLISHED-TTL:PT1H
BEGIN:VTIMEZONE
TZID:Indian/Reunion
BEGIN:STANDARD
TZOFFSETFROM:+0400
TZOFFSETTO:+0400
TZNAME:+04
DTSTART:20230101T000000
END:STANDARD
END:VTIMEZONE
BEGIN:VEVENT
DTSTART;TZID=Indian/Reunion:20241211T080000
DTEND;TZID=Indian/Reunion:20241211T120000
DTSTAMP:20260424T140545
CREATED:20241128T043325Z
LAST-MODIFIED:20241129T094919Z
UID:389416-1733904000-1733918400@trois-bassins.re
SUMMARY:Commission CACAO : 11/12/24
DESCRIPTION:Mercredi 11 décembre 2024 à l’école primaire Bois Joli Coeur.\n			\n				\n				\n				\n				\n				Le CACAO c’est quoi ?\n			\n				\n				\n				\n				\n				Le CACAO c’est le Comité d’Alimentation Concerté à l’écOle. \nIl réunit autour d’une même table: \n\nLes élus de la ville référents aux affaires scolaires\nLes responsables de la cuisine centrale\nla nutritionnistes conseil\ndes représentant de parents d’élèves\ndes représentants des élèves ou Eco délégués\ndes enseignants\n\nLe CACAO permet de se retrouver et d’échanger autour de l’alimentation des enfants dans les cantines. C’est un temps de dialogue entre l’ensemble des acteurs qui permet de répondre aux questionnements des familles et de présenter des actions organisées autour de la restauration dans les écoles. \nIl propose la tenue des Commission d’élaboration des menus durant laquelle tous les invités peuvent s’exprimer sur les menus de la période précédente\, puis dans un second temps\, co-construire\, analyser et valider les menus proposés pour la prochaine période. \n 
URL:https://trois-bassins.re/event/commission-cacao-11-12-24/
LOCATION:Ecole Bois Joli Coeur
CATEGORIES:Culture,Education,Santé
ATTACH;FMTTYPE=image/jpeg:https://trois-bassins.re/wp-content/uploads/2024/10/Site-prog-59.jpg
END:VEVENT
END:VCALENDAR