BEGIN:VCALENDAR
VERSION:2.0
PRODID:-//Ville de Trois-Bassins - ECPv6.15.20//NONSGML v1.0//EN
CALSCALE:GREGORIAN
METHOD:PUBLISH
X-WR-CALNAME:Ville de Trois-Bassins
X-ORIGINAL-URL:https://trois-bassins.re
X-WR-CALDESC:Évènements pour Ville de Trois-Bassins
REFRESH-INTERVAL;VALUE=DURATION:PT1H
X-Robots-Tag:noindex
X-PUBLISHED-TTL:PT1H
BEGIN:VTIMEZONE
TZID:Indian/Reunion
BEGIN:STANDARD
TZOFFSETFROM:+0400
TZOFFSETTO:+0400
TZNAME:+04
DTSTART:20240101T000000
END:STANDARD
END:VTIMEZONE
BEGIN:VEVENT
DTSTART;TZID=Indian/Reunion:20251203T093000
DTEND;TZID=Indian/Reunion:20251203T110000
DTSTAMP:20260421T052214
CREATED:20251118T065741Z
LAST-MODIFIED:20251127T050138Z
UID:393647-1764754200-1764759600@trois-bassins.re
SUMMARY:CASE RURALE - Visites apprenantes & inspirantes
DESCRIPTION:Valoriser ses déchets organiques\n📅 Mercredi 03 décembre 2025📍 Lieu de la visite : centre ville de Trois-Bassins ⏰ Heure et lieu de rendez-vous : 8h30 au niveau du Local de l’ARDI \n Publics : Ambassadeurs\, agents de la cuisine centrales\, volontaires de l’APTF et de LARDI \nObjectifs : connaitre le processus de compostage et ses bénéfices environnementaux\, économiques et pédagogiques Identifier les bonnes pratiques pour mettre en place ou entretenir un compost individuel ou collectif \nProgramme : \n\nRencontre avec un maître composteur\nDécouverte des techniques de compostage collectif ou partagé (fonctionnement\, outils\, gestion).\nÉchanges sur les actions possibles dans les établissements ou quartiers .\n\n  \nINTERVENANTS:  Les Alchimistes Péî \n📞 Infos et réservations : 0692 52 95 42 \n			\n			\n				\n				\n				\n				\n			\n				\n				\n				\n				\n				\n				\n				\n				\n				\n				\n				À prévoir par les participants\n💧 Eau \n🥤 Gobelet réutilisable \n✍️ Stylo \n👒 Chapeau \n🥾 Chaussures pour marcher dans la terre \n🧤 Gants de jardinage \n			\n			\n				\n				\n				\n				\n				\n				\n				\n				\n				\n				 Prévu par les organisateurs\n🍪 Petits encas \n🌿🍵 Tisanes de plantes
URL:https://trois-bassins.re/event/case-rurale-visites-apprenantes-inspirantes-3/
CATEGORIES:Culture
ATTACH;FMTTYPE=image/png:https://trois-bassins.re/wp-content/uploads/2025/11/Visites-apprenantes-et-inspirantes.webp
END:VEVENT
END:VCALENDAR