BEGIN:VCALENDAR
VERSION:2.0
PRODID:-//Ville de Trois-Bassins - ECPv6.15.20//NONSGML v1.0//EN
CALSCALE:GREGORIAN
METHOD:PUBLISH
X-WR-CALNAME:Ville de Trois-Bassins
X-ORIGINAL-URL:https://trois-bassins.re
X-WR-CALDESC:Évènements pour Ville de Trois-Bassins
REFRESH-INTERVAL;VALUE=DURATION:PT1H
X-Robots-Tag:noindex
X-PUBLISHED-TTL:PT1H
BEGIN:VTIMEZONE
TZID:Indian/Reunion
BEGIN:STANDARD
TZOFFSETFROM:+0400
TZOFFSETTO:+0400
TZNAME:+04
DTSTART:20230101T000000
END:STANDARD
END:VTIMEZONE
BEGIN:VEVENT
DTSTART;TZID=Indian/Reunion:20241106T140000
DTEND;TZID=Indian/Reunion:20241128T153000
DTSTAMP:20260422T003732
CREATED:20240924T073006Z
LAST-MODIFIED:20241030T074051Z
UID:388464-1730901600-1732807800@trois-bassins.re
SUMMARY:Atelier théâtre\, Fonker\, Musique
DESCRIPTION:Atelier théâtre\, Fonker\, Musique\nAvec KREOLOKOZ \nRéalisation d’un spectacle original dans lequel vous serez les acteurs et créateurs. Vous pourrez chanter\, jouer la comédie\, écrire vos textes…Accompagnés par Quentin Josseron et Gael Velleyen (Quentin est comédien de l’impro\, Gael est un artiste musicien poète) \nVenez vous amuser et découvrir votre potentiel artistique ! \n  \n\n1 créneau marmaille les mercredis à 14h\n1 créneau adulte les jeudis à 14h\nde 7 à 107 ans\n\nInfos et inscription à l’accueil ou par téléphone au 02 62 91 55 64
URL:https://trois-bassins.re/event/atelier-theatre-fonker-musique-2/
LOCATION:Pôle Culturel et Sportif\, 28 rue Georges BRASSENS\, TROIS BASSINS\, 97426\, Réunion
CATEGORIES:Culture,Education
ATTACH;FMTTYPE=image/jpeg:https://trois-bassins.re/wp-content/uploads/2024/09/21.jpg
END:VEVENT
END:VCALENDAR