BEGIN:VCALENDAR
VERSION:2.0
PRODID:-//Ville de Trois-Bassins - ECPv6.15.20//NONSGML v1.0//EN
CALSCALE:GREGORIAN
METHOD:PUBLISH
X-WR-CALNAME:Ville de Trois-Bassins
X-ORIGINAL-URL:https://trois-bassins.re
X-WR-CALDESC:Évènements pour Ville de Trois-Bassins
REFRESH-INTERVAL;VALUE=DURATION:PT1H
X-Robots-Tag:noindex
X-PUBLISHED-TTL:PT1H
BEGIN:VTIMEZONE
TZID:Indian/Reunion
BEGIN:STANDARD
TZOFFSETFROM:+0400
TZOFFSETTO:+0400
TZNAME:+04
DTSTART:20230101T000000
END:STANDARD
END:VTIMEZONE
BEGIN:VEVENT
DTSTART;TZID=Indian/Reunion:20241102T100000
DTEND;TZID=Indian/Reunion:20241102T113000
DTSTAMP:20260422T140225
CREATED:20241030T061245Z
LAST-MODIFIED:20241030T061252Z
UID:389055-1730541600-1730547000@trois-bassins.re
SUMMARY:Atelier d’éveil musical Rock’ n roll
DESCRIPTION:Atelier d’éveil musical Rock’ n roll\n\nAvec Niko de Schtrockben Cie \nAteliers Rock’n Roll « Ti Velu i Lé pas Content » pour les 3 mois à 3 ans. \nGuitare électrique\, sampleur et Bbox.  \nCréneau à 10h ou à 11h \n\nSur réservation à l’accueil de la Médiathèque ou par téléphone au 0262 91 55 64.\n0-3 ans\naccompagné d’un adulte\nDurée: 30 mn.\n\n 
URL:https://trois-bassins.re/event/atelier-deveil-musical-rock-n-roll/
LOCATION:Pôle Culturel et Sportif\, 28 rue Georges BRASSENS\, TROIS BASSINS\, 97426\, Réunion
CATEGORIES:Culture,Education
ATTACH;FMTTYPE=image/jpeg:https://trois-bassins.re/wp-content/uploads/2024/10/33.jpg
END:VEVENT
END:VCALENDAR