BEGIN:VCALENDAR
VERSION:2.0
PRODID:-//Ville de Trois-Bassins - ECPv6.15.20//NONSGML v1.0//EN
CALSCALE:GREGORIAN
METHOD:PUBLISH
X-WR-CALNAME:Ville de Trois-Bassins
X-ORIGINAL-URL:https://trois-bassins.re
X-WR-CALDESC:Évènements pour Ville de Trois-Bassins
REFRESH-INTERVAL;VALUE=DURATION:PT1H
X-Robots-Tag:noindex
X-PUBLISHED-TTL:PT1H
BEGIN:VTIMEZONE
TZID:Indian/Reunion
BEGIN:STANDARD
TZOFFSETFROM:+0400
TZOFFSETTO:+0400
TZNAME:+04
DTSTART:20220101T000000
END:STANDARD
END:VTIMEZONE
BEGIN:VEVENT
DTSTART;TZID=Indian/Reunion:20230128T093000
DTEND;TZID=Indian/Reunion:20230128T170000
DTSTAMP:20260421T182438
CREATED:20230109T060241Z
LAST-MODIFIED:20230109T060345Z
UID:378631-1674898200-1674925200@trois-bassins.re
SUMMARY:Atelier créatif bijou mural
DESCRIPTION:ATELIER CRÉATIF « BIJOU MURAL » \n			\n				\n				\n				\n				\n				A l’occasion du Nouvel An Chinois 2023\, venez créer un bijou mural avec la technique très simple du transfert d’image\, sur un support en plâtre. \nDurant le temps de séchage de votre création\, vous participerez à une animation pour mieux connaître les fêtes du Nouvel An\, célébrées par les différentes communautés de La Réunion tout au long de l’année. \n			\n				\n				\n				\n				\n				\nEnfants de 8 à 12 ans.\nAccès gratuit sur réservation (dans la limite des places disponibles)\n\n  \n			\n				\n				\n				\n				\n				Informations et réservations (gratuites) au 0262 74 56 91\n 
URL:https://trois-bassins.re/event/atelier-creatif-bijou-mural/
LOCATION:Pôle Culturel et Sportif\, 28 rue Georges BRASSENS\, TROIS BASSINS\, 97426\, Réunion
CATEGORIES:Culture
ATTACH;FMTTYPE=image/jpeg:https://trois-bassins.re/wp-content/uploads/2023/01/5.jpg
END:VEVENT
END:VCALENDAR