BEGIN:VCALENDAR
VERSION:2.0
PRODID:-//Ville de Trois-Bassins - ECPv6.15.20//NONSGML v1.0//EN
CALSCALE:GREGORIAN
METHOD:PUBLISH
X-WR-CALNAME:Ville de Trois-Bassins
X-ORIGINAL-URL:https://trois-bassins.re
X-WR-CALDESC:Évènements pour Ville de Trois-Bassins
REFRESH-INTERVAL;VALUE=DURATION:PT1H
X-Robots-Tag:noindex
X-PUBLISHED-TTL:PT1H
BEGIN:VTIMEZONE
TZID:Indian/Reunion
BEGIN:STANDARD
TZOFFSETFROM:+0400
TZOFFSETTO:+0400
TZNAME:+04
DTSTART:20220101T000000
END:STANDARD
END:VTIMEZONE
BEGIN:VEVENT
DTSTART;TZID=Indian/Reunion:20230930T160000
DTEND;TZID=Indian/Reunion:20231001T170000
DTSTAMP:20260424T062536
CREATED:20230908T113613Z
LAST-MODIFIED:20230908T113621Z
UID:381265-1696089600-1696179600@trois-bassins.re
SUMMARY:4ème Festival du Film de Femmes
DESCRIPTION:LE TEMPS DES FEMMES\n\n\n\n\nDU 22 SEPTEMBRE AU 1ER OCTOBRE 2023\n\n\nLe Festival du film de Femmes est organisé par Ciné festival Océan Indien et l’Union des Femmes Réunionnaises.Au programme des films courts et longs de fictions et documentaires internationaux.Des conférences abordant les conditions de la femme dans le monde. \n			\n				\n				\n				\n				\n				SAMEDI 30 SEPTEMBRE 2023\n			\n				\n				\n				\n				\n				16H00 : LA FILLE DE BREST _ Réserver ma place \n			\n				\n				\n				\n				\n				20H00 : RIPOSTE FÉMINISTE _ Réserver ma place \n			\n				\n				\n				\n				\n				DIMANCHE 01 OCTOBRE 2023\n			\n				\n				\n				\n				\n				14H00 : JE VERRAI TOUJOURS VOS VISAGES _ Réserver ma place \n			\n				\n				\n				\n				\n				17H00 : SEPT HIVERS A TEHERAN _ Réserver ma place \n			\n				\n				\n				\n				\n				19H30 : AMPARO _ Réserver ma place \n			\n			\n				\n				\n				\n				\n			\n				\n				\n			\n				\n				\n				\n				\n				\n				\n				\n				\n				\n				\n				\n				\n				\n				La programmation complète
URL:https://trois-bassins.re/event/4eme-festival-du-film-de-femmes/
LOCATION:Pôle Culturel et Sportif\, 28 rue Georges BRASSENS\, TROIS BASSINS\, 97426\, Réunion
CATEGORIES:Culture
ATTACH;FMTTYPE=image/png:https://trois-bassins.re/wp-content/uploads/2023/09/Prog-SITE-MAI-5.png
END:VEVENT
END:VCALENDAR